BEGIN:VCALENDAR
VERSION:2.0
PRODID:-//Brookswood Meadow Plaza - ECPv6.15.13.1//NONSGML v1.0//EN
CALSCALE:GREGORIAN
METHOD:PUBLISH
X-WR-CALNAME:Brookswood Meadow Plaza
X-ORIGINAL-URL:https://brookswoodmeadowplaza.com
X-WR-CALDESC:Events for Brookswood Meadow Plaza
REFRESH-INTERVAL;VALUE=DURATION:PT1H
X-Robots-Tag:noindex
X-PUBLISHED-TTL:PT1H
BEGIN:VTIMEZONE
TZID:America/Los_Angeles
BEGIN:DAYLIGHT
TZOFFSETFROM:-0800
TZOFFSETTO:-0700
TZNAME:PDT
DTSTART:20180311T100000
END:DAYLIGHT
BEGIN:STANDARD
TZOFFSETFROM:-0700
TZOFFSETTO:-0800
TZNAME:PST
DTSTART:20181104T090000
END:STANDARD
BEGIN:DAYLIGHT
TZOFFSETFROM:-0800
TZOFFSETTO:-0700
TZNAME:PDT
DTSTART:20190310T100000
END:DAYLIGHT
BEGIN:STANDARD
TZOFFSETFROM:-0700
TZOFFSETTO:-0800
TZNAME:PST
DTSTART:20191103T090000
END:STANDARD
BEGIN:DAYLIGHT
TZOFFSETFROM:-0800
TZOFFSETTO:-0700
TZNAME:PDT
DTSTART:20200308T100000
END:DAYLIGHT
BEGIN:STANDARD
TZOFFSETFROM:-0700
TZOFFSETTO:-0800
TZNAME:PST
DTSTART:20201101T090000
END:STANDARD
END:VTIMEZONE
BEGIN:VEVENT
DTSTART;TZID=America/Los_Angeles:20191123T100000
DTEND;TZID=America/Los_Angeles:20191123T160000
DTSTAMP:20260425T175704
CREATED:20191021T175336Z
LAST-MODIFIED:20191021T175337Z
UID:10086-1574503200-1574524800@brookswoodmeadowplaza.com
SUMMARY:2nd Annual Elk Meadow Elementary School Holiday Bazaar at Elk Meadow Elementary\, 10am-4pm
DESCRIPTION:Learn more about the 2nd Annual Elk Meadow Elementary School Holiday Bazaar by visiting the Elk Meadow PTO’s Facebook Page!
URL:https://brookswoodmeadowplaza.com/calendar/2nd-annual-elk-meadow-elementary-school-holiday-bazaar-at-elk-meadow-elementary-10am-4pm
LOCATION:Bend\, United States
CATEGORIES:Art,Community,Holiday,Kids/Family,School
ATTACH;FMTTYPE=image/png:https://brookswoodmeadowplaza.com/wp-content/uploads/2018/09/14484689_667082263446356_3349549334752619566_n.png
END:VEVENT
BEGIN:VEVENT
DTSTART;VALUE=DATE:20191111
DTEND;VALUE=DATE:20191112
DTSTAMP:20260425T175704
CREATED:20191022T190506Z
LAST-MODIFIED:20191106T185118Z
UID:10124-1573430400-1573516799@brookswoodmeadowplaza.com
SUMMARY:No School Art Camp 11/11 – Register at ARTdogbend.com!
DESCRIPTION:No School Art Camp 11/11 – Register at ARTdogbend.com!
URL:https://brookswoodmeadowplaza.com/calendar/no-school-art-camp-11-11-register-at-artdog-com
LOCATION:Bend\, United States
CATEGORIES:Art,Kids/Family
ATTACH;FMTTYPE=image/png:https://brookswoodmeadowplaza.com/wp-content/uploads/2019/08/65256204_1337204583112492_9195278720196149248_o.png
END:VEVENT
BEGIN:VEVENT
DTSTART;TZID=America/Los_Angeles:20191109T180000
DTEND;TZID=America/Los_Angeles:20191109T200000
DTSTAMP:20260425T175704
CREATED:20191010T003108Z
LAST-MODIFIED:20191010T003450Z
UID:10032-1573322400-1573329600@brookswoodmeadowplaza.com
SUMMARY:Parents’ Night Out (for kids!) at ARTdog Children’s Studio\, 6-8pm (Register at ARTdogBend.com)
DESCRIPTION:Learn more and register for Parents’ Night Out (for kids!) at ARTdog Children’s Studio\, 6-8pm at ARTdogBend.com!
URL:https://brookswoodmeadowplaza.com/calendar/parents-night-out-for-kids-at-artdog-childrens-studio-6-8pm-register-at-artdog-com-2
LOCATION:Bend\, United States
CATEGORIES:Art,Community,Kids/Family
ATTACH;FMTTYPE=image/png:https://brookswoodmeadowplaza.com/wp-content/uploads/2019/08/65256204_1337204583112492_9195278720196149248_o.png
END:VEVENT
BEGIN:VEVENT
DTSTART;TZID=America/Los_Angeles:20191026T110000
DTEND;TZID=America/Los_Angeles:20191026T123000
DTSTAMP:20260425T175704
CREATED:20191016T210106Z
LAST-MODIFIED:20191016T210106Z
UID:10066-1572087600-1572093000@brookswoodmeadowplaza.com
SUMMARY:Haunted Doghouse Workshop – Register at ARTdog.com\, 11am-12:30pm
DESCRIPTION:Haunted Doghouse Workshop – Register at ARTdog.com! \n 
URL:https://brookswoodmeadowplaza.com/calendar/haunted-doghouse-workshop-register-at-artdog-com-11am-1230pm
LOCATION:Bend\, United States
CATEGORIES:Art,Community,Kids/Family
ATTACH;FMTTYPE=image/png:https://brookswoodmeadowplaza.com/wp-content/uploads/2019/08/65256204_1337204583112492_9195278720196149248_o.png
END:VEVENT
BEGIN:VEVENT
DTSTART;VALUE=DATE:20191023
DTEND;VALUE=DATE:20191026
DTSTAMP:20260425T175704
CREATED:20191016T205602Z
LAST-MODIFIED:20191016T205604Z
UID:10063-1571788800-1572047999@brookswoodmeadowplaza.com
SUMMARY:No School Art Camps – Register at ARTdog.com
DESCRIPTION:No School Art Camps 10/23\, 10/24 & 10/25 – Register at ARTdog.com!
URL:https://brookswoodmeadowplaza.com/calendar/no-school-art-camps-register-at-artdog-com
LOCATION:Bend\, United States
CATEGORIES:Art,Community,Kids/Family
ATTACH;FMTTYPE=image/png:https://brookswoodmeadowplaza.com/wp-content/uploads/2019/08/65256204_1337204583112492_9195278720196149248_o.png
END:VEVENT
BEGIN:VEVENT
DTSTART;TZID=America/Los_Angeles:20191019T180000
DTEND;TZID=America/Los_Angeles:20191019T200000
DTSTAMP:20260425T175704
CREATED:20191010T002932Z
LAST-MODIFIED:20191010T003357Z
UID:10029-1571508000-1571515200@brookswoodmeadowplaza.com
SUMMARY:Parents’ Night Out (for kids!) at ARTdog Children’s Studio\, 6-8pm (Register at ARTdogBend.com)
DESCRIPTION:Learn more and register for Parents’ Night Out (for kids!) at ARTdog Children’s Studio‘s website!
URL:https://brookswoodmeadowplaza.com/calendar/parents-night-out-for-kids-at-artdog-childrens-studio-6-8pm-register-at-artdog-com
LOCATION:Bend\, United States
CATEGORIES:Art,Community,Kids/Family
ATTACH;FMTTYPE=image/png:https://brookswoodmeadowplaza.com/wp-content/uploads/2019/08/65256204_1337204583112492_9195278720196149248_o.png
END:VEVENT
BEGIN:VEVENT
DTSTART;TZID=America/Los_Angeles:20190907T130000
DTEND;TZID=America/Los_Angeles:20190907T160000
DTSTAMP:20260425T175704
CREATED:20190815T164017Z
LAST-MODIFIED:20190826T195427Z
UID:9743-1567861200-1567872000@brookswoodmeadowplaza.com
SUMMARY:End of Summer Open Studio at ARTdog *Free* (Make Art\, Eat Ice Cream)! 1-4pm
DESCRIPTION:To learn more about End of Summer Open Studio at ARTdog\, visit ARTdog.com!
URL:https://brookswoodmeadowplaza.com/calendar/end-of-summer-open-studio-at-artdog-free-make-art-eat-ice-cream-4-6pm
LOCATION:Bend\, United States
CATEGORIES:Art,Community,Free,Kids/Family,Well Being,Wellness
ATTACH;FMTTYPE=image/png:https://brookswoodmeadowplaza.com/wp-content/uploads/2019/08/65256204_1337204583112492_9195278720196149248_o.png
END:VEVENT
BEGIN:VEVENT
DTSTART;VALUE=DATE:20190812
DTEND;VALUE=DATE:20190817
DTSTAMP:20260425T175704
CREATED:20190312T190700Z
LAST-MODIFIED:20190312T190701Z
UID:8772-1565568000-1565999999@brookswoodmeadowplaza.com
SUMMARY:ARTdog Summer Camp - "Explorers Camp"
DESCRIPTION:Learn more and register at: www.artdogbend.com
URL:https://brookswoodmeadowplaza.com/calendar/artdog-summer-camp-explorers-camp-2
LOCATION:Bend\, United States
CATEGORIES:Art,Community,Kids/Family,Summer
ATTACH;FMTTYPE=image/png:https://brookswoodmeadowplaza.com/wp-content/uploads/2018/12/ARTdog-Logo.png
END:VEVENT
BEGIN:VEVENT
DTSTART;VALUE=DATE:20190805
DTEND;VALUE=DATE:20190810
DTSTAMP:20260425T175704
CREATED:20190312T185926Z
LAST-MODIFIED:20190312T185926Z
UID:8769-1564963200-1565395199@brookswoodmeadowplaza.com
SUMMARY:ARTdog Summer Camp - "Builders Camp"
DESCRIPTION:Learn more and register at: www.artdogbend.com
URL:https://brookswoodmeadowplaza.com/calendar/artdog-summer-camp-builders-camp
LOCATION:Bend\, United States
CATEGORIES:Art,Community,Kids/Family,Summer
ATTACH;FMTTYPE=image/png:https://brookswoodmeadowplaza.com/wp-content/uploads/2018/12/ARTdog-Logo.png
END:VEVENT
BEGIN:VEVENT
DTSTART;VALUE=DATE:20190729
DTEND;VALUE=DATE:20190803
DTSTAMP:20260425T175704
CREATED:20190312T185803Z
LAST-MODIFIED:20190312T185804Z
UID:8766-1564358400-1564790399@brookswoodmeadowplaza.com
SUMMARY:ARTdog Summer Camp - "Magic Camp"
DESCRIPTION:Learn more and register at: www.artdogbend.com
URL:https://brookswoodmeadowplaza.com/calendar/artdog-summer-camp-magic-camp
LOCATION:Bend\, United States
CATEGORIES:Art,Community,Kids/Family,Summer
ATTACH;FMTTYPE=image/png:https://brookswoodmeadowplaza.com/wp-content/uploads/2018/12/ARTdog-Logo.png
END:VEVENT
BEGIN:VEVENT
DTSTART;VALUE=DATE:20190722
DTEND;VALUE=DATE:20190727
DTSTAMP:20260425T175704
CREATED:20190312T185644Z
LAST-MODIFIED:20190312T190834Z
UID:8763-1563753600-1564185599@brookswoodmeadowplaza.com
SUMMARY:ARTdog Summer Camp - "Space Camp"
DESCRIPTION:Learn more and register at: www.artdogbend.com
URL:https://brookswoodmeadowplaza.com/calendar/artdog-summer-camp-space-camp
LOCATION:Bend\, United States
CATEGORIES:Art,Community,Kids/Family,Summer
ATTACH;FMTTYPE=image/png:https://brookswoodmeadowplaza.com/wp-content/uploads/2018/12/ARTdog-Logo.png
END:VEVENT
BEGIN:VEVENT
DTSTART;VALUE=DATE:20190708
DTEND;VALUE=DATE:20190713
DTSTAMP:20260425T175704
CREATED:20190312T185404Z
LAST-MODIFIED:20190312T185405Z
UID:8757-1562544000-1562975999@brookswoodmeadowplaza.com
SUMMARY:ARTdog Summer Camp - "Explorers Camp"
DESCRIPTION:Learn more and register at: www.artdogbend.com
URL:https://brookswoodmeadowplaza.com/calendar/artdog-summer-camp-explorers-camp
LOCATION:Bend\, United States
CATEGORIES:Art,Community,Kids/Family,Summer
ATTACH;FMTTYPE=image/png:https://brookswoodmeadowplaza.com/wp-content/uploads/2018/12/ARTdog-Logo.png
END:VEVENT
BEGIN:VEVENT
DTSTART;VALUE=DATE:20190624
DTEND;VALUE=DATE:20190629
DTSTAMP:20260425T175704
CREATED:20190312T184648Z
LAST-MODIFIED:20190312T184840Z
UID:8753-1561334400-1561766399@brookswoodmeadowplaza.com
SUMMARY:ARTdog Summer Camp - "Builders Camp"
DESCRIPTION:Learn more and register at: www.artdogbend.com
URL:https://brookswoodmeadowplaza.com/calendar/artdog-summer-camp-builders-camp-week
LOCATION:Bend\, United States
CATEGORIES:Art,Kids/Family,Summer
ATTACH;FMTTYPE=image/png:https://brookswoodmeadowplaza.com/wp-content/uploads/2018/12/ARTdog-Logo.png
END:VEVENT
BEGIN:VEVENT
DTSTART;TZID=America/Los_Angeles:20190601T140000
DTEND;TZID=America/Los_Angeles:20190601T150000
DTSTAMP:20260425T175704
CREATED:20190528T194516Z
LAST-MODIFIED:20190528T194516Z
UID:9401-1559397600-1559401200@brookswoodmeadowplaza.com
SUMMARY:Art + Mindfulness Class: Thoughts\, Marbles\, & Mantras by Obsidian Education at ARTdog\, 2-3pm
DESCRIPTION:Learn more at ARTdog.com or here: https://www.facebook.com/events/288508295366137/
URL:https://brookswoodmeadowplaza.com/calendar/art-mindfulness-class-thoughts-marbles-mantras-by-obsidian-education-at-artdog-2-3pm
LOCATION:Bend\, United States
CATEGORIES:Art,Community,Kids/Family,Well Being
ATTACH;FMTTYPE=image/png:https://brookswoodmeadowplaza.com/wp-content/uploads/2018/12/ARTdog-Logo.png
END:VEVENT
BEGIN:VEVENT
DTSTART;VALUE=DATE:20190517
DTEND;VALUE=DATE:20190518
DTSTAMP:20260425T175704
CREATED:20190502T210402Z
LAST-MODIFIED:20190502T210402Z
UID:9184-1558051200-1558137599@brookswoodmeadowplaza.com
SUMMARY:Art in the Meadow at Elk Meadow Elementary School
DESCRIPTION:
URL:https://brookswoodmeadowplaza.com/calendar/art-in-the-meadow-at-elk-meadow-elementary-school
LOCATION:Bend\, United States
CATEGORIES:Art,Community,Kids/Family,School
ATTACH;FMTTYPE=image/png:https://brookswoodmeadowplaza.com/wp-content/uploads/2018/09/14484689_667082263446356_3349549334752619566_n.png
END:VEVENT
BEGIN:VEVENT
DTSTART;TZID=America/Los_Angeles:20190511T100000
DTEND;TZID=America/Los_Angeles:20190511T140000
DTSTAMP:20260425T175704
CREATED:20190429T190736Z
LAST-MODIFIED:20190429T190737Z
UID:9121-1557568800-1557583200@brookswoodmeadowplaza.com
SUMMARY:ARTdog Birthday PARTy for the Studio & Sanders (both 1-Year Old)! **Free art and games for the family\, cupcakes and\, make & take dog treats!**\, 10am-2pm
DESCRIPTION:Learn more at www.ARTdogbend.com
URL:https://brookswoodmeadowplaza.com/calendar/artdog-birthday-party-for-the-studio-sanders-both-1-year-old-free-art-and-games-for-the-family-cupcakes-and-make-take-dog-treats-10am-2pm
LOCATION:Bend\, United States
CATEGORIES:Art,Community,Free,Kids/Family,Well Being,Wellness
ATTACH;FMTTYPE=image/png:https://brookswoodmeadowplaza.com/wp-content/uploads/2019/04/unnamed.png
END:VEVENT
BEGIN:VEVENT
DTSTART;TZID=America/Los_Angeles:20190504T140000
DTEND;TZID=America/Los_Angeles:20190504T150000
DTSTAMP:20260425T175704
CREATED:20190502T202143Z
LAST-MODIFIED:20190502T202143Z
UID:9181-1556978400-1556982000@brookswoodmeadowplaza.com
SUMMARY:Art + Mindfulness Class for Kids: Body Awareness & Self-Portrait at ARTdog\, 2-3pm
DESCRIPTION:Learn more about and register for Art + Mindfulness Class for Kids: Body Awareness & Self-Portrait at ARTdogbend.com \n 
URL:https://brookswoodmeadowplaza.com/calendar/art-mindfulness-class-for-kids-body-awareness-self-portrait-at-artdog-2-3pm
LOCATION:Bend\, United States
CATEGORIES:Art,Community,Kids/Family,Well Being
ATTACH;FMTTYPE=image/png:https://brookswoodmeadowplaza.com/wp-content/uploads/2018/12/ARTdog-Logo.png
END:VEVENT
BEGIN:VEVENT
DTSTART;TZID=America/Los_Angeles:20190427T180000
DTEND;TZID=America/Los_Angeles:20190427T200000
DTSTAMP:20260425T175704
CREATED:20190321T031233Z
LAST-MODIFIED:20190321T031233Z
UID:8805-1556388000-1556395200@brookswoodmeadowplaza.com
SUMMARY:Parents' Night Out (Ages 4-11) at ARTdog\, 6-8pm
DESCRIPTION:Learn more and register at: www.artdogbend.com
URL:https://brookswoodmeadowplaza.com/calendar/parents-night-out-ages-4-11-at-artdog-6-8pm-2
LOCATION:Bend\, United States
CATEGORIES:Art,Kids/Family
ATTACH;FMTTYPE=image/png:https://brookswoodmeadowplaza.com/wp-content/uploads/2018/12/ARTdog-Logo.png
END:VEVENT
BEGIN:VEVENT
DTSTART;TZID=America/Los_Angeles:20190409T180000
DTEND;TZID=America/Los_Angeles:20190409T200000
DTSTAMP:20260425T175704
CREATED:20190401T182219Z
LAST-MODIFIED:20190401T191959Z
UID:8857-1554832800-1554840000@brookswoodmeadowplaza.com
SUMMARY:SOLD OUT - No Flying Monkeys Paint Party with It's Just Paint at La Rosa\, 6pm
DESCRIPTION:Visit It’s Just Paint on Facebook for information and registration!
URL:https://brookswoodmeadowplaza.com/calendar/sold-out-no-flying-monkeys-paint-party-with-its-just-paint-at-la-rosa-6pm
LOCATION:Bend\, United States
CATEGORIES:Art,Community
ATTACH;FMTTYPE=image/jpeg:https://brookswoodmeadowplaza.com/wp-content/uploads/2019/04/54729258_1409917415817187_5231238096007200768_o.jpg
END:VEVENT
BEGIN:VEVENT
DTSTART;TZID=America/Los_Angeles:20190406T140000
DTEND;TZID=America/Los_Angeles:20190406T150000
DTSTAMP:20260425T175704
CREATED:20190320T184117Z
LAST-MODIFIED:20190320T184117Z
UID:8797-1554559200-1554562800@brookswoodmeadowplaza.com
SUMMARY:Art + Mindfulness Class for Kids: Aromatherapy Clay at ARTdog (Ages 3-10)\, 2-3pm
DESCRIPTION:For more information and to register visit ARTdog’s Facebook Page Event!
URL:https://brookswoodmeadowplaza.com/calendar/art-mindfulness-class-for-kids-aromatherapy-clay-at-artdog-ages-3-10-2-3pm
LOCATION:Bend\, United States
CATEGORIES:Art,Kids/Family,Well Being,Wellness
ATTACH;FMTTYPE=image/png:https://brookswoodmeadowplaza.com/wp-content/uploads/2018/12/ARTdog-Logo.png
END:VEVENT
BEGIN:VEVENT
DTSTART;TZID=America/Los_Angeles:20190326T180000
DTEND;TZID=America/Los_Angeles:20190326T200000
DTSTAMP:20260425T175704
CREATED:20190226T181553Z
LAST-MODIFIED:20190226T181553Z
UID:8646-1553623200-1553630400@brookswoodmeadowplaza.com
SUMMARY:Warrior Horse Paint Party with It's Just Paint at La Rosa\, 6-8pm (Register in Advance)
DESCRIPTION:Click the event link for information and registration: Click HERE \nFrom It’s Just Paint’s Facebook Page: “Hey Bend friends!! Here he is!! I love this painting! Join me for a fantastic night! It’s ok if you’ve never painted before\, I will take you step by step to complete your own version of this darling painting! Come early and grab a bite to eat and drink\, best Mexican food in Bend and killer Margaritas! $35.00 per person Includes all supplies! YOU MUST PURCHASE A TICKET TO ATTEND THIS EVENT\, SEATING IS LIMITED AND IT WILL SELL OUT QUICKLY!\nALL TICKET SALES ARE FINAL\, NO REFUNDS OR CREDITS WILL BE OFFERED.”
URL:https://brookswoodmeadowplaza.com/calendar/warrior-horse-paint-party-with-its-just-paint-at-la-rosa-6-8pm-register-in-advance
LOCATION:Bend\, United States
CATEGORIES:Art,Community
ATTACH;FMTTYPE=image/jpeg:https://brookswoodmeadowplaza.com/wp-content/uploads/2019/02/53097281_1393241074151488_7514808560170041344_n.jpg
END:VEVENT
BEGIN:VEVENT
DTSTART;VALUE=DATE:20190325
DTEND;VALUE=DATE:20190330
DTSTAMP:20260425T175704
CREATED:20190205T184424Z
LAST-MODIFIED:20190312T190940Z
UID:8473-1553472000-1553903999@brookswoodmeadowplaza.com
SUMMARY:Spring Break Art Camp at ARTdog
DESCRIPTION:For information and to register visit:  www.artdogbend.com
URL:https://brookswoodmeadowplaza.com/calendar/spring-break-art-camp-at-artdog
LOCATION:Bend\, United States
CATEGORIES:Art,Community,Kids/Family,School,Well Being,Wellness
ATTACH;FMTTYPE=image/jpeg:https://brookswoodmeadowplaza.com/wp-content/uploads/2019/02/50949599_1231539890345629_8890615047550664704_o.jpg
END:VEVENT
BEGIN:VEVENT
DTSTART;TZID=America/Los_Angeles:20190320T180000
DTEND;TZID=America/Los_Angeles:20190320T200000
DTSTAMP:20260425T175704
CREATED:20190226T203157Z
LAST-MODIFIED:20190226T203157Z
UID:8653-1553104800-1553112000@brookswoodmeadowplaza.com
SUMMARY:Paint Party with It's Just Paint at La Rosa\, 6-8pm (RESCHEDULED FROM 2/26/19 WEATHER)
DESCRIPTION:
URL:https://brookswoodmeadowplaza.com/calendar/paint-party-with-its-just-paint-at-la-rosa-6-8pm-rescheduled-from-2-26-19-weather
LOCATION:Bend\, United States
CATEGORIES:Art,Community
ATTACH;FMTTYPE=image/jpeg:https://brookswoodmeadowplaza.com/wp-content/uploads/2019/01/50556462_1372328196242776_4782705130753490944_o.jpg
END:VEVENT
BEGIN:VEVENT
DTSTART;TZID=America/Los_Angeles:20190316T180000
DTEND;TZID=America/Los_Angeles:20190316T200000
DTSTAMP:20260425T175704
CREATED:20190311T194237Z
LAST-MODIFIED:20190311T194237Z
UID:8737-1552759200-1552766400@brookswoodmeadowplaza.com
SUMMARY:Parents' Night Out at ARTdog (Ages 4-11)\, 6-8pm
DESCRIPTION:For information and to register click here: https://www.artdogbend.com/register/ \n“Drop your child off at the studio for an evening of joyful art making and go spend the evening out or relax at home. Each month we’ll do a different themed art project or seasonally inspired craft. We’ll build with wood\, make cardboard creations\, paint with unusual tools like cars and drills and more! Your child will have a blast exploring different materials\, making a creative mess\, eating pizza and popcorn. PNO is provided the last Saturday of each month.”
URL:https://brookswoodmeadowplaza.com/calendar/parents-night-out-at-artdog-ages-4-11-6-8pm
LOCATION:Bend\, United States
CATEGORIES:Art,Community,Kids/Family,Well Being
ATTACH;FMTTYPE=image/png:https://brookswoodmeadowplaza.com/wp-content/uploads/2018/12/ARTdog-Logo.png
END:VEVENT
BEGIN:VEVENT
DTSTART;TZID=America/Los_Angeles:20190312T180000
DTEND;TZID=America/Los_Angeles:20190312T200000
DTSTAMP:20260425T175704
CREATED:20190204T172731Z
LAST-MODIFIED:20190204T172731Z
UID:8457-1552413600-1552420800@brookswoodmeadowplaza.com
SUMMARY:Hey Little Dude! Paint Party at La Rosa with It's Just Paint!\, 6-8pm
DESCRIPTION:Click the It’s Just Paint link to learn more about this event.  Registration is required. Hey Little Dude! Paint Party at La Rosa with It’s Just Paint!
URL:https://brookswoodmeadowplaza.com/calendar/hey-little-dude-paint-party-at-la-rosa-with-its-just-paint-6-8pm
LOCATION:Bend\, United States
CATEGORIES:Art,Community
ATTACH;FMTTYPE=image/png:https://brookswoodmeadowplaza.com/wp-content/uploads/2016/10/6.png
END:VEVENT
BEGIN:VEVENT
DTSTART;VALUE=DATE:20190226
DTEND;VALUE=DATE:20190227
DTSTAMP:20260425T175704
CREATED:20190128T214046Z
LAST-MODIFIED:20190226T203456Z
UID:8399-1551139200-1551225599@brookswoodmeadowplaza.com
SUMMARY:POSTPONED TO 3/20/19 DUE TO WEATHER: Paint Party with It's Just Paint at La Rosa - No Longer Happening Tonight
DESCRIPTION:
URL:https://brookswoodmeadowplaza.com/calendar/paint-party-with-its-just-paint-at-la-rosa-6-8pm
LOCATION:Bend\, United States
CATEGORIES:Art
ATTACH;FMTTYPE=image/jpeg:https://brookswoodmeadowplaza.com/wp-content/uploads/2019/01/50556462_1372328196242776_4782705130753490944_o.jpg
END:VEVENT
BEGIN:VEVENT
DTSTART;TZID=America/Los_Angeles:20190223T171500
DTEND;TZID=America/Los_Angeles:20190223T181500
DTSTAMP:20260425T175704
CREATED:20190221T225241Z
LAST-MODIFIED:20190221T225241Z
UID:8616-1550942100-1550945700@brookswoodmeadowplaza.com
SUMMARY:Art Debut\, Songs\, and Stories With Katie Pinto at Fettle Botanic Bend\, 5:15-6:15pm
DESCRIPTION:Click HERE to visit Fettle Botanic Bend’s Facebook Pagefor more information and details!
URL:https://brookswoodmeadowplaza.com/calendar/art-debut-songs-and-stories-with-katie-pinto-at-fettle-botanic-bend-515-615pm
LOCATION:Bend\, United States
CATEGORIES:Art,Community,Free,Well Being
ATTACH;FMTTYPE=image/jpeg:https://brookswoodmeadowplaza.com/wp-content/uploads/2018/10/Logo-Bend.jpg
END:VEVENT
BEGIN:VEVENT
DTSTART;VALUE=DATE:20190218
DTEND;VALUE=DATE:20190219
DTSTAMP:20260425T175704
CREATED:20190205T183513Z
LAST-MODIFIED:20190205T183513Z
UID:8469-1550448000-1550534399@brookswoodmeadowplaza.com
SUMMARY:No School Art Camp at ARTdog (Full and Half Day Options Available\, Ages 4-11)
DESCRIPTION:View information at ARTdog’s Facebook Page and register online at www.artdogbend.com.
URL:https://brookswoodmeadowplaza.com/calendar/no-school-art-camp-at-artdog-full-and-half-day-options-available-ages-4-11
LOCATION:Bend\, United States
CATEGORIES:Art,Community,Kids/Family,School,Wellness
ATTACH;FMTTYPE=image/jpeg:https://brookswoodmeadowplaza.com/wp-content/uploads/2019/02/51322693_1230727870426831_2869158309733072896_o-e1549391695335.jpg
END:VEVENT
BEGIN:VEVENT
DTSTART;TZID=America/Los_Angeles:20190214T180000
DTEND;TZID=America/Los_Angeles:20190214T193000
DTSTAMP:20260425T175704
CREATED:20190206T193416Z
LAST-MODIFIED:20190206T193417Z
UID:8496-1550167200-1550172600@brookswoodmeadowplaza.com
SUMMARY:Parents' Night Out - Special Valentines Edition\, Hosted by ARTdog & Fettle Botanic Bend\, 6:15-7pm (Ages 4-11)
DESCRIPTION:“Spend the evening with your partner and leave the kiddos with us for a super special Valentine’s Night Out!! We’ll begin our evening next door at Fettle Botanic sipping heart tea\, then bring the party to the studio for art\, yoga play\, chocolate covered strawberries and dancing! Sorry\, no parents allowed 😉 Perfect for ages 4-11. Cost: $30/child (20% sibling discount).”  Visit www.artdogbend.com to register!
URL:https://brookswoodmeadowplaza.com/calendar/parents-night-out-special-valentines-edition-hosted-by-artdog-fettle-botanic-bend-615-7pm-ages-4-11
LOCATION:Bend\, United States
CATEGORIES:Art,Community,Kids/Family,Well Being,Wellness
END:VEVENT
BEGIN:VEVENT
DTSTART;TZID=America/Los_Angeles:20190202T130000
DTEND;TZID=America/Los_Angeles:20190202T140000
DTSTAMP:20260425T175704
CREATED:20190122T210048Z
LAST-MODIFIED:20190122T210048Z
UID:8342-1549112400-1549116000@brookswoodmeadowplaza.com
SUMMARY:Mindfulness of Breath Workshop (Ages 4-11) at ARTdog\, 1-2pm
DESCRIPTION:Click for more information: https://www.facebook.com/events/607808922982613/
URL:https://brookswoodmeadowplaza.com/calendar/mindfulness-of-breath-workshop-ages-4-11-at-artdog-1-2pm
LOCATION:Bend\, United States
CATEGORIES:Art,Kids/Family,Well Being,Wellness
ATTACH;FMTTYPE=image/png:https://brookswoodmeadowplaza.com/wp-content/uploads/2018/12/ARTdog-Logo.png
END:VEVENT
END:VCALENDAR