BEGIN:VCALENDAR
VERSION:2.0
PRODID:-//Brookswood Meadow Plaza - ECPv6.15.13.1//NONSGML v1.0//EN
CALSCALE:GREGORIAN
METHOD:PUBLISH
X-ORIGINAL-URL:https://brookswoodmeadowplaza.com
X-WR-CALDESC:Events for Brookswood Meadow Plaza
REFRESH-INTERVAL;VALUE=DURATION:PT1H
X-Robots-Tag:noindex
X-PUBLISHED-TTL:PT1H
BEGIN:VTIMEZONE
TZID:America/Los_Angeles
BEGIN:DAYLIGHT
TZOFFSETFROM:-0800
TZOFFSETTO:-0700
TZNAME:PDT
DTSTART:20170312T100000
END:DAYLIGHT
BEGIN:STANDARD
TZOFFSETFROM:-0700
TZOFFSETTO:-0800
TZNAME:PST
DTSTART:20171105T090000
END:STANDARD
BEGIN:DAYLIGHT
TZOFFSETFROM:-0800
TZOFFSETTO:-0700
TZNAME:PDT
DTSTART:20180311T100000
END:DAYLIGHT
BEGIN:STANDARD
TZOFFSETFROM:-0700
TZOFFSETTO:-0800
TZNAME:PST
DTSTART:20181104T090000
END:STANDARD
BEGIN:DAYLIGHT
TZOFFSETFROM:-0800
TZOFFSETTO:-0700
TZNAME:PDT
DTSTART:20190310T100000
END:DAYLIGHT
BEGIN:STANDARD
TZOFFSETFROM:-0700
TZOFFSETTO:-0800
TZNAME:PST
DTSTART:20191103T090000
END:STANDARD
BEGIN:DAYLIGHT
TZOFFSETFROM:-0800
TZOFFSETTO:-0700
TZNAME:PDT
DTSTART:20200308T100000
END:DAYLIGHT
BEGIN:STANDARD
TZOFFSETFROM:-0700
TZOFFSETTO:-0800
TZNAME:PST
DTSTART:20201101T090000
END:STANDARD
BEGIN:DAYLIGHT
TZOFFSETFROM:-0800
TZOFFSETTO:-0700
TZNAME:PDT
DTSTART:20210314T100000
END:DAYLIGHT
BEGIN:STANDARD
TZOFFSETFROM:-0700
TZOFFSETTO:-0800
TZNAME:PST
DTSTART:20211107T090000
END:STANDARD
BEGIN:DAYLIGHT
TZOFFSETFROM:-0800
TZOFFSETTO:-0700
TZNAME:PDT
DTSTART:20220313T100000
END:DAYLIGHT
BEGIN:STANDARD
TZOFFSETFROM:-0700
TZOFFSETTO:-0800
TZNAME:PST
DTSTART:20221106T090000
END:STANDARD
END:VTIMEZONE
BEGIN:VEVENT
DTSTART;TZID=America/Los_Angeles:20210212T110000
DTEND;TZID=America/Los_Angeles:20210212T200000
DTSTAMP:20260425T123856
CREATED:20210210T163541Z
LAST-MODIFIED:20210210T163541Z
UID:12115-1613127600-1613160000@brookswoodmeadowplaza.com
SUMMARY:Cabin South Opens for Indoor Dining Starting Today!! New Daily Hours 11am-8pm!!
DESCRIPTION:
URL:https://brookswoodmeadowplaza.com/calendar/cabin-south-opens-for-indoor-dining-starting-today-new-daily-hours-11am-8pm
LOCATION:Bend\, OR\, United States
CATEGORIES:Beer,Community,Food
ATTACH;FMTTYPE=image/jpeg:https://brookswoodmeadowplaza.com/wp-content/uploads/2020/05/cabin-south_logo-web-size.jpg
END:VEVENT
BEGIN:VEVENT
DTSTART;TZID=America/Los_Angeles:20201104T150000
DTEND;TZID=America/Los_Angeles:20201104T180000
DTSTAMP:20260425T123856
CREATED:20201103T230117Z
LAST-MODIFIED:20201103T230117Z
UID:11546-1604502000-1604512800@brookswoodmeadowplaza.com
SUMMARY:Beer Tasting - Athletic Brewing Non-Alcoholic Craft Beer at Lovejoy's Market\, 3-6pm
DESCRIPTION:C.E. Lovejoy’s Market
URL:https://brookswoodmeadowplaza.com/calendar/beer-tasting-athletic-brewing-non-alcoholic-craft-beer-at-lovejoys-market-3-6pm
LOCATION:OR
CATEGORIES:Beer,Community,Free,Groceries
ATTACH;FMTTYPE=image/jpeg:https://brookswoodmeadowplaza.com/wp-content/uploads/2020/11/pexels-visionpic-net-1009068-copy.jpg
END:VEVENT
BEGIN:VEVENT
DTSTART;TZID=America/Los_Angeles:20200622T110000
DTEND;TZID=America/Los_Angeles:20200622T220000
DTSTAMP:20260425T123856
CREATED:20200622T194152Z
LAST-MODIFIED:20200622T194153Z
UID:11259-1592823600-1592863200@brookswoodmeadowplaza.com
SUMMARY:*GRAND OPENING* Cabin South Bar & Grill\, 11am-10pm!
DESCRIPTION:Learn more at the Cabin 22 Facebook Page: https://www.facebook.com/cabin22bend/ \nWelcome to the Neighborhood Cabin South!
URL:https://brookswoodmeadowplaza.com/calendar/grand-opening-cabin-south-bar-grill-11am-10pm
LOCATION:Bend\, United States
CATEGORIES:Beer,Community,Food,Summer
ATTACH;FMTTYPE=image/jpeg:https://brookswoodmeadowplaza.com/wp-content/uploads/2020/06/104114966_3112323968823465_1774015174843803746_n.jpg
END:VEVENT
BEGIN:VEVENT
DTSTART;TZID=America/Los_Angeles:20190822T170000
DTEND;TZID=America/Los_Angeles:20190822T190000
DTSTAMP:20260425T123856
CREATED:20190408T193511Z
LAST-MODIFIED:20190708T210318Z
UID:9037-1566493200-1566500400@brookswoodmeadowplaza.com
SUMMARY:Dancing in the Garden Beer & Wine Garden at C.E. Lovejoy's\, 5-7pm - Music By The Blue Vinyls
DESCRIPTION:Join C.E. Lovejoy’s for summer Dancing in the Garden Beer & Wine Gardens on the 2nd and 4th Thursdays of June\, July and August\, 2019!!  From 5-7pm\, enjoy free live music\, food\, dancing\, friendships\, and fun! CELovejoys.com \n2019 Band Line Up: \n\nJune 13 – Off The Record\nJune 27th – Heller Highwater\nJuly 11th – Five Pint Mary\nJuly 25th – Downhill Ryder\nAugust 8th – Victory Swig\nAugust 22nd – The Blue Vinyls
URL:https://brookswoodmeadowplaza.com/calendar/save-the-date-dancing-in-the-garden-beer-wine-garden-at-c-e-lovejoys-5-7pm-6
LOCATION:Bend\, United States
CATEGORIES:Beer,Community,Food,Free,Groceries,Kids/Family,Music,Summer,Wine
ATTACH;FMTTYPE=image/jpeg:https://brookswoodmeadowplaza.com/wp-content/uploads/2019/04/Beer-gardens-2019-FINAL-v2_edited-1-copy.jpg
END:VEVENT
BEGIN:VEVENT
DTSTART;TZID=America/Los_Angeles:20190808T170000
DTEND;TZID=America/Los_Angeles:20190808T190000
DTSTAMP:20260425T123856
CREATED:20190408T191138Z
LAST-MODIFIED:20190708T210437Z
UID:9032-1565283600-1565290800@brookswoodmeadowplaza.com
SUMMARY:Dancing in the Garden Beer & Wine Garden at C.E. Lovejoy's\, 5-7pm - Music By Victory Swig
DESCRIPTION:Join C.E. Lovejoy’s for summer Dancing in the Garden Beer & Wine Gardens on the 2nd and 4th Thursdays of June\, July and August\, 2019!!  From 5-7pm\, enjoy free live music\, food\, dancing\, friendships\, and fun! CELovejoys.com \n2019 Band Line Up: \n\nJune 13 – Off The Record\nJune 27th – Heller Highwater\nJuly 11th – Five Pint Mary\nJuly 25th – Downhill Ryder\nAugust 8th – Victory Swig\nAugust 22nd – The Blue Vinyls
URL:https://brookswoodmeadowplaza.com/calendar/save-the-date-dancing-in-the-garden-beer-wine-garden-at-c-e-lovejoys-5-7pm-5
LOCATION:Bend\, United States
CATEGORIES:Beer,Community,Food,Free,Groceries,Kids/Family,Music,Summer,Wine
ATTACH;FMTTYPE=image/jpeg:https://brookswoodmeadowplaza.com/wp-content/uploads/2019/04/Beer-gardens-2019-FINAL-v2_edited-1-copy.jpg
END:VEVENT
BEGIN:VEVENT
DTSTART;TZID=America/Los_Angeles:20190725T170000
DTEND;TZID=America/Los_Angeles:20190725T190000
DTSTAMP:20260425T123856
CREATED:20190408T190930Z
LAST-MODIFIED:20190708T210526Z
UID:9029-1564074000-1564081200@brookswoodmeadowplaza.com
SUMMARY:Dancing in the Garden Beer & Wine Garden at C.E. Lovejoy's\, 5-7pm - Music by Downhill Ryder
DESCRIPTION:Join C.E. Lovejoy’s for summer Dancing in the Garden Beer & Wine Gardens on the 2nd and 4th Thursdays of June\, July and August\, 2019!!  From 5-7pm\, enjoy free live music\, food\, dancing\, friendships\, and fun! CELovejoys.com \n2019 Band Line Up: \n\nJune 13 – Off The Record\nJune 27th – Heller Highwater\nJuly 11th – Five Pint Mary\nJuly 25th – Downhill Ryder\nAugust 8th – Victory Swig\nAugust 22nd – The Blue Vinyls
URL:https://brookswoodmeadowplaza.com/calendar/save-the-date-dancing-in-the-garden-beer-wine-garden-at-c-e-lovejoys-5-7pm-4
LOCATION:Bend\, United States
CATEGORIES:Beer,Community,Food,Free,Groceries,Kids/Family,Music,Summer,Wine
ATTACH;FMTTYPE=image/jpeg:https://brookswoodmeadowplaza.com/wp-content/uploads/2019/04/Beer-gardens-2019-FINAL-v2_edited-1-copy.jpg
END:VEVENT
BEGIN:VEVENT
DTSTART;TZID=America/Los_Angeles:20190711T170000
DTEND;TZID=America/Los_Angeles:20190711T190000
DTSTAMP:20260425T123856
CREATED:20190702T172513Z
LAST-MODIFIED:20190702T172513Z
UID:9578-1562864400-1562871600@brookswoodmeadowplaza.com
SUMMARY:"Dailey Date Night" at The Dailey Method (Followed by a Beer on Them at Lovejoy's Beer Garden)\, 6pm
DESCRIPTION:“Make it a Dailey Date! and join us for a fun night out! Start the night with a Barre class at The Dailey Method-Bend Barre Studio followed by a beer on us at C.E. Lovejoy’s Beer & Wine Garden! Bring your date (significant other\, spouse\, boyfriend\, girlfriend or your bestie!) to class with you!”  Learn more and register at The Dailey Method – Bend Barre Studio!
URL:https://brookswoodmeadowplaza.com/calendar/dailey-date-night-at-the-dailey-method-followed-by-a-beer-on-them-at-lovejoys-beer-garden-6pm
LOCATION:Bend\, United States
CATEGORIES:Barre Class,Beer,Community,Fitness,Health,Music,Well Being,Wellness
ATTACH;FMTTYPE=image/jpeg:https://brookswoodmeadowplaza.com/wp-content/uploads/2018/01/26993930_975565139257464_3022578436699537621_n-e1517248320594.jpg
END:VEVENT
BEGIN:VEVENT
DTSTART;TZID=America/Los_Angeles:20190711T170000
DTEND;TZID=America/Los_Angeles:20190711T190000
DTSTAMP:20260425T123856
CREATED:20190408T190832Z
LAST-MODIFIED:20190708T210619Z
UID:9026-1562864400-1562871600@brookswoodmeadowplaza.com
SUMMARY:Dancing in the Garden Beer & Wine Garden at C.E. Lovejoy's\, 5-7pm - Music By Five Pint Mary
DESCRIPTION:Join C.E. Lovejoy’s for summer Dancing in the Garden Beer & Wine Gardens on the 2nd and 4th Thursdays of June\, July and August\, 2019!!  From 5-7pm\, enjoy free live music\, food\, and fun!  CELovejoys.com \n2019 Band Line Up: \n\nJune 13 – Off The Record\nJune 27th – Heller Highwater\nJuly 11th – Five Pint Mary\nJuly 25th – Downhill Ryder\nAugust 8th – Victory Swig\nAugust 22nd – The Blue Vinyls
URL:https://brookswoodmeadowplaza.com/calendar/save-the-date-dancing-in-the-garden-beer-wine-garden-at-c-e-lovejoys-5-7pm-3
LOCATION:Bend\, United States
CATEGORIES:Beer,Community,Food,Free,Kids/Family,Music,Summer,Wine
ATTACH;FMTTYPE=image/jpeg:https://brookswoodmeadowplaza.com/wp-content/uploads/2019/04/Beer-gardens-2019-FINAL-v2_edited-1-copy.jpg
END:VEVENT
BEGIN:VEVENT
DTSTART;TZID=America/Los_Angeles:20190627T170000
DTEND;TZID=America/Los_Angeles:20190627T190000
DTSTAMP:20260425T123856
CREATED:20190408T190738Z
LAST-MODIFIED:20190430T163240Z
UID:9023-1561654800-1561662000@brookswoodmeadowplaza.com
SUMMARY:Dancing in the Garden Beer & Wine Garden at C.E. Lovejoy's\, 5-7pm - Music By Heller Highwater
DESCRIPTION:Join C.E. Lovejoy’s for summer Dancing in the Garden Beer & Wine Gardens on the 2nd and 4th Thursdays of June\, July and August\, 2019!!  From 5-7pm\, enjoy free live music\, food by Bruneau’s South Philly Cuisine\, dancing\, friendships\, and fun! Watch for additional display information and surprises as the season progresses.  CELovejoys.com \n2019 Band Line Up: \n\nJune 13 – Off The Record\nJune 27th – Heller Highwater\nJuly 11th – Five Pint Mary\nJuly 25th – Downhill Ryder\nAugust 8th – Victory Swig\nAugust 22nd – The Blue Vinyls
URL:https://brookswoodmeadowplaza.com/calendar/save-the-date-dancing-in-the-garden-beer-wine-garden-at-c-e-lovejoys-5-7pm-2
LOCATION:Bend\, United States
CATEGORIES:Beer,Community,Food,Groceries,Kids/Family,Music,Summer,Wine
ATTACH;FMTTYPE=image/jpeg:https://brookswoodmeadowplaza.com/wp-content/uploads/2019/04/Beer-gardens-2019-FINAL-for-WEB.jpg
END:VEVENT
BEGIN:VEVENT
DTSTART;TZID=America/Los_Angeles:20190613T170000
DTEND;TZID=America/Los_Angeles:20190613T190000
DTSTAMP:20260425T123856
CREATED:20190408T190643Z
LAST-MODIFIED:20190430T163049Z
UID:9020-1560445200-1560452400@brookswoodmeadowplaza.com
SUMMARY:Dancing in the Garden Beer & Wine Garden at C.E. Lovejoy's\, 5-7pm - Music By Off The Record
DESCRIPTION:Join C.E. Lovejoy’s for summer Dancing in the Garden Beer & Wine Gardens on the 2nd and 4th Thursdays of June\, July and August\, 2019!!  From 5-7pm\, enjoy free live music\, food by Bruneau’s South Philly Cuisine\, dancing\, friendships\, and fun! Watch for additional display information and surprises as the season progresses.  CELovejoys.com \n2019 Band Line Up: \n\nJune 13 – Off The Record\nJune 27th – Heller Highwater\nJuly 11th – Five Pint Mary\nJuly 25th – Downhill Ryder\nAugust 8th – Victory Swig\nAugust 22nd – The Blue Vinyls
URL:https://brookswoodmeadowplaza.com/calendar/save-the-date-dancing-in-the-garden-beer-wine-garden-at-c-e-lovejoys-5-7pm
LOCATION:Bend\, United States
CATEGORIES:Beer,Community,Food,Groceries,Music,Summer,Wine
ATTACH;FMTTYPE=image/jpeg:https://brookswoodmeadowplaza.com/wp-content/uploads/2019/04/Beer-gardens-2019-FINAL-for-WEB.jpg
END:VEVENT
BEGIN:VEVENT
DTSTART;TZID=America/Los_Angeles:20190209T170000
DTEND;TZID=America/Los_Angeles:20190209T170000
DTSTAMP:20260425T123856
CREATED:20190204T185441Z
LAST-MODIFIED:20190205T190303Z
UID:8464-1549731600-1549731600@brookswoodmeadowplaza.com
SUMMARY:UFC 234 Whittaker vs. Gastelum Broadcast at La Rosa\, 5pm (Food\, Drinks Prizes\, Cover Charge)
DESCRIPTION:“UFC 234 kicks off 2019 with legends\, champions and everything in between. You won’t want to miss this event! Watch Whittaker take on Gastelum Saturday\, February 9th at La Rosa in the Brookswood Meadow Plaza. Doors will open at 5pm. There will be food\, drinks and chance to win prizes! $20 cover charge.”  LaRosaBend.com
URL:https://brookswoodmeadowplaza.com/calendar/ufc-234-whittaker-vs-gastelum-broadcast-at-la-rosa-5pm-food-drinks-prizes-cover-charge
LOCATION:Bend\, United States
CATEGORIES:Beer,Community,Sports
ATTACH;FMTTYPE=image/jpeg:https://brookswoodmeadowplaza.com/wp-content/uploads/2019/02/Table-tents-2.jpg
END:VEVENT
BEGIN:VEVENT
DTSTART;TZID=America/Los_Angeles:20180621T170000
DTEND;TZID=America/Los_Angeles:20180621T193000
DTSTAMP:20260425T123856
CREATED:20180430T200839Z
LAST-MODIFIED:20180612T190339Z
UID:6198-1529600400-1529609400@brookswoodmeadowplaza.com
SUMMARY:"Dancing in the Garden" Beer & Wine Garden at C.E. Lovejoy's\, 5-7:30pm - Live Music!!
DESCRIPTION:Join C.E. Lovejoy’s for summer Dancing in the Garden Beer & Wine Gardens in 2018!! They start on Thursday June 7th and happen every other Thursday through August 30th!   Join them for food\, drinks and live music!  Here’s the lineup of bands.  Watch for additional display information and surprises as the season progresses.  CELovejoys.com \n\n6/7 – Music by Blondeau Band\, Food by Bruneau’s South Philly Cuisine\n\n6/21 – Music by Sweet Whiskey Lips\, Food by Bruneau’s South Philly Cuisine\n\n\n7/5 – Music by Off the Record\, Food by Bruneau’s South Philly Cuisine\n\n\n7/19 – Music by Three D Trio\, Food by Lovejoy’s Kitchen\n\n\n8/2 – Music by Downhill Ryder\, Food by Lovejoy’s Kitchen\, Cascade Vehicle Tents on Display\n\n\n8/16 – Music by Victory Swig\, Food by Lovejoy’s Kitchen\n\n\n8/30 – Music by Sucker Punch\, Food by Bruneau’s South Philly Cuisine
URL:https://brookswoodmeadowplaza.com/calendar/dancing-in-the-garden-beer-wine-garden-at-c-e-lovejoys-5-730pm-live-music-by-sweet-whiskey-lips
LOCATION:C.E. Lovejoy’s Brookswood Market\, 19530 Amber Meadow Drive\, Bend\, 97702\, United States
CATEGORIES:Beer
ATTACH;FMTTYPE=image/jpeg:https://brookswoodmeadowplaza.com/wp-content/uploads/2018/04/Beer-gardens-2018-Close-to-final-Draft-4-16-18.jpg
END:VEVENT
BEGIN:VEVENT
DTSTART;TZID=America/Los_Angeles:20180607T170000
DTEND;TZID=America/Los_Angeles:20180607T193000
DTSTAMP:20260425T123856
CREATED:20180430T200516Z
LAST-MODIFIED:20180430T200950Z
UID:6196-1528390800-1528399800@brookswoodmeadowplaza.com
SUMMARY:"Dancing in the Garden" Beer & Wine Garden at C.E. Lovejoy's\, 5-7:30pm - Live Music by Blondeau Band
DESCRIPTION:Join C.E. Lovejoy’s for summer Dancing in the Garden Beer & Wine Gardens in 2018!! They start on Thursday June 7th and happen every other Thursday through August 30th!   Join them for food\, drinks and live music!  Here’s the lineup of bands.  Watch for additional display information and surprises as the season progresses.  CELovejoys.com \n\n6/7 – Music by Blondeau Band\, Food by Bruneau’s South Philly Cuisine\n\n6/21 – Music by Sweet Whiskey Lips\, Food by Bruneau’s South Philly Cuisine\n\n\n7/5 – Music by Off the Record\, Food by Bruneau’s South Philly Cuisine\n\n\n7/19 – Music by Three D Trio\, Food by Lovejoy’s Kitchen\n\n\n8/2 – Music by Downhill Ryder\, Food by Lovejoy’s Kitchen\, Cascade Vehicle Tents on Display\n\n\n8/16 – Music by Victory Swig\, Food by Lovejoy’s Kitchen\n\n\n8/30 – Music by Sucker Punch\, Food by Bruneau’s South Philly Cuisine
URL:https://brookswoodmeadowplaza.com/calendar/dancing-in-the-garden-beer-wine-garden-at-c-e-lovejoys-5-730pm-live-music-by-blondeau-band
LOCATION:C.E. Lovejoy’s Brookswood Market\, 19530 Amber Meadow Drive\, Bend\, 97702\, United States
CATEGORIES:Beer
ATTACH;FMTTYPE=image/jpeg:https://brookswoodmeadowplaza.com/wp-content/uploads/2018/04/Beer-gardens-2018-Close-to-final-Draft-4-16-18.jpg
END:VEVENT
END:VCALENDAR