BEGIN:VCALENDAR
VERSION:2.0
PRODID:-//Brookswood Meadow Plaza - ECPv6.15.13.1//NONSGML v1.0//EN
CALSCALE:GREGORIAN
METHOD:PUBLISH
X-ORIGINAL-URL:https://brookswoodmeadowplaza.com
X-WR-CALDESC:Events for Brookswood Meadow Plaza
REFRESH-INTERVAL;VALUE=DURATION:PT1H
X-Robots-Tag:noindex
X-PUBLISHED-TTL:PT1H
BEGIN:VTIMEZONE
TZID:America/Los_Angeles
BEGIN:DAYLIGHT
TZOFFSETFROM:-0800
TZOFFSETTO:-0700
TZNAME:PDT
DTSTART:20190310T100000
END:DAYLIGHT
BEGIN:STANDARD
TZOFFSETFROM:-0700
TZOFFSETTO:-0800
TZNAME:PST
DTSTART:20191103T090000
END:STANDARD
BEGIN:DAYLIGHT
TZOFFSETFROM:-0800
TZOFFSETTO:-0700
TZNAME:PDT
DTSTART:20200308T100000
END:DAYLIGHT
BEGIN:STANDARD
TZOFFSETFROM:-0700
TZOFFSETTO:-0800
TZNAME:PST
DTSTART:20201101T090000
END:STANDARD
BEGIN:DAYLIGHT
TZOFFSETFROM:-0800
TZOFFSETTO:-0700
TZNAME:PDT
DTSTART:20210314T100000
END:DAYLIGHT
BEGIN:STANDARD
TZOFFSETFROM:-0700
TZOFFSETTO:-0800
TZNAME:PST
DTSTART:20211107T090000
END:STANDARD
BEGIN:DAYLIGHT
TZOFFSETFROM:-0800
TZOFFSETTO:-0700
TZNAME:PDT
DTSTART:20220313T100000
END:DAYLIGHT
BEGIN:STANDARD
TZOFFSETFROM:-0700
TZOFFSETTO:-0800
TZNAME:PST
DTSTART:20221106T090000
END:STANDARD
END:VTIMEZONE
BEGIN:VEVENT
DTSTART;VALUE=DATE:20200428
DTEND;VALUE=DATE:20200429
DTSTAMP:20260420T025453
CREATED:20200518T225831Z
LAST-MODIFIED:20200518T225831Z
UID:11083-1588032000-1588118399@brookswoodmeadowplaza.com
SUMMARY:Military Discount Day at C.E. Lovejoy's (Show Your ID & Save 10%)
DESCRIPTION:
URL:https://brookswoodmeadowplaza.com/calendar/military-discount-day-at-c-e-lovejoys-show-your-id-save-10
LOCATION:Bend\, United States
CATEGORIES:Community,Groceries
ATTACH;FMTTYPE=image/jpeg:https://brookswoodmeadowplaza.com/wp-content/uploads/2018/05/3_military-discounts.jpg
END:VEVENT
BEGIN:VEVENT
DTSTART;TZID=America/Los_Angeles:20210717T090000
DTEND;TZID=America/Los_Angeles:20210717T100000
DTSTAMP:20260420T025453
CREATED:20210719T215844Z
LAST-MODIFIED:20210719T215844Z
UID:12454-1626512400-1626516000@brookswoodmeadowplaza.com
SUMMARY:Saturday Morning Medicinal Plant Walks With Dr. Ashley from The Peoples Apothecary\, 9-10am\, Locations Vary
DESCRIPTION:
URL:https://brookswoodmeadowplaza.com/calendar/saturday-morning-medicinal-plant-walks-with-dr-ashley-from-the-peoples-apothecary-9-10am-locations-vary
LOCATION:Bend\, OR\, United States
CATEGORIES:Class,Community,Health,Well Being,Wellness
ATTACH;FMTTYPE=image/jpeg:https://brookswoodmeadowplaza.com/wp-content/uploads/2021/07/HeadshotfloralrobeandBowie_1024x1024@2x.jpg
END:VEVENT
BEGIN:VEVENT
DTSTART;TZID=America/Los_Angeles:20210909T100000
DTEND;TZID=America/Los_Angeles:20210909T140000
DTSTAMP:20260420T025453
CREATED:20210831T210758Z
LAST-MODIFIED:20210907T170629Z
UID:12674-1631181600-1631196000@brookswoodmeadowplaza.com
SUMMARY:Ladies Back to School Bash at Austin Mercantile\, 10am-2pm Mimosas and Shopping - Wildflower Truck and More!
DESCRIPTION:
URL:https://brookswoodmeadowplaza.com/calendar/moms-back-to-school-celebration-at-austin-mercantile
LOCATION:Bend\, OR\, United States
CATEGORIES:Community,Well Being
ATTACH;FMTTYPE=image/jpeg:https://brookswoodmeadowplaza.com/wp-content/uploads/2021/08/Austin-Mercantile-Logo-1st-choice.jpg
END:VEVENT
BEGIN:VEVENT
DTSTART;TZID=America/Los_Angeles:20201104T080000
DTEND;TZID=America/Los_Angeles:20201104T090000
DTSTAMP:20260420T025453
CREATED:20201116T234244Z
LAST-MODIFIED:20201116T234244Z
UID:11570-1604476800-1604480400@brookswoodmeadowplaza.com
SUMMARY:Senior Shopping Hour at Lovejoy's Market\, 8-9am
DESCRIPTION:https://celovejoys.com
URL:https://brookswoodmeadowplaza.com/calendar/senior-shopping-hour-at-lovejoys-market-8-9am
LOCATION:Bend\, OR\, United States
CATEGORIES:Community,Food,Groceries
ATTACH;FMTTYPE=image/jpeg:https://brookswoodmeadowplaza.com/wp-content/uploads/2020/04/senior-shopping-hour.jpg
END:VEVENT
BEGIN:VEVENT
DTSTART;VALUE=DATE:20200428
DTEND;VALUE=DATE:20200429
DTSTAMP:20260420T025453
CREATED:20200518T225831Z
LAST-MODIFIED:20200518T225831Z
UID:11083-1588032000-1588118399@brookswoodmeadowplaza.com
SUMMARY:Military Discount Day at C.E. Lovejoy's (Show Your ID & Save 10%)
DESCRIPTION:
URL:https://brookswoodmeadowplaza.com/calendar/military-discount-day-at-c-e-lovejoys-show-your-id-save-10
LOCATION:Bend\, United States
CATEGORIES:Community,Groceries
ATTACH;FMTTYPE=image/jpeg:https://brookswoodmeadowplaza.com/wp-content/uploads/2018/05/3_military-discounts.jpg
END:VEVENT
BEGIN:VEVENT
DTSTART;TZID=America/Los_Angeles:20210901T160000
DTEND;TZID=America/Los_Angeles:20210901T190000
DTSTAMP:20260420T025453
CREATED:20210831T210550Z
LAST-MODIFIED:20210831T210550Z
UID:12669-1630512000-1630522800@brookswoodmeadowplaza.com
SUMMARY:Jewelry Trunk Show Featuring Rainbows by Amy at Austin Mercantile\, 4-7pm
DESCRIPTION:
URL:https://brookswoodmeadowplaza.com/calendar/jewelry-trunk-show-featuring-rainbows-by-amy-at-austin-mercantile-4-7pm
LOCATION:Bend\, OR\, United States
CATEGORIES:Beauty,Community
ATTACH;FMTTYPE=image/jpeg:https://brookswoodmeadowplaza.com/wp-content/uploads/2021/08/Austin-Mercantile-Logo-1st-choice.jpg
END:VEVENT
BEGIN:VEVENT
DTSTART;TZID=America/Los_Angeles:20201104T080000
DTEND;TZID=America/Los_Angeles:20201104T090000
DTSTAMP:20260420T025453
CREATED:20201116T234244Z
LAST-MODIFIED:20201116T234244Z
UID:11570-1604476800-1604480400@brookswoodmeadowplaza.com
SUMMARY:Senior Shopping Hour at Lovejoy's Market\, 8-9am
DESCRIPTION:https://celovejoys.com
URL:https://brookswoodmeadowplaza.com/calendar/senior-shopping-hour-at-lovejoys-market-8-9am
LOCATION:Bend\, OR\, United States
CATEGORIES:Community,Food,Groceries
ATTACH;FMTTYPE=image/jpeg:https://brookswoodmeadowplaza.com/wp-content/uploads/2020/04/senior-shopping-hour.jpg
END:VEVENT
BEGIN:VEVENT
DTSTART;VALUE=DATE:20200428
DTEND;VALUE=DATE:20200429
DTSTAMP:20260420T025453
CREATED:20200518T225831Z
LAST-MODIFIED:20200518T225831Z
UID:11083-1588032000-1588118399@brookswoodmeadowplaza.com
SUMMARY:Military Discount Day at C.E. Lovejoy's (Show Your ID & Save 10%)
DESCRIPTION:
URL:https://brookswoodmeadowplaza.com/calendar/military-discount-day-at-c-e-lovejoys-show-your-id-save-10
LOCATION:Bend\, United States
CATEGORIES:Community,Groceries
ATTACH;FMTTYPE=image/jpeg:https://brookswoodmeadowplaza.com/wp-content/uploads/2018/05/3_military-discounts.jpg
END:VEVENT
BEGIN:VEVENT
DTSTART;TZID=America/Los_Angeles:20210729T173000
DTEND;TZID=America/Los_Angeles:20210729T183000
DTSTAMP:20260420T025453
CREATED:20210719T220426Z
LAST-MODIFIED:20210719T220426Z
UID:12462-1627579800-1627583400@brookswoodmeadowplaza.com
SUMMARY:Thursday Evening Plant Spirit Meditations with Dr. Ashley at The Peoples Apothecary\, 5:30-6:30pm
DESCRIPTION:
URL:https://brookswoodmeadowplaza.com/calendar/thursday-evening-plant-spirit-meditations-with-dr-ashley-at-the-peoples-apothecary-530-630pm
LOCATION:Bend\, OR\, United States
CATEGORIES:Class,Community,Health,Well Being,Wellness
ATTACH;FMTTYPE=image/jpeg:https://brookswoodmeadowplaza.com/wp-content/uploads/2021/07/Tincturefillingfromabovecolor_b947e4c2-db1b-460b-af1a-0582116c14f9_1024x1024@2x.jpg
END:VEVENT
BEGIN:VEVENT
DTSTART;TZID=America/Los_Angeles:20201104T080000
DTEND;TZID=America/Los_Angeles:20201104T090000
DTSTAMP:20260420T025453
CREATED:20201116T234244Z
LAST-MODIFIED:20201116T234244Z
UID:11570-1604476800-1604480400@brookswoodmeadowplaza.com
SUMMARY:Senior Shopping Hour at Lovejoy's Market\, 8-9am
DESCRIPTION:https://celovejoys.com
URL:https://brookswoodmeadowplaza.com/calendar/senior-shopping-hour-at-lovejoys-market-8-9am
LOCATION:Bend\, OR\, United States
CATEGORIES:Community,Food,Groceries
ATTACH;FMTTYPE=image/jpeg:https://brookswoodmeadowplaza.com/wp-content/uploads/2020/04/senior-shopping-hour.jpg
END:VEVENT
BEGIN:VEVENT
DTSTART;VALUE=DATE:20200428
DTEND;VALUE=DATE:20200429
DTSTAMP:20260420T025453
CREATED:20200518T225831Z
LAST-MODIFIED:20200518T225831Z
UID:11083-1588032000-1588118399@brookswoodmeadowplaza.com
SUMMARY:Military Discount Day at C.E. Lovejoy's (Show Your ID & Save 10%)
DESCRIPTION:
URL:https://brookswoodmeadowplaza.com/calendar/military-discount-day-at-c-e-lovejoys-show-your-id-save-10
LOCATION:Bend\, United States
CATEGORIES:Community,Groceries
ATTACH;FMTTYPE=image/jpeg:https://brookswoodmeadowplaza.com/wp-content/uploads/2018/05/3_military-discounts.jpg
END:VEVENT
BEGIN:VEVENT
DTSTART;TZID=America/Los_Angeles:20201104T080000
DTEND;TZID=America/Los_Angeles:20201104T090000
DTSTAMP:20260420T025453
CREATED:20201116T234244Z
LAST-MODIFIED:20201116T234244Z
UID:11570-1604476800-1604480400@brookswoodmeadowplaza.com
SUMMARY:Senior Shopping Hour at Lovejoy's Market\, 8-9am
DESCRIPTION:https://celovejoys.com
URL:https://brookswoodmeadowplaza.com/calendar/senior-shopping-hour-at-lovejoys-market-8-9am
LOCATION:Bend\, OR\, United States
CATEGORIES:Community,Food,Groceries
ATTACH;FMTTYPE=image/jpeg:https://brookswoodmeadowplaza.com/wp-content/uploads/2020/04/senior-shopping-hour.jpg
END:VEVENT
BEGIN:VEVENT
DTSTART;VALUE=DATE:20200428
DTEND;VALUE=DATE:20200429
DTSTAMP:20260420T025453
CREATED:20200518T225831Z
LAST-MODIFIED:20200518T225831Z
UID:11083-1588032000-1588118399@brookswoodmeadowplaza.com
SUMMARY:Military Discount Day at C.E. Lovejoy's (Show Your ID & Save 10%)
DESCRIPTION:
URL:https://brookswoodmeadowplaza.com/calendar/military-discount-day-at-c-e-lovejoys-show-your-id-save-10
LOCATION:Bend\, United States
CATEGORIES:Community,Groceries
ATTACH;FMTTYPE=image/jpeg:https://brookswoodmeadowplaza.com/wp-content/uploads/2018/05/3_military-discounts.jpg
END:VEVENT
BEGIN:VEVENT
DTSTART;TZID=America/Los_Angeles:20210717T090000
DTEND;TZID=America/Los_Angeles:20210717T100000
DTSTAMP:20260420T025453
CREATED:20210719T215844Z
LAST-MODIFIED:20210719T215844Z
UID:12454-1626512400-1626516000@brookswoodmeadowplaza.com
SUMMARY:Saturday Morning Medicinal Plant Walks With Dr. Ashley from The Peoples Apothecary\, 9-10am\, Locations Vary
DESCRIPTION:
URL:https://brookswoodmeadowplaza.com/calendar/saturday-morning-medicinal-plant-walks-with-dr-ashley-from-the-peoples-apothecary-9-10am-locations-vary
LOCATION:Bend\, OR\, United States
CATEGORIES:Class,Community,Health,Well Being,Wellness
ATTACH;FMTTYPE=image/jpeg:https://brookswoodmeadowplaza.com/wp-content/uploads/2021/07/HeadshotfloralrobeandBowie_1024x1024@2x.jpg
END:VEVENT
BEGIN:VEVENT
DTSTART;TZID=America/Los_Angeles:20201104T080000
DTEND;TZID=America/Los_Angeles:20201104T090000
DTSTAMP:20260420T025453
CREATED:20201116T234244Z
LAST-MODIFIED:20201116T234244Z
UID:11570-1604476800-1604480400@brookswoodmeadowplaza.com
SUMMARY:Senior Shopping Hour at Lovejoy's Market\, 8-9am
DESCRIPTION:https://celovejoys.com
URL:https://brookswoodmeadowplaza.com/calendar/senior-shopping-hour-at-lovejoys-market-8-9am
LOCATION:Bend\, OR\, United States
CATEGORIES:Community,Food,Groceries
ATTACH;FMTTYPE=image/jpeg:https://brookswoodmeadowplaza.com/wp-content/uploads/2020/04/senior-shopping-hour.jpg
END:VEVENT
BEGIN:VEVENT
DTSTART;VALUE=DATE:20200428
DTEND;VALUE=DATE:20200429
DTSTAMP:20260420T025453
CREATED:20200518T225831Z
LAST-MODIFIED:20200518T225831Z
UID:11083-1588032000-1588118399@brookswoodmeadowplaza.com
SUMMARY:Military Discount Day at C.E. Lovejoy's (Show Your ID & Save 10%)
DESCRIPTION:
URL:https://brookswoodmeadowplaza.com/calendar/military-discount-day-at-c-e-lovejoys-show-your-id-save-10
LOCATION:Bend\, United States
CATEGORIES:Community,Groceries
ATTACH;FMTTYPE=image/jpeg:https://brookswoodmeadowplaza.com/wp-content/uploads/2018/05/3_military-discounts.jpg
END:VEVENT
BEGIN:VEVENT
DTSTART;TZID=America/Los_Angeles:20201104T080000
DTEND;TZID=America/Los_Angeles:20201104T090000
DTSTAMP:20260420T025453
CREATED:20201116T234244Z
LAST-MODIFIED:20201116T234244Z
UID:11570-1604476800-1604480400@brookswoodmeadowplaza.com
SUMMARY:Senior Shopping Hour at Lovejoy's Market\, 8-9am
DESCRIPTION:https://celovejoys.com
URL:https://brookswoodmeadowplaza.com/calendar/senior-shopping-hour-at-lovejoys-market-8-9am
LOCATION:Bend\, OR\, United States
CATEGORIES:Community,Food,Groceries
ATTACH;FMTTYPE=image/jpeg:https://brookswoodmeadowplaza.com/wp-content/uploads/2020/04/senior-shopping-hour.jpg
END:VEVENT
BEGIN:VEVENT
DTSTART;VALUE=DATE:20200428
DTEND;VALUE=DATE:20200429
DTSTAMP:20260420T025453
CREATED:20200518T225831Z
LAST-MODIFIED:20200518T225831Z
UID:11083-1588032000-1588118399@brookswoodmeadowplaza.com
SUMMARY:Military Discount Day at C.E. Lovejoy's (Show Your ID & Save 10%)
DESCRIPTION:
URL:https://brookswoodmeadowplaza.com/calendar/military-discount-day-at-c-e-lovejoys-show-your-id-save-10
LOCATION:Bend\, United States
CATEGORIES:Community,Groceries
ATTACH;FMTTYPE=image/jpeg:https://brookswoodmeadowplaza.com/wp-content/uploads/2018/05/3_military-discounts.jpg
END:VEVENT
BEGIN:VEVENT
DTSTART;TZID=America/Los_Angeles:20210729T173000
DTEND;TZID=America/Los_Angeles:20210729T183000
DTSTAMP:20260420T025453
CREATED:20210719T220426Z
LAST-MODIFIED:20210719T220426Z
UID:12462-1627579800-1627583400@brookswoodmeadowplaza.com
SUMMARY:Thursday Evening Plant Spirit Meditations with Dr. Ashley at The Peoples Apothecary\, 5:30-6:30pm
DESCRIPTION:
URL:https://brookswoodmeadowplaza.com/calendar/thursday-evening-plant-spirit-meditations-with-dr-ashley-at-the-peoples-apothecary-530-630pm
LOCATION:Bend\, OR\, United States
CATEGORIES:Class,Community,Health,Well Being,Wellness
ATTACH;FMTTYPE=image/jpeg:https://brookswoodmeadowplaza.com/wp-content/uploads/2021/07/Tincturefillingfromabovecolor_b947e4c2-db1b-460b-af1a-0582116c14f9_1024x1024@2x.jpg
END:VEVENT
BEGIN:VEVENT
DTSTART;TZID=America/Los_Angeles:20210728T160000
DTEND;TZID=America/Los_Angeles:20210728T183000
DTSTAMP:20260420T025453
CREATED:20210721T231638Z
LAST-MODIFIED:20210721T231638Z
UID:12513-1627488000-1627497000@brookswoodmeadowplaza.com
SUMMARY:Wine Tasting at Lovejoy's Market\, 4-6:30pm
DESCRIPTION:
URL:https://brookswoodmeadowplaza.com/calendar/wine-tasting-at-lovejoys-market-4-630pm
LOCATION:Bend\, OR\, United States
CATEGORIES:Community,Free,Groceries,Summer,Wine
ATTACH;FMTTYPE=image/jpeg:https://brookswoodmeadowplaza.com/wp-content/uploads/2018/02/Wine-Tasting-2.jpg
END:VEVENT
BEGIN:VEVENT
DTSTART;TZID=America/Los_Angeles:20201104T080000
DTEND;TZID=America/Los_Angeles:20201104T090000
DTSTAMP:20260420T025453
CREATED:20201116T234244Z
LAST-MODIFIED:20201116T234244Z
UID:11570-1604476800-1604480400@brookswoodmeadowplaza.com
SUMMARY:Senior Shopping Hour at Lovejoy's Market\, 8-9am
DESCRIPTION:https://celovejoys.com
URL:https://brookswoodmeadowplaza.com/calendar/senior-shopping-hour-at-lovejoys-market-8-9am
LOCATION:Bend\, OR\, United States
CATEGORIES:Community,Food,Groceries
ATTACH;FMTTYPE=image/jpeg:https://brookswoodmeadowplaza.com/wp-content/uploads/2020/04/senior-shopping-hour.jpg
END:VEVENT
BEGIN:VEVENT
DTSTART;VALUE=DATE:20200428
DTEND;VALUE=DATE:20200429
DTSTAMP:20260420T025453
CREATED:20200518T225831Z
LAST-MODIFIED:20200518T225831Z
UID:11083-1588032000-1588118399@brookswoodmeadowplaza.com
SUMMARY:Military Discount Day at C.E. Lovejoy's (Show Your ID & Save 10%)
DESCRIPTION:
URL:https://brookswoodmeadowplaza.com/calendar/military-discount-day-at-c-e-lovejoys-show-your-id-save-10
LOCATION:Bend\, United States
CATEGORIES:Community,Groceries
ATTACH;FMTTYPE=image/jpeg:https://brookswoodmeadowplaza.com/wp-content/uploads/2018/05/3_military-discounts.jpg
END:VEVENT
BEGIN:VEVENT
DTSTART;TZID=America/Los_Angeles:20210723T140000
DTEND;TZID=America/Los_Angeles:20210723T170000
DTSTAMP:20260420T025453
CREATED:20210721T222150Z
LAST-MODIFIED:20210721T222823Z
UID:12510-1627048800-1627059600@brookswoodmeadowplaza.com
SUMMARY:Wine Tasting at Lovejoy's Market - Lava Terrace Cellars\, 2-5pm
DESCRIPTION:
URL:https://brookswoodmeadowplaza.com/calendar/wine-tasting-at-lovejoys-market-lava-terrace-cellars-2-5pm
LOCATION:Bend\, OR\, United States
CATEGORIES:Community,Free,Groceries,Summer,Wine
ATTACH;FMTTYPE=image/jpeg:https://brookswoodmeadowplaza.com/wp-content/uploads/2021/07/Wine-tasting-rock-point-left-medallion_edited-2.jpg
END:VEVENT
BEGIN:VEVENT
DTSTART;TZID=America/Los_Angeles:20201104T080000
DTEND;TZID=America/Los_Angeles:20201104T090000
DTSTAMP:20260420T025453
CREATED:20201116T234244Z
LAST-MODIFIED:20201116T234244Z
UID:11570-1604476800-1604480400@brookswoodmeadowplaza.com
SUMMARY:Senior Shopping Hour at Lovejoy's Market\, 8-9am
DESCRIPTION:https://celovejoys.com
URL:https://brookswoodmeadowplaza.com/calendar/senior-shopping-hour-at-lovejoys-market-8-9am
LOCATION:Bend\, OR\, United States
CATEGORIES:Community,Food,Groceries
ATTACH;FMTTYPE=image/jpeg:https://brookswoodmeadowplaza.com/wp-content/uploads/2020/04/senior-shopping-hour.jpg
END:VEVENT
BEGIN:VEVENT
DTSTART;VALUE=DATE:20200428
DTEND;VALUE=DATE:20200429
DTSTAMP:20260420T025453
CREATED:20200518T225831Z
LAST-MODIFIED:20200518T225831Z
UID:11083-1588032000-1588118399@brookswoodmeadowplaza.com
SUMMARY:Military Discount Day at C.E. Lovejoy's (Show Your ID & Save 10%)
DESCRIPTION:
URL:https://brookswoodmeadowplaza.com/calendar/military-discount-day-at-c-e-lovejoys-show-your-id-save-10
LOCATION:Bend\, United States
CATEGORIES:Community,Groceries
ATTACH;FMTTYPE=image/jpeg:https://brookswoodmeadowplaza.com/wp-content/uploads/2018/05/3_military-discounts.jpg
END:VEVENT
BEGIN:VEVENT
DTSTART;TZID=America/Los_Angeles:20210717T130000
DTEND;TZID=America/Los_Angeles:20210717T160000
DTSTAMP:20260420T025453
CREATED:20210707T234849Z
LAST-MODIFIED:20210707T234849Z
UID:12441-1626526800-1626537600@brookswoodmeadowplaza.com
SUMMARY:Wine Tasting at Lovejoy's Market - Willamette Valley Vineyards\, 1-4pm
DESCRIPTION:
URL:https://brookswoodmeadowplaza.com/calendar/wine-tasting-at-lovejoys-market-willamette-valley-vineyards-1-4pm
LOCATION:Bend\, OR\, United States
CATEGORIES:Community,Free,Groceries,Summer,Wine
ATTACH;FMTTYPE=image/jpeg:https://brookswoodmeadowplaza.com/wp-content/uploads/2021/07/IMG_8243.jpg
END:VEVENT
BEGIN:VEVENT
DTSTART;TZID=America/Los_Angeles:20210717T090000
DTEND;TZID=America/Los_Angeles:20210717T100000
DTSTAMP:20260420T025453
CREATED:20210719T215844Z
LAST-MODIFIED:20210719T215844Z
UID:12454-1626512400-1626516000@brookswoodmeadowplaza.com
SUMMARY:Saturday Morning Medicinal Plant Walks With Dr. Ashley from The Peoples Apothecary\, 9-10am\, Locations Vary
DESCRIPTION:
URL:https://brookswoodmeadowplaza.com/calendar/saturday-morning-medicinal-plant-walks-with-dr-ashley-from-the-peoples-apothecary-9-10am-locations-vary
LOCATION:Bend\, OR\, United States
CATEGORIES:Class,Community,Health,Well Being,Wellness
ATTACH;FMTTYPE=image/jpeg:https://brookswoodmeadowplaza.com/wp-content/uploads/2021/07/HeadshotfloralrobeandBowie_1024x1024@2x.jpg
END:VEVENT
BEGIN:VEVENT
DTSTART;VALUE=DATE:20210717
DTEND;VALUE=DATE:20210718
DTSTAMP:20260420T025453
CREATED:20210629T034430Z
LAST-MODIFIED:20210629T034430Z
UID:12395-1626480000-1626566399@brookswoodmeadowplaza.com
SUMMARY:Canine Fitness Foundations Class Series Begins @ Stride Canine Fitness & Rehabilitation Center
DESCRIPTION:Six week class. Email to register: kristin@stridecaninerehab.com
URL:https://brookswoodmeadowplaza.com/calendar/canine-fitness-foundations-class-series-begins-stride-canine-fitness-rehabilitation-center
LOCATION:Bend\, OR\, United States
CATEGORIES:Class,Community,Pets
ATTACH;FMTTYPE=image/jpeg:https://brookswoodmeadowplaza.com/wp-content/uploads/2021/06/195195778_1154464571721342_5320832393065116018_n-2.jpg
END:VEVENT
BEGIN:VEVENT
DTSTART;TZID=America/Los_Angeles:20210716T150000
DTEND;TZID=America/Los_Angeles:20210716T190000
DTSTAMP:20260420T025453
CREATED:20210714T191558Z
LAST-MODIFIED:20210714T191558Z
UID:12449-1626447600-1626462000@brookswoodmeadowplaza.com
SUMMARY:We're The Würst Sausage Demo & Tasting at Lovejoy's Market\, 3-7pm
DESCRIPTION:Join Matthew from We’re The Würst for a demo and tasting of their incredible sausages! He’ll be at Lovejoy’s Market from 3-7pm (ish)\, so don’t wait too long. Go early\, support a local business and enjoy something delicious!
URL:https://brookswoodmeadowplaza.com/calendar/were-the-wurst-sausage-demo-tasting-at-lovejoys-market-3-7pm
LOCATION:Bend\, OR\, United States
CATEGORIES:Community,Food,Free,Groceries,Summer
ATTACH;FMTTYPE=image/jpeg:https://brookswoodmeadowplaza.com/wp-content/uploads/2021/07/Wurst_edited-1.jpg
END:VEVENT
BEGIN:VEVENT
DTSTART;TZID=America/Los_Angeles:20210715T143000
DTEND;TZID=America/Los_Angeles:20210715T173000
DTSTAMP:20260420T025453
CREATED:20210707T234602Z
LAST-MODIFIED:20210707T234602Z
UID:12439-1626359400-1626370200@brookswoodmeadowplaza.com
SUMMARY:Wine Tasting at Lovejoy's Market - Rock Point Wines\, 2:30-5:30pm
DESCRIPTION:
URL:https://brookswoodmeadowplaza.com/calendar/wine-tasting-at-lovejoys-market-rock-point-wines-230-530pm
LOCATION:Bend\, OR\, United States
CATEGORIES:Community,Free,Groceries,Summer,Wine
ATTACH;FMTTYPE=image/jpeg:https://brookswoodmeadowplaza.com/wp-content/uploads/2021/07/IMG_8260.jpg
END:VEVENT
END:VCALENDAR