BEGIN:VCALENDAR
VERSION:2.0
PRODID:-//Brookswood Meadow Plaza - ECPv6.15.13.1//NONSGML v1.0//EN
CALSCALE:GREGORIAN
METHOD:PUBLISH
X-ORIGINAL-URL:https://brookswoodmeadowplaza.com
X-WR-CALDESC:Events for Brookswood Meadow Plaza
REFRESH-INTERVAL;VALUE=DURATION:PT1H
X-Robots-Tag:noindex
X-PUBLISHED-TTL:PT1H
BEGIN:VTIMEZONE
TZID:America/Los_Angeles
BEGIN:DAYLIGHT
TZOFFSETFROM:-0800
TZOFFSETTO:-0700
TZNAME:PDT
DTSTART:20190310T100000
END:DAYLIGHT
BEGIN:STANDARD
TZOFFSETFROM:-0700
TZOFFSETTO:-0800
TZNAME:PST
DTSTART:20191103T090000
END:STANDARD
BEGIN:DAYLIGHT
TZOFFSETFROM:-0800
TZOFFSETTO:-0700
TZNAME:PDT
DTSTART:20200308T100000
END:DAYLIGHT
BEGIN:STANDARD
TZOFFSETFROM:-0700
TZOFFSETTO:-0800
TZNAME:PST
DTSTART:20201101T090000
END:STANDARD
BEGIN:DAYLIGHT
TZOFFSETFROM:-0800
TZOFFSETTO:-0700
TZNAME:PDT
DTSTART:20210314T100000
END:DAYLIGHT
BEGIN:STANDARD
TZOFFSETFROM:-0700
TZOFFSETTO:-0800
TZNAME:PST
DTSTART:20211107T090000
END:STANDARD
END:VTIMEZONE
BEGIN:VEVENT
DTSTART;TZID=America/Los_Angeles:20201107T140000
DTEND;TZID=America/Los_Angeles:20201107T140000
DTSTAMP:20260421T021000
CREATED:20201030T174646Z
LAST-MODIFIED:20201030T174646Z
UID:11478-1604757600-1604757600@brookswoodmeadowplaza.com
SUMMARY:FREE Mock Barre Class with Ginger at The Dailey Method\, 2pm
DESCRIPTION:Register at: The Dailey Method Bend Barre Studio’s Website!
URL:https://brookswoodmeadowplaza.com/calendar/free-mock-barre-class-with-ginger-at-the-dailey-method-2pm-2
CATEGORIES:Barre Class,Community,Fitness,Free,Well Being,Wellness
ATTACH;FMTTYPE=image/jpeg:https://brookswoodmeadowplaza.com/wp-content/uploads/2020/07/TDM-Logo_Square_Signage-barre-studio.jpg
END:VEVENT
BEGIN:VEVENT
DTSTART;TZID=America/Los_Angeles:20201104T150000
DTEND;TZID=America/Los_Angeles:20201104T180000
DTSTAMP:20260421T021000
CREATED:20201103T230117Z
LAST-MODIFIED:20201103T230117Z
UID:11546-1604502000-1604512800@brookswoodmeadowplaza.com
SUMMARY:Beer Tasting - Athletic Brewing Non-Alcoholic Craft Beer at Lovejoy's Market\, 3-6pm
DESCRIPTION:C.E. Lovejoy’s Market
URL:https://brookswoodmeadowplaza.com/calendar/beer-tasting-athletic-brewing-non-alcoholic-craft-beer-at-lovejoys-market-3-6pm
CATEGORIES:Beer,Community,Free,Groceries
ATTACH;FMTTYPE=image/jpeg:https://brookswoodmeadowplaza.com/wp-content/uploads/2020/11/pexels-visionpic-net-1009068-copy.jpg
END:VEVENT
BEGIN:VEVENT
DTSTART;TZID=America/Los_Angeles:20201104T080000
DTEND;TZID=America/Los_Angeles:20201104T090000
DTSTAMP:20260421T021000
CREATED:20201116T234244Z
LAST-MODIFIED:20201116T234244Z
UID:11570-1604476800-1604480400@brookswoodmeadowplaza.com
SUMMARY:Senior Shopping Hour at Lovejoy's Market\, 8-9am
DESCRIPTION:https://celovejoys.com
URL:https://brookswoodmeadowplaza.com/calendar/senior-shopping-hour-at-lovejoys-market-8-9am
LOCATION:Bend\, OR\, United States
CATEGORIES:Community,Food,Groceries
ATTACH;FMTTYPE=image/jpeg:https://brookswoodmeadowplaza.com/wp-content/uploads/2020/04/senior-shopping-hour.jpg
END:VEVENT
BEGIN:VEVENT
DTSTART;VALUE=DATE:20200428
DTEND;VALUE=DATE:20200429
DTSTAMP:20260421T021000
CREATED:20200518T225831Z
LAST-MODIFIED:20200518T225831Z
UID:11083-1588032000-1588118399@brookswoodmeadowplaza.com
SUMMARY:Military Discount Day at C.E. Lovejoy's (Show Your ID & Save 10%)
DESCRIPTION:
URL:https://brookswoodmeadowplaza.com/calendar/military-discount-day-at-c-e-lovejoys-show-your-id-save-10
LOCATION:Bend\, United States
CATEGORIES:Community,Groceries
ATTACH;FMTTYPE=image/jpeg:https://brookswoodmeadowplaza.com/wp-content/uploads/2018/05/3_military-discounts.jpg
END:VEVENT
BEGIN:VEVENT
DTSTART;TZID=America/Los_Angeles:20201101T140000
DTEND;TZID=America/Los_Angeles:20201101T140000
DTSTAMP:20260421T021000
CREATED:20201030T174536Z
LAST-MODIFIED:20201030T174536Z
UID:11476-1604239200-1604239200@brookswoodmeadowplaza.com
SUMMARY:FREE Mock Barre Class with Ginger at The Dailey Method\, 2pm
DESCRIPTION:Register at: The Dailey Method Bend Barre Studio’s Website!
URL:https://brookswoodmeadowplaza.com/calendar/free-mock-barre-class-with-ginger-at-the-dailey-method-2pm
CATEGORIES:Barre Class,Community,Fitness,Free,Well Being,Wellness
ATTACH;FMTTYPE=image/jpeg:https://brookswoodmeadowplaza.com/wp-content/uploads/2020/07/TDM-Logo_Square_Signage-barre-studio.jpg
END:VEVENT
BEGIN:VEVENT
DTSTART;TZID=America/Los_Angeles:20201031T143000
DTEND;TZID=America/Los_Angeles:20201031T143000
DTSTAMP:20260421T021000
CREATED:20201030T164854Z
LAST-MODIFIED:20201030T164854Z
UID:11472-1604154600-1604154600@brookswoodmeadowplaza.com
SUMMARY:Wine Tasting - Engine House Wines Sauvignon Blanc\, 2:30pm
DESCRIPTION:Lovejoy’s Market’s Website
URL:https://brookswoodmeadowplaza.com/calendar/wine-tasting-engine-house-wines-sauvignon-blanc-230pm
CATEGORIES:Community,Free,Groceries,Wine
ATTACH;FMTTYPE=image/jpeg:https://brookswoodmeadowplaza.com/wp-content/uploads/2020/02/22814055_1809917702361886_2941280565520162839_n-645x484-1.jpg
END:VEVENT
BEGIN:VEVENT
DTSTART;TZID=America/Los_Angeles:20201030T143000
DTEND;TZID=America/Los_Angeles:20201030T143000
DTSTAMP:20260421T021000
CREATED:20201030T164715Z
LAST-MODIFIED:20201030T164715Z
UID:11470-1604068200-1604068200@brookswoodmeadowplaza.com
SUMMARY:Wine Tasting at Lovejoy's Market - Schmidt Family Vineyards\, 2:30pm
DESCRIPTION:Lovejoy’s Market’s Website
URL:https://brookswoodmeadowplaza.com/calendar/wine-tasting-at-lovejoys-market-schmidt-family-vineyards-230pm
CATEGORIES:Community,Free,Groceries,Wine
ATTACH;FMTTYPE=image/jpeg:https://brookswoodmeadowplaza.com/wp-content/uploads/2020/02/22814055_1809917702361886_2941280565520162839_n-645x484-1.jpg
END:VEVENT
BEGIN:VEVENT
DTSTART;TZID=America/Los_Angeles:20201029T143000
DTEND;TZID=America/Los_Angeles:20201029T143000
DTSTAMP:20260421T021000
CREATED:20201030T164610Z
LAST-MODIFIED:20201030T164610Z
UID:11468-1603981800-1603981800@brookswoodmeadowplaza.com
SUMMARY:Wine Tasting at Lovejoy's Market - Willamette Valley Vineyards\, 2:30pm
DESCRIPTION:Lovejoy’s Market’s Website
URL:https://brookswoodmeadowplaza.com/calendar/wine-tasting-at-lovejoys-market-willamette-valley-vineyards-230pm
CATEGORIES:Community,Free,Groceries,Wine
ATTACH;FMTTYPE=image/jpeg:https://brookswoodmeadowplaza.com/wp-content/uploads/2020/02/22814055_1809917702361886_2941280565520162839_n-645x484-1.jpg
END:VEVENT
BEGIN:VEVENT
DTSTART;VALUE=DATE:20200428
DTEND;VALUE=DATE:20200429
DTSTAMP:20260421T021000
CREATED:20200518T225831Z
LAST-MODIFIED:20200518T225831Z
UID:11083-1588032000-1588118399@brookswoodmeadowplaza.com
SUMMARY:Military Discount Day at C.E. Lovejoy's (Show Your ID & Save 10%)
DESCRIPTION:
URL:https://brookswoodmeadowplaza.com/calendar/military-discount-day-at-c-e-lovejoys-show-your-id-save-10
LOCATION:Bend\, United States
CATEGORIES:Community,Groceries
ATTACH;FMTTYPE=image/jpeg:https://brookswoodmeadowplaza.com/wp-content/uploads/2018/05/3_military-discounts.jpg
END:VEVENT
BEGIN:VEVENT
DTSTART;VALUE=DATE:20200428
DTEND;VALUE=DATE:20200429
DTSTAMP:20260421T021000
CREATED:20200518T225831Z
LAST-MODIFIED:20200518T225831Z
UID:11083-1588032000-1588118399@brookswoodmeadowplaza.com
SUMMARY:Military Discount Day at C.E. Lovejoy's (Show Your ID & Save 10%)
DESCRIPTION:
URL:https://brookswoodmeadowplaza.com/calendar/military-discount-day-at-c-e-lovejoys-show-your-id-save-10
LOCATION:Bend\, United States
CATEGORIES:Community,Groceries
ATTACH;FMTTYPE=image/jpeg:https://brookswoodmeadowplaza.com/wp-content/uploads/2018/05/3_military-discounts.jpg
END:VEVENT
BEGIN:VEVENT
DTSTART;VALUE=DATE:20200428
DTEND;VALUE=DATE:20200429
DTSTAMP:20260421T021000
CREATED:20200518T225831Z
LAST-MODIFIED:20200518T225831Z
UID:11083-1588032000-1588118399@brookswoodmeadowplaza.com
SUMMARY:Military Discount Day at C.E. Lovejoy's (Show Your ID & Save 10%)
DESCRIPTION:
URL:https://brookswoodmeadowplaza.com/calendar/military-discount-day-at-c-e-lovejoys-show-your-id-save-10
LOCATION:Bend\, United States
CATEGORIES:Community,Groceries
ATTACH;FMTTYPE=image/jpeg:https://brookswoodmeadowplaza.com/wp-content/uploads/2018/05/3_military-discounts.jpg
END:VEVENT
BEGIN:VEVENT
DTSTART;VALUE=DATE:20200428
DTEND;VALUE=DATE:20200429
DTSTAMP:20260421T021000
CREATED:20200518T225831Z
LAST-MODIFIED:20200518T225831Z
UID:11083-1588032000-1588118399@brookswoodmeadowplaza.com
SUMMARY:Military Discount Day at C.E. Lovejoy's (Show Your ID & Save 10%)
DESCRIPTION:
URL:https://brookswoodmeadowplaza.com/calendar/military-discount-day-at-c-e-lovejoys-show-your-id-save-10
LOCATION:Bend\, United States
CATEGORIES:Community,Groceries
ATTACH;FMTTYPE=image/jpeg:https://brookswoodmeadowplaza.com/wp-content/uploads/2018/05/3_military-discounts.jpg
END:VEVENT
BEGIN:VEVENT
DTSTART;VALUE=DATE:20200428
DTEND;VALUE=DATE:20200429
DTSTAMP:20260421T021000
CREATED:20200518T225831Z
LAST-MODIFIED:20200518T225831Z
UID:11083-1588032000-1588118399@brookswoodmeadowplaza.com
SUMMARY:Military Discount Day at C.E. Lovejoy's (Show Your ID & Save 10%)
DESCRIPTION:
URL:https://brookswoodmeadowplaza.com/calendar/military-discount-day-at-c-e-lovejoys-show-your-id-save-10
LOCATION:Bend\, United States
CATEGORIES:Community,Groceries
ATTACH;FMTTYPE=image/jpeg:https://brookswoodmeadowplaza.com/wp-content/uploads/2018/05/3_military-discounts.jpg
END:VEVENT
BEGIN:VEVENT
DTSTART;TZID=America/Los_Angeles:20200925T090000
DTEND;TZID=America/Los_Angeles:20200925T110000
DTSTAMP:20260421T021000
CREATED:20200825T233251Z
LAST-MODIFIED:20200825T234022Z
UID:11386-1601024400-1601031600@brookswoodmeadowplaza.com
SUMMARY:Southwest Bend Neighborhood Association Green Team Road Clean Up\, 9am (Meet at Brookswood Blvd. & Lodgepole Dr.)
DESCRIPTION:For information visit the Southwest Bend Neighborhood Association’s Facebook Event.
URL:https://brookswoodmeadowplaza.com/calendar/sbna-neighborhood-cleanup-september-2020
CATEGORIES:Community
ATTACH;FMTTYPE=image/png:https://brookswoodmeadowplaza.com/wp-content/uploads/2020/08/60431779_2477936188885545_7001886441647112192_n.png
END:VEVENT
BEGIN:VEVENT
DTSTART;VALUE=DATE:20200428
DTEND;VALUE=DATE:20200429
DTSTAMP:20260421T021000
CREATED:20200518T225831Z
LAST-MODIFIED:20200518T225831Z
UID:11083-1588032000-1588118399@brookswoodmeadowplaza.com
SUMMARY:Military Discount Day at C.E. Lovejoy's (Show Your ID & Save 10%)
DESCRIPTION:
URL:https://brookswoodmeadowplaza.com/calendar/military-discount-day-at-c-e-lovejoys-show-your-id-save-10
LOCATION:Bend\, United States
CATEGORIES:Community,Groceries
ATTACH;FMTTYPE=image/jpeg:https://brookswoodmeadowplaza.com/wp-content/uploads/2018/05/3_military-discounts.jpg
END:VEVENT
BEGIN:VEVENT
DTSTART;VALUE=DATE:20200428
DTEND;VALUE=DATE:20200429
DTSTAMP:20260421T021000
CREATED:20200518T225831Z
LAST-MODIFIED:20200518T225831Z
UID:11083-1588032000-1588118399@brookswoodmeadowplaza.com
SUMMARY:Military Discount Day at C.E. Lovejoy's (Show Your ID & Save 10%)
DESCRIPTION:
URL:https://brookswoodmeadowplaza.com/calendar/military-discount-day-at-c-e-lovejoys-show-your-id-save-10
LOCATION:Bend\, United States
CATEGORIES:Community,Groceries
ATTACH;FMTTYPE=image/jpeg:https://brookswoodmeadowplaza.com/wp-content/uploads/2018/05/3_military-discounts.jpg
END:VEVENT
BEGIN:VEVENT
DTSTART;VALUE=DATE:20200428
DTEND;VALUE=DATE:20200429
DTSTAMP:20260421T021000
CREATED:20200518T225831Z
LAST-MODIFIED:20200518T225831Z
UID:11083-1588032000-1588118399@brookswoodmeadowplaza.com
SUMMARY:Military Discount Day at C.E. Lovejoy's (Show Your ID & Save 10%)
DESCRIPTION:
URL:https://brookswoodmeadowplaza.com/calendar/military-discount-day-at-c-e-lovejoys-show-your-id-save-10
LOCATION:Bend\, United States
CATEGORIES:Community,Groceries
ATTACH;FMTTYPE=image/jpeg:https://brookswoodmeadowplaza.com/wp-content/uploads/2018/05/3_military-discounts.jpg
END:VEVENT
BEGIN:VEVENT
DTSTART;TZID=America/Los_Angeles:20200904T140000
DTEND;TZID=America/Los_Angeles:20200904T170000
DTSTAMP:20260421T021000
CREATED:20200903T203005Z
LAST-MODIFIED:20200903T203005Z
UID:11402-1599228000-1599238800@brookswoodmeadowplaza.com
SUMMARY:Wine Tasting at Lovejoy's Market\, 2-5pm Willamette Valley Vineyards
DESCRIPTION:CELovejoys.com
URL:https://brookswoodmeadowplaza.com/calendar/wine-tasting-at-lovejoys-market-2-5pm-willamette-valley-vineyards
LOCATION:Bend\, OR\, United States
CATEGORIES:Community,Free,Groceries,Wine
ATTACH;FMTTYPE=image/jpeg:https://brookswoodmeadowplaza.com/wp-content/uploads/2020/02/22814055_1809917702361886_2941280565520162839_n-645x484-1.jpg
END:VEVENT
BEGIN:VEVENT
DTSTART;VALUE=DATE:20200428
DTEND;VALUE=DATE:20200429
DTSTAMP:20260421T021000
CREATED:20200518T225831Z
LAST-MODIFIED:20200518T225831Z
UID:11083-1588032000-1588118399@brookswoodmeadowplaza.com
SUMMARY:Military Discount Day at C.E. Lovejoy's (Show Your ID & Save 10%)
DESCRIPTION:
URL:https://brookswoodmeadowplaza.com/calendar/military-discount-day-at-c-e-lovejoys-show-your-id-save-10
LOCATION:Bend\, United States
CATEGORIES:Community,Groceries
ATTACH;FMTTYPE=image/jpeg:https://brookswoodmeadowplaza.com/wp-content/uploads/2018/05/3_military-discounts.jpg
END:VEVENT
BEGIN:VEVENT
DTSTART;TZID=America/Los_Angeles:20200828T090000
DTEND;TZID=America/Los_Angeles:20200828T110000
DTSTAMP:20260421T021000
CREATED:20200825T232019Z
LAST-MODIFIED:20200825T233048Z
UID:11383-1598605200-1598612400@brookswoodmeadowplaza.com
SUMMARY:Southwest Bend Neighborhood Association Green Team Road Clean Up\, 9am (Meet at Brookswood Blvd. & Lodgepole Dr.)
DESCRIPTION:Get more information at the Southwest Bend Neighborhood Association’s Facebook Page.
URL:https://brookswoodmeadowplaza.com/calendar/southwest-bend-neighborhood-association-green-team-road-clean-up-9am-meet-at-brookswood-blvd-lodgepole-dr
CATEGORIES:Community
ATTACH;FMTTYPE=image/png:https://brookswoodmeadowplaza.com/wp-content/uploads/2020/08/60431779_2477936188885545_7001886441647112192_n.png
END:VEVENT
BEGIN:VEVENT
DTSTART;VALUE=DATE:20200428
DTEND;VALUE=DATE:20200429
DTSTAMP:20260421T021000
CREATED:20200518T225831Z
LAST-MODIFIED:20200518T225831Z
UID:11083-1588032000-1588118399@brookswoodmeadowplaza.com
SUMMARY:Military Discount Day at C.E. Lovejoy's (Show Your ID & Save 10%)
DESCRIPTION:
URL:https://brookswoodmeadowplaza.com/calendar/military-discount-day-at-c-e-lovejoys-show-your-id-save-10
LOCATION:Bend\, United States
CATEGORIES:Community,Groceries
ATTACH;FMTTYPE=image/jpeg:https://brookswoodmeadowplaza.com/wp-content/uploads/2018/05/3_military-discounts.jpg
END:VEVENT
BEGIN:VEVENT
DTSTART;VALUE=DATE:20200428
DTEND;VALUE=DATE:20200429
DTSTAMP:20260421T021000
CREATED:20200518T225831Z
LAST-MODIFIED:20200518T225831Z
UID:11083-1588032000-1588118399@brookswoodmeadowplaza.com
SUMMARY:Military Discount Day at C.E. Lovejoy's (Show Your ID & Save 10%)
DESCRIPTION:
URL:https://brookswoodmeadowplaza.com/calendar/military-discount-day-at-c-e-lovejoys-show-your-id-save-10
LOCATION:Bend\, United States
CATEGORIES:Community,Groceries
ATTACH;FMTTYPE=image/jpeg:https://brookswoodmeadowplaza.com/wp-content/uploads/2018/05/3_military-discounts.jpg
END:VEVENT
BEGIN:VEVENT
DTSTART;VALUE=DATE:20200428
DTEND;VALUE=DATE:20200429
DTSTAMP:20260421T021000
CREATED:20200518T225831Z
LAST-MODIFIED:20200518T225831Z
UID:11083-1588032000-1588118399@brookswoodmeadowplaza.com
SUMMARY:Military Discount Day at C.E. Lovejoy's (Show Your ID & Save 10%)
DESCRIPTION:
URL:https://brookswoodmeadowplaza.com/calendar/military-discount-day-at-c-e-lovejoys-show-your-id-save-10
LOCATION:Bend\, United States
CATEGORIES:Community,Groceries
ATTACH;FMTTYPE=image/jpeg:https://brookswoodmeadowplaza.com/wp-content/uploads/2018/05/3_military-discounts.jpg
END:VEVENT
BEGIN:VEVENT
DTSTART;VALUE=DATE:20200810
DTEND;VALUE=DATE:20200811
DTSTAMP:20260421T021000
CREATED:20200805T192250Z
LAST-MODIFIED:20200805T192250Z
UID:11358-1597017600-1597103999@brookswoodmeadowplaza.com
SUMMARY:Roots Art and Nature School Open House
DESCRIPTION:Learn more at https://www.facebook.com/events/729212804538442/?event_time_id=729212821205107. \n“Roots Art & Nature School is now enrolling our Kindergarten and first-grade classes! Visit our space and meet the program directors during our reservation-only open house dates. \n\n\n*In order to ensure each family has the proper space and time to check out Roots\, the open house is by reservation only. You must email ashley@rootsartnatureschool.com to schedule your time slot.*When it’s time to send your child to school\, you want to ensure their whole unique being is honored and nurtured. Our small learning community and intentionally designed Roots Curriculum integrating nature\, mindfulness\, play\, and process art provide the perfect environment to develop your child’s sense of wonder\, curiosity and creativity\, their relationship to their heart and body\, and their connection to the natural world. \nWhen you attend the Open House\, we will provide you with an information packet including samples from our Roots Curriculum and the Application for Admission. You’re also welcome to start the process of securing your limited spot by downloading the application and filling it out in advance.”
URL:https://brookswoodmeadowplaza.com/calendar/roots-art-and-nature-school-open-house-2
CATEGORIES:Art,Community,Kids/Family,Sports
ATTACH;FMTTYPE=image/jpeg:https://brookswoodmeadowplaza.com/wp-content/uploads/2020/07/Roots-Art-Nature-School-Logo-2.jpg
END:VEVENT
BEGIN:VEVENT
DTSTART;VALUE=DATE:20200809
DTEND;VALUE=DATE:20200810
DTSTAMP:20260421T021000
CREATED:20200805T191725Z
LAST-MODIFIED:20200805T191841Z
UID:11354-1596931200-1597017599@brookswoodmeadowplaza.com
SUMMARY:Roots Art and Nature School Open House
DESCRIPTION:Learn more at https://www.facebook.com/events/729212804538442/?event_time_id=729212821205107. \n“Roots Art & Nature School is now enrolling our Kindergarten and first-grade classes! Visit our space and meet the program directors during our reservation-only open house dates. \n\n\n*In order to ensure each family has the proper space and time to check out Roots\, the open house is by reservation only. You must email ashley@rootsartnatureschool.com to schedule your time slot.*When it’s time to send your child to school\, you want to ensure their whole unique being is honored and nurtured. Our small learning community and intentionally designed Roots Curriculum integrating nature\, mindfulness\, play\, and process art provide the perfect environment to develop your child’s sense of wonder\, curiosity and creativity\, their relationship to their heart and body\, and their connection to the natural world. \nWhen you attend the Open House\, we will provide you with an information packet including samples from our Roots Curriculum and the Application for Admission. You’re also welcome to start the process of securing your limited spot by downloading the application and filling it out in advance.”
URL:https://brookswoodmeadowplaza.com/calendar/roots-art-and-nature-school-open-house
CATEGORIES:Community,Kids/Family,School
ATTACH;FMTTYPE=image/jpeg:https://brookswoodmeadowplaza.com/wp-content/uploads/2020/07/Roots-Art-Nature-School-Logo-2.jpg
END:VEVENT
BEGIN:VEVENT
DTSTART;VALUE=DATE:20200428
DTEND;VALUE=DATE:20200429
DTSTAMP:20260421T021000
CREATED:20200518T225831Z
LAST-MODIFIED:20200518T225831Z
UID:11083-1588032000-1588118399@brookswoodmeadowplaza.com
SUMMARY:Military Discount Day at C.E. Lovejoy's (Show Your ID & Save 10%)
DESCRIPTION:
URL:https://brookswoodmeadowplaza.com/calendar/military-discount-day-at-c-e-lovejoys-show-your-id-save-10
LOCATION:Bend\, United States
CATEGORIES:Community,Groceries
ATTACH;FMTTYPE=image/jpeg:https://brookswoodmeadowplaza.com/wp-content/uploads/2018/05/3_military-discounts.jpg
END:VEVENT
BEGIN:VEVENT
DTSTART;TZID=America/Los_Angeles:20200731T090000
DTEND;TZID=America/Los_Angeles:20200731T090000
DTSTAMP:20260421T021000
CREATED:20200728T185029Z
LAST-MODIFIED:20200728T185029Z
UID:11337-1596186000-1596186000@brookswoodmeadowplaza.com
SUMMARY:Southwest Bend Neighborhood Association Green Team Brookswood Clean Up\, 9am (Meet at Brookswood Blvd. & Lodgepole Dr.)
DESCRIPTION:Visit www.southwestbendna.org for more information!
URL:https://brookswoodmeadowplaza.com/calendar/southwest-bend-neighborhood-association-green-team-brookswood-clean-up-9am-meet-at-brookswood-blvd-lodgepole-dr
CATEGORIES:Community,Kids/Family,Summer
ATTACH;FMTTYPE=image/png:https://brookswoodmeadowplaza.com/wp-content/uploads/2020/07/Screen-Shot-2020-07-28-at-11.44.30-AM.png
END:VEVENT
BEGIN:VEVENT
DTSTART;VALUE=DATE:20200428
DTEND;VALUE=DATE:20200429
DTSTAMP:20260421T021000
CREATED:20200518T225831Z
LAST-MODIFIED:20200518T225831Z
UID:11083-1588032000-1588118399@brookswoodmeadowplaza.com
SUMMARY:Military Discount Day at C.E. Lovejoy's (Show Your ID & Save 10%)
DESCRIPTION:
URL:https://brookswoodmeadowplaza.com/calendar/military-discount-day-at-c-e-lovejoys-show-your-id-save-10
LOCATION:Bend\, United States
CATEGORIES:Community,Groceries
ATTACH;FMTTYPE=image/jpeg:https://brookswoodmeadowplaza.com/wp-content/uploads/2018/05/3_military-discounts.jpg
END:VEVENT
BEGIN:VEVENT
DTSTART;VALUE=DATE:20200428
DTEND;VALUE=DATE:20200429
DTSTAMP:20260421T021000
CREATED:20200518T225831Z
LAST-MODIFIED:20200518T225831Z
UID:11083-1588032000-1588118399@brookswoodmeadowplaza.com
SUMMARY:Military Discount Day at C.E. Lovejoy's (Show Your ID & Save 10%)
DESCRIPTION:
URL:https://brookswoodmeadowplaza.com/calendar/military-discount-day-at-c-e-lovejoys-show-your-id-save-10
LOCATION:Bend\, United States
CATEGORIES:Community,Groceries
ATTACH;FMTTYPE=image/jpeg:https://brookswoodmeadowplaza.com/wp-content/uploads/2018/05/3_military-discounts.jpg
END:VEVENT
BEGIN:VEVENT
DTSTART;VALUE=DATE:20200428
DTEND;VALUE=DATE:20200429
DTSTAMP:20260421T021000
CREATED:20200518T225831Z
LAST-MODIFIED:20200518T225831Z
UID:11083-1588032000-1588118399@brookswoodmeadowplaza.com
SUMMARY:Military Discount Day at C.E. Lovejoy's (Show Your ID & Save 10%)
DESCRIPTION:
URL:https://brookswoodmeadowplaza.com/calendar/military-discount-day-at-c-e-lovejoys-show-your-id-save-10
LOCATION:Bend\, United States
CATEGORIES:Community,Groceries
ATTACH;FMTTYPE=image/jpeg:https://brookswoodmeadowplaza.com/wp-content/uploads/2018/05/3_military-discounts.jpg
END:VEVENT
END:VCALENDAR