BEGIN:VCALENDAR
VERSION:2.0
PRODID:-//Brookswood Meadow Plaza - ECPv6.15.13.1//NONSGML v1.0//EN
CALSCALE:GREGORIAN
METHOD:PUBLISH
X-WR-CALNAME:Brookswood Meadow Plaza
X-ORIGINAL-URL:https://brookswoodmeadowplaza.com
X-WR-CALDESC:Events for Brookswood Meadow Plaza
REFRESH-INTERVAL;VALUE=DURATION:PT1H
X-Robots-Tag:noindex
X-PUBLISHED-TTL:PT1H
BEGIN:VTIMEZONE
TZID:America/Los_Angeles
BEGIN:DAYLIGHT
TZOFFSETFROM:-0800
TZOFFSETTO:-0700
TZNAME:PDT
DTSTART:20180311T100000
END:DAYLIGHT
BEGIN:STANDARD
TZOFFSETFROM:-0700
TZOFFSETTO:-0800
TZNAME:PST
DTSTART:20181104T090000
END:STANDARD
BEGIN:DAYLIGHT
TZOFFSETFROM:-0800
TZOFFSETTO:-0700
TZNAME:PDT
DTSTART:20190310T100000
END:DAYLIGHT
BEGIN:STANDARD
TZOFFSETFROM:-0700
TZOFFSETTO:-0800
TZNAME:PST
DTSTART:20191103T090000
END:STANDARD
BEGIN:DAYLIGHT
TZOFFSETFROM:-0800
TZOFFSETTO:-0700
TZNAME:PDT
DTSTART:20200308T100000
END:DAYLIGHT
BEGIN:STANDARD
TZOFFSETFROM:-0700
TZOFFSETTO:-0800
TZNAME:PST
DTSTART:20201101T090000
END:STANDARD
END:VTIMEZONE
BEGIN:VEVENT
DTSTART;TZID=America/Los_Angeles:20191119T183000
DTEND;TZID=America/Los_Angeles:20191119T193000
DTSTAMP:20260425T161506
CREATED:20190826T201731Z
LAST-MODIFIED:20191022T184619Z
UID:9849-1574188200-1574191800@brookswoodmeadowplaza.com
SUMMARY:Monthly Plant Spirit Meditation with Dr. Ashley Rieger\, ND at The Peoples Apothecary\, 6:30-7:30pm
DESCRIPTION:Learn more about Monthly Plant Spirit Meditation with Dr. Ashley Rieger\, ND at The Peoples Apothecary’s Facebook Page!
URL:https://brookswoodmeadowplaza.com/calendar/monthly-plant-spirit-meditation-with-dr-ashley-rieger-nd-at-fettle-botanic-bend-630-730pm-7
LOCATION:Bend\, United States
CATEGORIES:Community,Health,Well Being,Wellness
ATTACH;FMTTYPE=image/jpeg:https://brookswoodmeadowplaza.com/wp-content/uploads/2019/10/The-Peoples-Apothecary-Square-Logo.jpg
END:VEVENT
BEGIN:VEVENT
DTSTART;TZID=America/Los_Angeles:20191117T160000
DTEND;TZID=America/Los_Angeles:20191117T170000
DTSTAMP:20260425T161506
CREATED:20191010T003821Z
LAST-MODIFIED:20191010T003821Z
UID:10044-1574006400-1574010000@brookswoodmeadowplaza.com
SUMMARY:The Dailey Method – Bend Barre Studio Charity Class at Deschutes Brewery\, 4pm
DESCRIPTION:Learn more about The Dailey Method – Bend Barre Studio Charity Class at Deschutes Brewery at TDM’s Facebook Page!
URL:https://brookswoodmeadowplaza.com/calendar/the-dailey-method-bend-barre-studio-charity-class-at-deschutes-brewery-4pm
LOCATION:Bend\, United States
CATEGORIES:Barre Class,Charity/Fundraiser,Community,Fitness,Health,Well Being,Wellness
ATTACH;FMTTYPE=image/jpeg:https://brookswoodmeadowplaza.com/wp-content/uploads/2018/10/43074539_1151731088307534_5687740003711451136_n.jpg
END:VEVENT
BEGIN:VEVENT
DTSTART;TZID=America/Los_Angeles:20191116T171500
DTEND;TZID=America/Los_Angeles:20191116T181500
DTSTAMP:20260425T161506
CREATED:20191022T190656Z
LAST-MODIFIED:20191022T190656Z
UID:10127-1573924500-1573928100@brookswoodmeadowplaza.com
SUMMARY:Monthly Dream Circle with Dr. Jennifer Marie Lane at The Peoples Apothecary\, 5:15-6:15pm
DESCRIPTION:Learn more about Monthly Dream Circle with Dr. Jennifer Marie Lane at The Peoples Apothecary’s Facebook Page!
URL:https://brookswoodmeadowplaza.com/calendar/monthly-dream-circle-with-dr-jennifer-marie-lane-at-the-peoples-apothecary-515-615pm
LOCATION:Bend\, United States
CATEGORIES:Community,Health,Well Being,Wellness
ATTACH;FMTTYPE=image/jpeg:https://brookswoodmeadowplaza.com/wp-content/uploads/2019/10/The-Peoples-Apothecary-Square-Logo.jpg
END:VEVENT
BEGIN:VEVENT
DTSTART;TZID=America/Los_Angeles:20190911T073000
DTEND;TZID=America/Los_Angeles:20190911T100000
DTSTAMP:20260425T161506
CREATED:20190916T183257Z
LAST-MODIFIED:20190916T183257Z
UID:9922-1568187000-1568196000@brookswoodmeadowplaza.com
SUMMARY:Pancake Breakfast at C.E. Lovejoy's\, 7:30-10am
DESCRIPTION:Saturdays and Wednesdays are Pancake Breakfast Mornings at Lovejoy’s 7:30-10am! *HOT & FRESH Every Wednesday & Saturday* Two Pancakes\, a Sausage & a Small Coffee for $4.99 Eat them there or get them to go! Includes syrup and toppings. CELovejoys.com
URL:https://brookswoodmeadowplaza.com/calendar/pancake-breakfast-at-c-e-lovejoys-730-10am-2
LOCATION:Bend\, United States
CATEGORIES:Community,Food,Groceries,Kids/Family
ATTACH;FMTTYPE=image/jpeg:https://brookswoodmeadowplaza.com/wp-content/uploads/2019/06/pancakebreakfast_wedsat-7-30a_edited-1-copy.jpg
END:VEVENT
BEGIN:VEVENT
DTSTART;TZID=America/Los_Angeles:20191115T180000
DTEND;TZID=America/Los_Angeles:20191115T190000
DTSTAMP:20260425T161506
CREATED:20191010T003650Z
LAST-MODIFIED:20191010T003650Z
UID:10041-1573840800-1573844400@brookswoodmeadowplaza.com
SUMMARY:Dailey Date Night at The Dailey Method – Bend Barre Studio\, 6pm
DESCRIPTION:Learn more about Dailey Date Night at The Dailey Method – Bend Barre Studio‘s Facebook Page!
URL:https://brookswoodmeadowplaza.com/calendar/dailey-date-night-at-the-dailey-method-bend-barre-studio-6pm
LOCATION:Bend\, United States
CATEGORIES:Barre Class,Community,Fitness,Health,Well Being,Wellness
ATTACH;FMTTYPE=image/jpeg:https://brookswoodmeadowplaza.com/wp-content/uploads/2018/10/43074539_1151731088307534_5687740003711451136_n.jpg
END:VEVENT
BEGIN:VEVENT
DTSTART;TZID=America/Los_Angeles:20190911T073000
DTEND;TZID=America/Los_Angeles:20190911T100000
DTSTAMP:20260425T161506
CREATED:20190916T183257Z
LAST-MODIFIED:20190916T183257Z
UID:9922-1568187000-1568196000@brookswoodmeadowplaza.com
SUMMARY:Pancake Breakfast at C.E. Lovejoy's\, 7:30-10am
DESCRIPTION:Saturdays and Wednesdays are Pancake Breakfast Mornings at Lovejoy’s 7:30-10am! *HOT & FRESH Every Wednesday & Saturday* Two Pancakes\, a Sausage & a Small Coffee for $4.99 Eat them there or get them to go! Includes syrup and toppings. CELovejoys.com
URL:https://brookswoodmeadowplaza.com/calendar/pancake-breakfast-at-c-e-lovejoys-730-10am-2
LOCATION:Bend\, United States
CATEGORIES:Community,Food,Groceries,Kids/Family
ATTACH;FMTTYPE=image/jpeg:https://brookswoodmeadowplaza.com/wp-content/uploads/2019/06/pancakebreakfast_wedsat-7-30a_edited-1-copy.jpg
END:VEVENT
BEGIN:VEVENT
DTSTART;TZID=America/Los_Angeles:20191110T100000
DTEND;TZID=America/Los_Angeles:20191110T140000
DTSTAMP:20260425T161506
CREATED:20191028T173817Z
LAST-MODIFIED:20191028T173817Z
UID:10153-1573380000-1573394400@brookswoodmeadowplaza.com
SUMMARY:Karma Sunday at The Peoples Apothecary\, 10am-2pm
DESCRIPTION:Learn more about Karma Sunday at The Peoples Apothecary’s Facebook Page!
URL:https://brookswoodmeadowplaza.com/calendar/karma-sunday-at-the-peoples-apothecary-10am-2pm
LOCATION:Bend\, United States
CATEGORIES:Community,Health,Well Being,Wellness
END:VEVENT
BEGIN:VEVENT
DTSTART;TZID=America/Los_Angeles:20191109T180000
DTEND;TZID=America/Los_Angeles:20191109T200000
DTSTAMP:20260425T161506
CREATED:20191010T003108Z
LAST-MODIFIED:20191010T003450Z
UID:10032-1573322400-1573329600@brookswoodmeadowplaza.com
SUMMARY:Parents’ Night Out (for kids!) at ARTdog Children’s Studio\, 6-8pm (Register at ARTdogBend.com)
DESCRIPTION:Learn more and register for Parents’ Night Out (for kids!) at ARTdog Children’s Studio\, 6-8pm at ARTdogBend.com!
URL:https://brookswoodmeadowplaza.com/calendar/parents-night-out-for-kids-at-artdog-childrens-studio-6-8pm-register-at-artdog-com-2
LOCATION:Bend\, United States
CATEGORIES:Art,Community,Kids/Family
ATTACH;FMTTYPE=image/png:https://brookswoodmeadowplaza.com/wp-content/uploads/2019/08/65256204_1337204583112492_9195278720196149248_o.png
END:VEVENT
BEGIN:VEVENT
DTSTART;TZID=America/Los_Angeles:20191109T100000
DTEND;TZID=America/Los_Angeles:20191109T140000
DTSTAMP:20260425T161506
CREATED:20191022T182705Z
LAST-MODIFIED:20191022T182705Z
UID:10104-1573293600-1573308000@brookswoodmeadowplaza.com
SUMMARY:Free Health Consultations with Crystal Ford Lac\, MAcOM at The Peoples Apothecary\, 10am-2pm
DESCRIPTION:Learn more about Free Health Consultations with Crystal Ford Lac\, MAcOM at The Peoples Apothecary’s Facebook Page! \n 
URL:https://brookswoodmeadowplaza.com/calendar/free-health-consultations-with-crystal-ford-lac-macom-at-the-peoples-apothecary-10am-2pm
LOCATION:Bend\, United States
CATEGORIES:Community,Health,Well Being,Wellness
ATTACH;FMTTYPE=image/jpeg:https://brookswoodmeadowplaza.com/wp-content/uploads/2019/10/The-Peoples-Apothecary-Square-Logo.jpg
END:VEVENT
BEGIN:VEVENT
DTSTART;TZID=America/Los_Angeles:20190911T073000
DTEND;TZID=America/Los_Angeles:20190911T100000
DTSTAMP:20260425T161506
CREATED:20190916T183257Z
LAST-MODIFIED:20190916T183257Z
UID:9922-1568187000-1568196000@brookswoodmeadowplaza.com
SUMMARY:Pancake Breakfast at C.E. Lovejoy's\, 7:30-10am
DESCRIPTION:Saturdays and Wednesdays are Pancake Breakfast Mornings at Lovejoy’s 7:30-10am! *HOT & FRESH Every Wednesday & Saturday* Two Pancakes\, a Sausage & a Small Coffee for $4.99 Eat them there or get them to go! Includes syrup and toppings. CELovejoys.com
URL:https://brookswoodmeadowplaza.com/calendar/pancake-breakfast-at-c-e-lovejoys-730-10am-2
LOCATION:Bend\, United States
CATEGORIES:Community,Food,Groceries,Kids/Family
ATTACH;FMTTYPE=image/jpeg:https://brookswoodmeadowplaza.com/wp-content/uploads/2019/06/pancakebreakfast_wedsat-7-30a_edited-1-copy.jpg
END:VEVENT
BEGIN:VEVENT
DTSTART;TZID=America/Los_Angeles:20191108T181500
DTEND;TZID=America/Los_Angeles:20191108T191500
DTSTAMP:20260425T161506
CREATED:20191028T173513Z
LAST-MODIFIED:20191028T173513Z
UID:10150-1573236900-1573240500@brookswoodmeadowplaza.com
SUMMARY:Body Mapping Plant Meditation with Jasmine: Datura at The Peoples Apothecary\, 6:15-7:15pm
DESCRIPTION:Learn more about Body Mapping Plant Meditation with Jasmine: Datura at The Peoples Apothecary’s Facebook Page!
URL:https://brookswoodmeadowplaza.com/calendar/body-mapping-plant-meditation-with-jasmine-datura-at-the-peoples-apothecary-615-715pm
LOCATION:Bend\, United States
CATEGORIES:Community,Health,Well Being,Wellness
ATTACH;FMTTYPE=image/jpeg:https://brookswoodmeadowplaza.com/wp-content/uploads/2019/10/The-Peoples-Apothecary-Square-Logo.jpg
END:VEVENT
BEGIN:VEVENT
DTSTART;TZID=America/Los_Angeles:20191106T160000
DTEND;TZID=America/Los_Angeles:20191106T180000
DTSTAMP:20260425T161506
CREATED:20191029T235127Z
LAST-MODIFIED:20191030T000511Z
UID:10161-1573056000-1573063200@brookswoodmeadowplaza.com
SUMMARY:Coffee with the Sheriff at TeaCupFuls. Join in for free house coffee and conversation with a Sheriff! 4-6pm
DESCRIPTION:Contact TeaCupFuls to learn more about Coffee with the Sheriff at TeaCupFuls!
URL:https://brookswoodmeadowplaza.com/calendar/coffee-with-the-sheriff-at-teacupfuls-join-in-for-free-house-coffee-and-conversation-with-a-sheriff-4-6pm
LOCATION:Bend\, United States
CATEGORIES:Community,Free
ATTACH;FMTTYPE=image/png:https://brookswoodmeadowplaza.com/wp-content/uploads/2018/02/24785132_1846067932351373_1156152299306864226_o-4-e1517521784997.png
END:VEVENT
BEGIN:VEVENT
DTSTART;TZID=America/Los_Angeles:20190911T073000
DTEND;TZID=America/Los_Angeles:20190911T100000
DTSTAMP:20260425T161506
CREATED:20190916T183257Z
LAST-MODIFIED:20190916T183257Z
UID:9922-1568187000-1568196000@brookswoodmeadowplaza.com
SUMMARY:Pancake Breakfast at C.E. Lovejoy's\, 7:30-10am
DESCRIPTION:Saturdays and Wednesdays are Pancake Breakfast Mornings at Lovejoy’s 7:30-10am! *HOT & FRESH Every Wednesday & Saturday* Two Pancakes\, a Sausage & a Small Coffee for $4.99 Eat them there or get them to go! Includes syrup and toppings. CELovejoys.com
URL:https://brookswoodmeadowplaza.com/calendar/pancake-breakfast-at-c-e-lovejoys-730-10am-2
LOCATION:Bend\, United States
CATEGORIES:Community,Food,Groceries,Kids/Family
ATTACH;FMTTYPE=image/jpeg:https://brookswoodmeadowplaza.com/wp-content/uploads/2019/06/pancakebreakfast_wedsat-7-30a_edited-1-copy.jpg
END:VEVENT
BEGIN:VEVENT
DTSTART;TZID=America/Los_Angeles:20191105T181500
DTEND;TZID=America/Los_Angeles:20191105T194500
DTSTAMP:20260425T161506
CREATED:20190826T202512Z
LAST-MODIFIED:20191022T184501Z
UID:9858-1572977700-1572983100@brookswoodmeadowplaza.com
SUMMARY:Group Healing Through Vibrational Medicine at The Peoples Apothecary\, 6:15-7:45pm
DESCRIPTION:Learn more about Group Healing Through Vibrational Medicine at The Peoples Apothecary’s Facebook Page!
URL:https://brookswoodmeadowplaza.com/calendar/group-healing-through-vibrational-medicine-at-fettle-botanic-bend-615-745pm-2
LOCATION:Bend\, United States
CATEGORIES:Community,Health,Well Being,Wellness
ATTACH;FMTTYPE=image/jpeg:https://brookswoodmeadowplaza.com/wp-content/uploads/2019/10/The-Peoples-Apothecary-Square-Logo.jpg
END:VEVENT
BEGIN:VEVENT
DTSTART;TZID=America/Los_Angeles:20191104T180000
DTEND;TZID=America/Los_Angeles:20191104T200000
DTSTAMP:20260425T161506
CREATED:20191028T173300Z
LAST-MODIFIED:20191028T173301Z
UID:10147-1572890400-1572897600@brookswoodmeadowplaza.com
SUMMARY:Local Slice Reopening Block Party! Everyone is welcome from 6-8pm to grab a free slice (limit one per customer)!!
DESCRIPTION:Learn more about Local Slice Reopening Block Party! Everyone is welcome from 6-8pm to grab a free slice (limit one per customer) at Local Slice!!  
URL:https://brookswoodmeadowplaza.com/calendar/local-slice-reopening-block-party-everyone-is-welcome-from-6-8pm-to-grab-a-free-slice-limit-one-per-customer
LOCATION:Bend\, United States
CATEGORIES:Community,Food,Free,Kids/Family
ATTACH;FMTTYPE=image/jpeg:https://brookswoodmeadowplaza.com/wp-content/uploads/2018/06/4416b5bd-26a8-492d-a5d5-c979cbd2ecda.jpg
END:VEVENT
BEGIN:VEVENT
DTSTART;TZID=America/Los_Angeles:20191102T100000
DTEND;TZID=America/Los_Angeles:20191102T170000
DTSTAMP:20260425T161506
CREATED:20191022T181326Z
LAST-MODIFIED:20191022T181327Z
UID:10095-1572688800-1572714000@brookswoodmeadowplaza.com
SUMMARY:Fettle/The Peoples Apothecary Rebranding Celebration * Tarot Readings\, Mini Consultations\, Local Music\, DIY Herb Fun for Kids\, Seasonal Teas & Elixers\, Raffles\, New Product Lines & More!* 10am-5pm
DESCRIPTION:Learn more about Fettle/The Peoples Apothecary Rebranding Celebration * Tarot Readings\, Mini Consultations\, Local Music\, DIY Herb Fun for Kids\, Seasonal Teas & Elixers\, Raffles\, New Product Lines & More!* at Fettle/The Peoples Apothecary’s Facebook Page!
URL:https://brookswoodmeadowplaza.com/calendar/fettle-the-peoples-apothecary-rebranding-celebration-tarot-readings-mini-consultations-local-music-diy-herb-fun-for-kids-seasonal-teas-elixers-raffles-new-product-lines-more-10am-5pm
LOCATION:Bend\, United States
CATEGORIES:Community,Health,Kids/Family,Well Being,Wellness
ATTACH;FMTTYPE=image/jpeg:https://brookswoodmeadowplaza.com/wp-content/uploads/2019/10/The-Peoples-Apothecary-Square-Logo.jpg
END:VEVENT
BEGIN:VEVENT
DTSTART;TZID=America/Los_Angeles:20191102T100000
DTEND;TZID=America/Los_Angeles:20191102T120000
DTSTAMP:20260425T161506
CREATED:20191022T181507Z
LAST-MODIFIED:20191022T181507Z
UID:10098-1572688800-1572696000@brookswoodmeadowplaza.com
SUMMARY:10am-12pm: Book Signing With Pixie Lighthorse at Fettle/The Peoples Apothecary\, 10am-12pm
DESCRIPTION:Learn more about Book Signing With Pixie Lighthorse at Fettle/The Peoples Apothecary’s Facebook Page!
URL:https://brookswoodmeadowplaza.com/calendar/10am-12pm-book-signing-with-pixie-lighthorse-at-fettle-the-peoples-apothecary-10am-12pm
LOCATION:Bend\, United States
CATEGORIES:Community,Health,Well Being,Wellness
ATTACH;FMTTYPE=image/jpeg:https://brookswoodmeadowplaza.com/wp-content/uploads/2019/10/The-Peoples-Apothecary-Square-Logo.jpg
END:VEVENT
BEGIN:VEVENT
DTSTART;TZID=America/Los_Angeles:20190911T073000
DTEND;TZID=America/Los_Angeles:20190911T100000
DTSTAMP:20260425T161506
CREATED:20190916T183257Z
LAST-MODIFIED:20190916T183257Z
UID:9922-1568187000-1568196000@brookswoodmeadowplaza.com
SUMMARY:Pancake Breakfast at C.E. Lovejoy's\, 7:30-10am
DESCRIPTION:Saturdays and Wednesdays are Pancake Breakfast Mornings at Lovejoy’s 7:30-10am! *HOT & FRESH Every Wednesday & Saturday* Two Pancakes\, a Sausage & a Small Coffee for $4.99 Eat them there or get them to go! Includes syrup and toppings. CELovejoys.com
URL:https://brookswoodmeadowplaza.com/calendar/pancake-breakfast-at-c-e-lovejoys-730-10am-2
LOCATION:Bend\, United States
CATEGORIES:Community,Food,Groceries,Kids/Family
ATTACH;FMTTYPE=image/jpeg:https://brookswoodmeadowplaza.com/wp-content/uploads/2019/06/pancakebreakfast_wedsat-7-30a_edited-1-copy.jpg
END:VEVENT
BEGIN:VEVENT
DTSTART;TZID=America/Los_Angeles:20191031T160000
DTEND;TZID=America/Los_Angeles:20191031T180000
DTSTAMP:20260425T161506
CREATED:20191011T235744Z
LAST-MODIFIED:20191028T181422Z
UID:10049-1572537600-1572544800@brookswoodmeadowplaza.com
SUMMARY:Trick or Treat at Brookswood Meadow Plaza\, 4-6pm (Some Businesses Offering Treats Throughout the Day - See Poster for Details)
DESCRIPTION:Young ghosts and goblins are invited to trick or treat on Halloween at Brookswood Meadow Plaza! Come show us your costumes and visit participating businesses for treats. Some merchants will be offering treats during their regular hours\, and most from 4-6pm. See the poster for details and get spooky! Spread the word to your friends and neighbors. All are welcome. \nList of Participating SPOOKTACULAR Businesses & Specific/Extended Trick-Or-Treat Schedule: \n•TeaCupFuls:  7am-6pm\n•C.E. Lovejoy’s Market:  7:30am-9pm\n•Brookswood Animal Clinic:  8am-6pm\n•Fettle Botanic Bend:  11am-6pm\n•ARTdog Children’s Studio: 4-6pm\n•Bend Mail and More:  4-6pm\n•INjoy Spa Salon: 4-6pm\n•La Rosa Mexican Kitchen:  4-6pm\n•The Dailey Method: 4-6pm\n•Local Slice: 4-6pm
URL:https://brookswoodmeadowplaza.com/calendar/trick-or-treat-at-brookswood-meadow-plaza-4-6pm-some-businesses-offering-treats-throughout-the-day-see-poster-for-details
LOCATION:Bend\, United States
CATEGORIES:Community,Free,Kids/Family
ATTACH;FMTTYPE=image/jpeg:https://brookswoodmeadowplaza.com/wp-content/uploads/2019/10/Trick-or-Treat-at-Brookswood-Meadow-Plaza-2019-update.jpg
END:VEVENT
BEGIN:VEVENT
DTSTART;TZID=America/Los_Angeles:20190911T073000
DTEND;TZID=America/Los_Angeles:20190911T100000
DTSTAMP:20260425T161506
CREATED:20190916T183257Z
LAST-MODIFIED:20190916T183257Z
UID:9922-1568187000-1568196000@brookswoodmeadowplaza.com
SUMMARY:Pancake Breakfast at C.E. Lovejoy's\, 7:30-10am
DESCRIPTION:Saturdays and Wednesdays are Pancake Breakfast Mornings at Lovejoy’s 7:30-10am! *HOT & FRESH Every Wednesday & Saturday* Two Pancakes\, a Sausage & a Small Coffee for $4.99 Eat them there or get them to go! Includes syrup and toppings. CELovejoys.com
URL:https://brookswoodmeadowplaza.com/calendar/pancake-breakfast-at-c-e-lovejoys-730-10am-2
LOCATION:Bend\, United States
CATEGORIES:Community,Food,Groceries,Kids/Family
ATTACH;FMTTYPE=image/jpeg:https://brookswoodmeadowplaza.com/wp-content/uploads/2019/06/pancakebreakfast_wedsat-7-30a_edited-1-copy.jpg
END:VEVENT
BEGIN:VEVENT
DTSTART;TZID=America/Los_Angeles:20191029T181500
DTEND;TZID=America/Los_Angeles:20191029T210000
DTSTAMP:20260425T161506
CREATED:20190910T191735Z
LAST-MODIFIED:20190910T191735Z
UID:9898-1572372900-1572382800@brookswoodmeadowplaza.com
SUMMARY:Understanding Medicinal Herbs from a 5-Element System of TCM at Fettle Botanic Bend\, 6:15-9pm
DESCRIPTION:Learn more about Understanding Medicinal Herbs from a 5-Element System of TCM at Fettle Botanic Bend‘s Facebook Page!
URL:https://brookswoodmeadowplaza.com/calendar/understanding-medicinal-herbs-from-a-5-element-system-of-tcm-at-fettle-botanic-bend-615-9pm
LOCATION:Bend\, United States
CATEGORIES:Community,Health,Well Being,Wellness
ATTACH;FMTTYPE=image/jpeg:https://brookswoodmeadowplaza.com/wp-content/uploads/2018/10/Logo-Bend.jpg
END:VEVENT
BEGIN:VEVENT
DTSTART;VALUE=DATE:20191028
DTEND;VALUE=DATE:20191029
DTSTAMP:20260425T161506
CREATED:20191016T210644Z
LAST-MODIFIED:20191016T210644Z
UID:10069-1572220800-1572307199@brookswoodmeadowplaza.com
SUMMARY:Half Price Fall Firefree Event Begins at Deschutes Recycling (at Knott Landfill)\, Runs 10/28/19-11/9/19
DESCRIPTION:For more information\, visit https://www.facebook.com/ProjectWildfre/photos/a.176898949022521/2510328452346214/?type=3&theater!
URL:https://brookswoodmeadowplaza.com/calendar/half-price-fall-firefree-event-begins-at-deschutes-recycling-at-knott-landfill-runs-10-28-19-11-9-19
LOCATION:Bend\, United States
CATEGORIES:Community
ATTACH;FMTTYPE=image/jpeg:https://brookswoodmeadowplaza.com/wp-content/uploads/2019/10/71764181_2510328455679547_3948737028648075264_o.jpg
END:VEVENT
BEGIN:VEVENT
DTSTART;TZID=America/Los_Angeles:20191026T110000
DTEND;TZID=America/Los_Angeles:20191026T123000
DTSTAMP:20260425T161506
CREATED:20191016T210106Z
LAST-MODIFIED:20191016T210106Z
UID:10066-1572087600-1572093000@brookswoodmeadowplaza.com
SUMMARY:Haunted Doghouse Workshop – Register at ARTdog.com\, 11am-12:30pm
DESCRIPTION:Haunted Doghouse Workshop – Register at ARTdog.com! \n 
URL:https://brookswoodmeadowplaza.com/calendar/haunted-doghouse-workshop-register-at-artdog-com-11am-1230pm
LOCATION:Bend\, United States
CATEGORIES:Art,Community,Kids/Family
ATTACH;FMTTYPE=image/png:https://brookswoodmeadowplaza.com/wp-content/uploads/2019/08/65256204_1337204583112492_9195278720196149248_o.png
END:VEVENT
BEGIN:VEVENT
DTSTART;TZID=America/Los_Angeles:20190911T073000
DTEND;TZID=America/Los_Angeles:20190911T100000
DTSTAMP:20260425T161506
CREATED:20190916T183257Z
LAST-MODIFIED:20190916T183257Z
UID:9922-1568187000-1568196000@brookswoodmeadowplaza.com
SUMMARY:Pancake Breakfast at C.E. Lovejoy's\, 7:30-10am
DESCRIPTION:Saturdays and Wednesdays are Pancake Breakfast Mornings at Lovejoy’s 7:30-10am! *HOT & FRESH Every Wednesday & Saturday* Two Pancakes\, a Sausage & a Small Coffee for $4.99 Eat them there or get them to go! Includes syrup and toppings. CELovejoys.com
URL:https://brookswoodmeadowplaza.com/calendar/pancake-breakfast-at-c-e-lovejoys-730-10am-2
LOCATION:Bend\, United States
CATEGORIES:Community,Food,Groceries,Kids/Family
ATTACH;FMTTYPE=image/jpeg:https://brookswoodmeadowplaza.com/wp-content/uploads/2019/06/pancakebreakfast_wedsat-7-30a_edited-1-copy.jpg
END:VEVENT
BEGIN:VEVENT
DTSTART;TZID=America/Los_Angeles:20191025T183000
DTEND;TZID=America/Los_Angeles:20191025T200000
DTSTAMP:20260425T161506
CREATED:20190925T170845Z
LAST-MODIFIED:20190925T170845Z
UID:9988-1572028200-1572033600@brookswoodmeadowplaza.com
SUMMARY:Fire Cider Workshop at Fettle Botanic Bend\, 6:30-8pm
DESCRIPTION:Learn more about Fire Cider Workshop at Fettle Botanic Bend’s Facebook Page!
URL:https://brookswoodmeadowplaza.com/calendar/fire-cider-workshop-at-fettle-botanic-bend-630-8pm
LOCATION:Bend\, United States
CATEGORIES:Community,Health,Well Being,Wellness
ATTACH;FMTTYPE=image/jpeg:https://brookswoodmeadowplaza.com/wp-content/uploads/2018/10/Logo-Bend.jpg
END:VEVENT
BEGIN:VEVENT
DTSTART;TZID=America/Los_Angeles:20190911T073000
DTEND;TZID=America/Los_Angeles:20190911T100000
DTSTAMP:20260425T161506
CREATED:20190916T183257Z
LAST-MODIFIED:20190916T183257Z
UID:9922-1568187000-1568196000@brookswoodmeadowplaza.com
SUMMARY:Pancake Breakfast at C.E. Lovejoy's\, 7:30-10am
DESCRIPTION:Saturdays and Wednesdays are Pancake Breakfast Mornings at Lovejoy’s 7:30-10am! *HOT & FRESH Every Wednesday & Saturday* Two Pancakes\, a Sausage & a Small Coffee for $4.99 Eat them there or get them to go! Includes syrup and toppings. CELovejoys.com
URL:https://brookswoodmeadowplaza.com/calendar/pancake-breakfast-at-c-e-lovejoys-730-10am-2
LOCATION:Bend\, United States
CATEGORIES:Community,Food,Groceries,Kids/Family
ATTACH;FMTTYPE=image/jpeg:https://brookswoodmeadowplaza.com/wp-content/uploads/2019/06/pancakebreakfast_wedsat-7-30a_edited-1-copy.jpg
END:VEVENT
BEGIN:VEVENT
DTSTART;VALUE=DATE:20191023
DTEND;VALUE=DATE:20191026
DTSTAMP:20260425T161506
CREATED:20191016T205602Z
LAST-MODIFIED:20191016T205604Z
UID:10063-1571788800-1572047999@brookswoodmeadowplaza.com
SUMMARY:No School Art Camps – Register at ARTdog.com
DESCRIPTION:No School Art Camps 10/23\, 10/24 & 10/25 – Register at ARTdog.com!
URL:https://brookswoodmeadowplaza.com/calendar/no-school-art-camps-register-at-artdog-com
LOCATION:Bend\, United States
CATEGORIES:Art,Community,Kids/Family
ATTACH;FMTTYPE=image/png:https://brookswoodmeadowplaza.com/wp-content/uploads/2019/08/65256204_1337204583112492_9195278720196149248_o.png
END:VEVENT
BEGIN:VEVENT
DTSTART;TZID=America/Los_Angeles:20191022T181500
DTEND;TZID=America/Los_Angeles:20191022T193000
DTSTAMP:20260425T161506
CREATED:20190910T191532Z
LAST-MODIFIED:20190910T191532Z
UID:9895-1571768100-1571772600@brookswoodmeadowplaza.com
SUMMARY:Energy Basics with Cinnamon Rose at Fettle Botanic Bend\, 6:15-7:30pm
DESCRIPTION:Learn more about Energy Basics with Cinnamon Rose at Fettle Botanic Bend‘s Facebook Page!
URL:https://brookswoodmeadowplaza.com/calendar/energy-basics-with-cinnamon-rose-at-fettle-botanic-bend-615-730pm-2
LOCATION:Bend\, United States
CATEGORIES:Community,Health,Well Being,Wellness
ATTACH;FMTTYPE=image/jpeg:https://brookswoodmeadowplaza.com/wp-content/uploads/2018/10/Logo-Bend.jpg
END:VEVENT
BEGIN:VEVENT
DTSTART;TZID=America/Los_Angeles:20191019T180000
DTEND;TZID=America/Los_Angeles:20191019T200000
DTSTAMP:20260425T161506
CREATED:20191010T002932Z
LAST-MODIFIED:20191010T003357Z
UID:10029-1571508000-1571515200@brookswoodmeadowplaza.com
SUMMARY:Parents’ Night Out (for kids!) at ARTdog Children’s Studio\, 6-8pm (Register at ARTdogBend.com)
DESCRIPTION:Learn more and register for Parents’ Night Out (for kids!) at ARTdog Children’s Studio‘s website!
URL:https://brookswoodmeadowplaza.com/calendar/parents-night-out-for-kids-at-artdog-childrens-studio-6-8pm-register-at-artdog-com
LOCATION:Bend\, United States
CATEGORIES:Art,Community,Kids/Family
ATTACH;FMTTYPE=image/png:https://brookswoodmeadowplaza.com/wp-content/uploads/2019/08/65256204_1337204583112492_9195278720196149248_o.png
END:VEVENT
BEGIN:VEVENT
DTSTART;TZID=America/Los_Angeles:20190911T073000
DTEND;TZID=America/Los_Angeles:20190911T100000
DTSTAMP:20260425T161506
CREATED:20190916T183257Z
LAST-MODIFIED:20190916T183257Z
UID:9922-1568187000-1568196000@brookswoodmeadowplaza.com
SUMMARY:Pancake Breakfast at C.E. Lovejoy's\, 7:30-10am
DESCRIPTION:Saturdays and Wednesdays are Pancake Breakfast Mornings at Lovejoy’s 7:30-10am! *HOT & FRESH Every Wednesday & Saturday* Two Pancakes\, a Sausage & a Small Coffee for $4.99 Eat them there or get them to go! Includes syrup and toppings. CELovejoys.com
URL:https://brookswoodmeadowplaza.com/calendar/pancake-breakfast-at-c-e-lovejoys-730-10am-2
LOCATION:Bend\, United States
CATEGORIES:Community,Food,Groceries,Kids/Family
ATTACH;FMTTYPE=image/jpeg:https://brookswoodmeadowplaza.com/wp-content/uploads/2019/06/pancakebreakfast_wedsat-7-30a_edited-1-copy.jpg
END:VEVENT
END:VCALENDAR