BEGIN:VCALENDAR
VERSION:2.0
PRODID:-//Brookswood Meadow Plaza - ECPv6.15.13.1//NONSGML v1.0//EN
CALSCALE:GREGORIAN
METHOD:PUBLISH
X-WR-CALNAME:Brookswood Meadow Plaza
X-ORIGINAL-URL:https://brookswoodmeadowplaza.com
X-WR-CALDESC:Events for Brookswood Meadow Plaza
REFRESH-INTERVAL;VALUE=DURATION:PT1H
X-Robots-Tag:noindex
X-PUBLISHED-TTL:PT1H
BEGIN:VTIMEZONE
TZID:America/Los_Angeles
BEGIN:DAYLIGHT
TZOFFSETFROM:-0800
TZOFFSETTO:-0700
TZNAME:PDT
DTSTART:20170312T100000
END:DAYLIGHT
BEGIN:STANDARD
TZOFFSETFROM:-0700
TZOFFSETTO:-0800
TZNAME:PST
DTSTART:20171105T090000
END:STANDARD
BEGIN:DAYLIGHT
TZOFFSETFROM:-0800
TZOFFSETTO:-0700
TZNAME:PDT
DTSTART:20180311T100000
END:DAYLIGHT
BEGIN:STANDARD
TZOFFSETFROM:-0700
TZOFFSETTO:-0800
TZNAME:PST
DTSTART:20181104T090000
END:STANDARD
BEGIN:DAYLIGHT
TZOFFSETFROM:-0800
TZOFFSETTO:-0700
TZNAME:PDT
DTSTART:20190310T100000
END:DAYLIGHT
BEGIN:STANDARD
TZOFFSETFROM:-0700
TZOFFSETTO:-0800
TZNAME:PST
DTSTART:20191103T090000
END:STANDARD
BEGIN:DAYLIGHT
TZOFFSETFROM:-0800
TZOFFSETTO:-0700
TZNAME:PDT
DTSTART:20200308T100000
END:DAYLIGHT
BEGIN:STANDARD
TZOFFSETFROM:-0700
TZOFFSETTO:-0800
TZNAME:PST
DTSTART:20201101T090000
END:STANDARD
END:VTIMEZONE
BEGIN:VEVENT
DTSTART;TZID=America/Los_Angeles:20190828T143000
DTEND;TZID=America/Los_Angeles:20190828T153000
DTSTAMP:20260425T141224
CREATED:20190822T223623Z
LAST-MODIFIED:20190822T223623Z
UID:9817-1567002600-1567006200@brookswoodmeadowplaza.com
SUMMARY:Free Barre "Mock" Class with Taylor at The Dailey Method - Bend Barre Studio\, 2:30pm
DESCRIPTION:Learn more about the Free Barre “Mock” Class with Taylor at The Dailey Method – Bend Barre Studio’s Facebook Page. \n 
URL:https://brookswoodmeadowplaza.com/calendar/free-barre-mock-class-with-taylor-at-the-dailey-method-bend-barre-studio-230pm
LOCATION:Bend\, United States
CATEGORIES:Barre Class,Community,Fitness,Free,Well Being,Wellness
ATTACH;FMTTYPE=image/jpeg:https://brookswoodmeadowplaza.com/wp-content/uploads/2018/10/43074539_1151731088307534_5687740003711451136_n.jpg
END:VEVENT
BEGIN:VEVENT
DTSTART;TZID=America/Los_Angeles:20190824T150000
DTEND;TZID=America/Los_Angeles:20190824T160000
DTSTAMP:20260425T141224
CREATED:20190822T223019Z
LAST-MODIFIED:20190822T223019Z
UID:9813-1566658800-1566662400@brookswoodmeadowplaza.com
SUMMARY:Free Barre "Mock" Class with Taylor at The Dailey Method - Bend Barre Studio\, 3pm
DESCRIPTION:Learn more about the Free Barre “Mock” Class with Taylor at The Dailey Method – Bend Barre Studio’s Facebook Page! \n 
URL:https://brookswoodmeadowplaza.com/calendar/free-barre-mock-class-with-taylor-at-the-dailey-method-bend-barre-studio-3pm
LOCATION:Bend\, United States
CATEGORIES:Barre Class,Community,Fitness,Free,Health,Well Being,Wellness
ATTACH;FMTTYPE=image/jpeg:https://brookswoodmeadowplaza.com/wp-content/uploads/2018/10/43074539_1151731088307534_5687740003711451136_n.jpg
END:VEVENT
BEGIN:VEVENT
DTSTART;TZID=America/Los_Angeles:20190811T150000
DTEND;TZID=America/Los_Angeles:20190811T160000
DTSTAMP:20260425T141224
CREATED:20190702T173401Z
LAST-MODIFIED:20190702T173401Z
UID:9588-1565535600-1565539200@brookswoodmeadowplaza.com
SUMMARY:Barre Meets Yoga Class at The Dailey Method-Bend Barre Studio\, 3-4pm
DESCRIPTION:Learn more about the Barre Meets Yoga Class at The Dailey Method’s Facebook Page!
URL:https://brookswoodmeadowplaza.com/calendar/barre-meets-yoga-class-at-the-dailey-method-bend-barre-studio-3-4pm
LOCATION:Bend\, United States
CATEGORIES:Barre Class,Community,Fitness,Holiday,Summer,Well Being,Wellness,Yoga
ATTACH;FMTTYPE=image/jpeg:https://brookswoodmeadowplaza.com/wp-content/uploads/2018/10/43074539_1151731088307534_5687740003711451136_n.jpg
END:VEVENT
BEGIN:VEVENT
DTSTART;TZID=America/Los_Angeles:20190721T160000
DTEND;TZID=America/Los_Angeles:20190721T160000
DTSTAMP:20260425T141224
CREATED:20190702T173155Z
LAST-MODIFIED:20190702T173155Z
UID:9585-1563724800-1563724800@brookswoodmeadowplaza.com
SUMMARY:Charity Class with The Dailey Method-Bend Barre Studio at Deschutes Brewery\, 4pm
DESCRIPTION:Learn more about The Dailey Method-Bend Barre Studio’s Charity Class at Deschutes Brewery by visiting The Dailey Method’s Facebook Page!
URL:https://brookswoodmeadowplaza.com/calendar/charity-class-with-the-dailey-method-bend-barre-studio-at-deschutes-brewery-4pm
LOCATION:Bend\, United States
CATEGORIES:Barre Class,Charity/Fundraiser,Community,Fitness,Health,Well Being,Wellness
ATTACH;FMTTYPE=image/jpeg:https://brookswoodmeadowplaza.com/wp-content/uploads/2018/10/43074539_1151731088307534_5687740003711451136_n.jpg
END:VEVENT
BEGIN:VEVENT
DTSTART;TZID=America/Los_Angeles:20190720T110000
DTEND;TZID=America/Los_Angeles:20190720T114500
DTSTAMP:20260425T141224
CREATED:20190702T172843Z
LAST-MODIFIED:20190702T172843Z
UID:9581-1563620400-1563623100@brookswoodmeadowplaza.com
SUMMARY:Mom & Me Class at The Dailey Method-Bend Barre Studio\, 11-11:45am
DESCRIPTION:Learn more about Mom & Me Class at The Dailey Method-Bend Barre Studio at The Dailey Method’s Facebook Page!
URL:https://brookswoodmeadowplaza.com/calendar/mom-me-class-at-the-dailey-method-bend-barre-studio-11-1145am
LOCATION:Bend\, United States
CATEGORIES:Barre Class,Community,Fitness,Health,Kids/Family,Summer,Well Being,Wellness
ATTACH;FMTTYPE=image/jpeg:https://brookswoodmeadowplaza.com/wp-content/uploads/2018/10/43074539_1151731088307534_5687740003711451136_n.jpg
END:VEVENT
BEGIN:VEVENT
DTSTART;TZID=America/Los_Angeles:20190711T170000
DTEND;TZID=America/Los_Angeles:20190711T190000
DTSTAMP:20260425T141224
CREATED:20190702T172513Z
LAST-MODIFIED:20190702T172513Z
UID:9578-1562864400-1562871600@brookswoodmeadowplaza.com
SUMMARY:"Dailey Date Night" at The Dailey Method (Followed by a Beer on Them at Lovejoy's Beer Garden)\, 6pm
DESCRIPTION:“Make it a Dailey Date! and join us for a fun night out! Start the night with a Barre class at The Dailey Method-Bend Barre Studio followed by a beer on us at C.E. Lovejoy’s Beer & Wine Garden! Bring your date (significant other\, spouse\, boyfriend\, girlfriend or your bestie!) to class with you!”  Learn more and register at The Dailey Method – Bend Barre Studio!
URL:https://brookswoodmeadowplaza.com/calendar/dailey-date-night-at-the-dailey-method-followed-by-a-beer-on-them-at-lovejoys-beer-garden-6pm
LOCATION:Bend\, United States
CATEGORIES:Barre Class,Beer,Community,Fitness,Health,Music,Well Being,Wellness
ATTACH;FMTTYPE=image/jpeg:https://brookswoodmeadowplaza.com/wp-content/uploads/2018/01/26993930_975565139257464_3022578436699537621_n-e1517248320594.jpg
END:VEVENT
BEGIN:VEVENT
DTSTART;VALUE=DATE:20190608
DTEND;VALUE=DATE:20190610
DTSTAMP:20260425T141224
CREATED:20190522T184205Z
LAST-MODIFIED:20190522T184206Z
UID:9375-1559952000-1560124799@brookswoodmeadowplaza.com
SUMMARY:Summer Open House at The Dailey Method - Bend Barre Studio * Free Classes for New Students!
DESCRIPTION:From The Dailey Method’s Facebook Page: \n“Summer Open House – FREE Classes for New Students!\nCome discover the Dailey difference at our Open House on June 8th & 9th!\nNow is the perfect time to try out our studio and enter the Summer months feeling confident! To help jumpstart your Summer goals\, we will be offering two days of FREE CLASSES for first-time students!\n✨Free Class Times✨\n– Saturday\, June 8th 8:30am & 10:00am\n– Sunday\, June 9th 8:30am & 10:00am\n✨ Summer Special Offer✨\nNew Clients receive $10 off our New Client Special:\n4 Weeks of Unlimited Classes for only $79! (regularly $89)\n*Offer available at the Open House only\nDiscover a more confident you just in time for Summer!\nReserve your space today:\nhttps://clients.mindbodyonline.com/classic/ws?studioid=565539&stype=-7&sVT=5&sView=week&sLoc=1&date=06/08/19\n*Please note: free class applies to first-time students only.\n*Spaces will fill quickly\, schedule today!\n*Childcare available for $3 per child.”
URL:https://brookswoodmeadowplaza.com/calendar/summer-open-house-at-the-dailey-method-bend-barre-studio-free-classes-for-new-students
LOCATION:Bend\, United States
CATEGORIES:Barre Class,Community,Fitness,Free,Health,Summer,Well Being,Wellness
ATTACH;FMTTYPE=image/jpeg:https://brookswoodmeadowplaza.com/wp-content/uploads/2019/05/60542890_1298432960304012_8430141394609242112_o.jpg
END:VEVENT
BEGIN:VEVENT
DTSTART;TZID=America/Los_Angeles:20190519T160000
DTEND;TZID=America/Los_Angeles:20190519T170000
DTSTAMP:20260425T141224
CREATED:20190513T175451Z
LAST-MODIFIED:20190513T175451Z
UID:9263-1558281600-1558285200@brookswoodmeadowplaza.com
SUMMARY:The Dailey Method Charity Class to support Shriners Run for a Child! at Deschutes Brewery\, 4-5pm
DESCRIPTION:Learn more about The Dailey Method Charity Class to support Shriners Run for a Child! at Deschutes Brewery at The Dailey Method – Bend Barre Studio’s Facebook Page.
URL:https://brookswoodmeadowplaza.com/calendar/the-dailey-method-charity-class-to-support-shriners-run-for-a-child-at-deschutes-brewery-4-5pm
LOCATION:Bend\, United States
CATEGORIES:Barre Class,Charity/Fundraiser,Community,Fitness,Health,Well Being,Wellness
ATTACH;FMTTYPE=image/jpeg:https://brookswoodmeadowplaza.com/wp-content/uploads/2018/10/43074539_1151731088307534_5687740003711451136_n.jpg
END:VEVENT
BEGIN:VEVENT
DTSTART;TZID=America/Los_Angeles:20190513T111500
DTEND;TZID=America/Los_Angeles:20190513T111500
DTSTAMP:20260425T141224
CREATED:20190506T161925Z
LAST-MODIFIED:20190506T161925Z
UID:9200-1557746100-1557746100@brookswoodmeadowplaza.com
SUMMARY:Free Teacher Trainee Mock Class at The Dailey Method\, 11:15am
DESCRIPTION:Learn more at The Dailey Method’s Facebook Page!
URL:https://brookswoodmeadowplaza.com/calendar/free-teacher-trainee-mock-class-at-the-dailey-method-1115am
LOCATION:Bend\, United States
CATEGORIES:Barre Class,Community,Fitness,Free,Health,Well Being,Wellness
ATTACH;FMTTYPE=image/jpeg:https://brookswoodmeadowplaza.com/wp-content/uploads/2018/10/43074539_1151731088307534_5687740003711451136_n.jpg
END:VEVENT
BEGIN:VEVENT
DTSTART;TZID=America/Los_Angeles:20190512T090000
DTEND;TZID=America/Los_Angeles:20190512T090000
DTSTAMP:20260425T141224
CREATED:20190501T190048Z
LAST-MODIFIED:20190501T190048Z
UID:9166-1557651600-1557651600@brookswoodmeadowplaza.com
SUMMARY:Mothers Day Celebration at The Dailey Method!  9:00 am Class\, Swag Bags & Refreshments After Class
DESCRIPTION:Learn more about the Mothers Day Celebration at The Dailey Method – 9:00 am Class\, Swag Bags & Refreshments After Class at their Facebook Page!
URL:https://brookswoodmeadowplaza.com/calendar/mothers-day-celebration-at-the-dailey-method-900-am-class-swag-bags-refreshments-after-class
LOCATION:Bend\, United States
CATEGORIES:Barre Class,Community,Fitness,Health,Well Being,Wellness
ATTACH;FMTTYPE=image/jpeg:https://brookswoodmeadowplaza.com/wp-content/uploads/2018/10/43074539_1151731088307534_5687740003711451136_n.jpg
END:VEVENT
BEGIN:VEVENT
DTSTART;TZID=America/Los_Angeles:20190509T110000
DTEND;TZID=America/Los_Angeles:20190509T110000
DTSTAMP:20260425T141224
CREATED:20190506T161742Z
LAST-MODIFIED:20190506T161742Z
UID:9197-1557399600-1557399600@brookswoodmeadowplaza.com
SUMMARY:Free Teacher Trainee Mock Class at The Dailey Method\, 11am
DESCRIPTION:Learn more at The Dailey Method’s Facebook Page!
URL:https://brookswoodmeadowplaza.com/calendar/free-teacher-trainee-mock-class-at-the-dailey-method-11am
LOCATION:Bend\, United States
CATEGORIES:Barre Class,Community,Fitness,Free,Health,Well Being,Wellness
ATTACH;FMTTYPE=image/jpeg:https://brookswoodmeadowplaza.com/wp-content/uploads/2018/10/43074539_1151731088307534_5687740003711451136_n.jpg
END:VEVENT
BEGIN:VEVENT
DTSTART;TZID=America/Los_Angeles:20190503T181500
DTEND;TZID=America/Los_Angeles:20190503T200000
DTSTAMP:20260425T141224
CREATED:20190501T185715Z
LAST-MODIFIED:20190501T185715Z
UID:9163-1556907300-1556913600@brookswoodmeadowplaza.com
SUMMARY:The Wise Years: Let's Talk Menopause! at Fettle Botanic Bend\, 6:15-8pm
DESCRIPTION:Learn more about The Wise Years: Let’s Talk Menopause! at Fettle Botanic Bend’s Facebook Page! \n 
URL:https://brookswoodmeadowplaza.com/calendar/the-wise-years-lets-talk-menopause-at-fettle-botanic-bend-615-8pm
LOCATION:Bend\, United States
CATEGORIES:Community,Fitness,Food,Health,Well Being,Wellness
ATTACH;FMTTYPE=image/jpeg:https://brookswoodmeadowplaza.com/wp-content/uploads/2018/10/Logo-Bend.jpg
END:VEVENT
BEGIN:VEVENT
DTSTART;VALUE=DATE:20190413
DTEND;VALUE=DATE:20190415
DTSTAMP:20260425T141224
CREATED:20190321T202833Z
LAST-MODIFIED:20190321T202834Z
UID:8820-1555113600-1555286399@brookswoodmeadowplaza.com
SUMMARY:Spring Open House at The Dailey Method-Bend Barre Studio (Sat. & Sun.)!
DESCRIPTION:Visit their website: The Dailey Method-Bend Barre Studio for information and details!
URL:https://brookswoodmeadowplaza.com/calendar/spring-open-house-at-the-dailey-method-bend-barre-studio-sat-sun
LOCATION:Bend\, United States
CATEGORIES:Barre Class,Community,Fitness,Health,Wellness
ATTACH;FMTTYPE=image/jpeg:https://brookswoodmeadowplaza.com/wp-content/uploads/2018/10/43074539_1151731088307534_5687740003711451136_n.jpg
END:VEVENT
BEGIN:VEVENT
DTSTART;TZID=America/Los_Angeles:20190224T160000
DTEND;TZID=America/Los_Angeles:20190224T170000
DTSTAMP:20260425T141224
CREATED:20190117T235651Z
LAST-MODIFIED:20190122T173446Z
UID:8168-1551024000-1551027600@brookswoodmeadowplaza.com
SUMMARY:Barre Meets Yoga! Class at The Dailey Method - Bend Barre Studio\, 4-5pm
DESCRIPTION:For registration instructions and additional information for Barre Meets Yoga! visit The Dailey Method – Bend Barre Studio’s Facebook Page.
URL:https://brookswoodmeadowplaza.com/calendar/barre-meets-yoga-class-at-the-dailey-method-bend-barre-studio-4-5pm
LOCATION:Bend\, United States
CATEGORIES:Barre Class,Fitness,Well Being,Yoga
ATTACH;FMTTYPE=image/jpeg:https://brookswoodmeadowplaza.com/wp-content/uploads/2018/10/43074539_1151731088307534_5687740003711451136_n.jpg
END:VEVENT
BEGIN:VEVENT
DTSTART;TZID=America/Los_Angeles:20190216T110000
DTEND;TZID=America/Los_Angeles:20190216T120000
DTSTAMP:20260425T141224
CREATED:20190129T175604Z
LAST-MODIFIED:20190129T175604Z
UID:8419-1550314800-1550318400@brookswoodmeadowplaza.com
SUMMARY:The Dailey Method Barre Class to Support KIDS Center at The Dailey Method-Bend Barre Studio\, 11am-12pm
DESCRIPTION:Click HERE to visit The Dailey Method-Bend Barre Studio’s Facebook Page for details and instructions for registering online!
URL:https://brookswoodmeadowplaza.com/calendar/the-dailey-method-barre-class-to-support-kids-center-at-the-dailey-method-bend-barre-studio-11am-12pm
LOCATION:Bend\, United States
CATEGORIES:Barre Class,Community,Fitness,Well Being,Wellness
ATTACH;FMTTYPE=image/jpeg:https://brookswoodmeadowplaza.com/wp-content/uploads/2018/10/43074539_1151731088307534_5687740003711451136_n.jpg
END:VEVENT
BEGIN:VEVENT
DTSTART;TZID=America/Los_Angeles:20190211T111500
DTEND;TZID=America/Los_Angeles:20190211T111500
DTSTAMP:20260425T141224
CREATED:20190122T183346Z
LAST-MODIFIED:20190122T183346Z
UID:8316-1549883700-1549883700@brookswoodmeadowplaza.com
SUMMARY:Free Mock Class with Teacher Trainee Leigh at The Dailey Method\, 11:15am
DESCRIPTION:https://www.facebook.com/thedaileymethodbend/posts/1219929084821067
URL:https://brookswoodmeadowplaza.com/calendar/free-mock-class-with-teacher-trainee-leigh-at-the-dailey-method-1115am-2
LOCATION:Bend\, United States
CATEGORIES:Barre Class,Community,Fitness,Health
ATTACH;FMTTYPE=image/jpeg:https://brookswoodmeadowplaza.com/wp-content/uploads/2018/10/43074539_1151731088307534_5687740003711451136_n.jpg
END:VEVENT
BEGIN:VEVENT
DTSTART;TZID=America/Los_Angeles:20190210T140000
DTEND;TZID=America/Los_Angeles:20190210T140000
DTSTAMP:20260425T141224
CREATED:20190122T183154Z
LAST-MODIFIED:20190122T183154Z
UID:8313-1549807200-1549807200@brookswoodmeadowplaza.com
SUMMARY:Free Mock Class with Teacher Trainee Leigh at The Dailey Method\, 2pm
DESCRIPTION:https://www.facebook.com/thedaileymethodbend/posts/1219929084821067
URL:https://brookswoodmeadowplaza.com/calendar/free-mock-class-with-teacher-trainee-leigh-at-the-dailey-method-2pm-3
LOCATION:Bend\, United States
CATEGORIES:Barre Class,Community,Fitness,Health
ATTACH;FMTTYPE=image/jpeg:https://brookswoodmeadowplaza.com/wp-content/uploads/2018/10/43074539_1151731088307534_5687740003711451136_n.jpg
END:VEVENT
BEGIN:VEVENT
DTSTART;TZID=America/Los_Angeles:20190208T180000
DTEND;TZID=America/Los_Angeles:20190208T180000
DTSTAMP:20260425T141224
CREATED:20190128T201032Z
LAST-MODIFIED:20190128T201049Z
UID:8389-1549648800-1549648800@brookswoodmeadowplaza.com
SUMMARY:Valentines Date Night Class at The Dailey Method\, 6pm
DESCRIPTION:Registration required\, click for details or visit The Dailey Method on Facebook: https://www.facebook.com/events/676778986053175/
URL:https://brookswoodmeadowplaza.com/calendar/valentines-date-night-class-at-the-dailey-method-6pm
LOCATION:Bend\, United States
CATEGORIES:Barre Class,Community,Fitness,Health
ATTACH;FMTTYPE=image/jpeg:https://brookswoodmeadowplaza.com/wp-content/uploads/2018/10/43074539_1151731088307534_5687740003711451136_n.jpg
END:VEVENT
BEGIN:VEVENT
DTSTART;TZID=America/Los_Angeles:20190207T111500
DTEND;TZID=America/Los_Angeles:20190207T111500
DTSTAMP:20260425T141224
CREATED:20190122T183044Z
LAST-MODIFIED:20190122T183044Z
UID:8310-1549538100-1549538100@brookswoodmeadowplaza.com
SUMMARY:Free Mock Class with Teacher Trainee Leigh at the Dailey Method\, 11:15am
DESCRIPTION:https://www.facebook.com/thedaileymethodbend/posts/1219929084821067
URL:https://brookswoodmeadowplaza.com/calendar/free-mock-class-with-teacher-trainee-leigh-at-the-dailey-method-1115am
LOCATION:Bend\, United States
CATEGORIES:Barre Class,Community,Fitness
ATTACH;FMTTYPE=image/jpeg:https://brookswoodmeadowplaza.com/wp-content/uploads/2018/10/43074539_1151731088307534_5687740003711451136_n.jpg
END:VEVENT
BEGIN:VEVENT
DTSTART;TZID=America/Los_Angeles:20190205T140000
DTEND;TZID=America/Los_Angeles:20190205T140000
DTSTAMP:20260425T141224
CREATED:20190122T182841Z
LAST-MODIFIED:20190122T182841Z
UID:8307-1549375200-1549375200@brookswoodmeadowplaza.com
SUMMARY:Free Mock Class with Teacher Trainee Leigh at The Dailey Method\, 2pm
DESCRIPTION:https://www.facebook.com/thedaileymethodbend/posts/1219929084821067
URL:https://brookswoodmeadowplaza.com/calendar/free-mock-class-with-teacher-trainee-leigh-at-the-dailey-method-2pm-2
LOCATION:Bend\, United States
CATEGORIES:Barre Class,Community,Fitness,Health
ATTACH;FMTTYPE=image/jpeg:https://brookswoodmeadowplaza.com/wp-content/uploads/2018/10/43074539_1151731088307534_5687740003711451136_n.jpg
END:VEVENT
BEGIN:VEVENT
DTSTART;TZID=America/Los_Angeles:20190204T140000
DTEND;TZID=America/Los_Angeles:20190204T140000
DTSTAMP:20260425T141224
CREATED:20190122T182636Z
LAST-MODIFIED:20190122T182636Z
UID:8303-1549288800-1549288800@brookswoodmeadowplaza.com
SUMMARY:Free Mock Class with Teacher Trainee Leigh at The Dailey Method\, 2pm
DESCRIPTION:https://www.facebook.com/thedaileymethodbend/posts/1219929084821067
URL:https://brookswoodmeadowplaza.com/calendar/free-mock-class-with-teacher-trainee-leigh-at-the-dailey-method-2pm
LOCATION:Bend\, United States
CATEGORIES:Barre Class,Community,Fitness
ATTACH;FMTTYPE=image/jpeg:https://brookswoodmeadowplaza.com/wp-content/uploads/2018/10/43074539_1151731088307534_5687740003711451136_n.jpg
END:VEVENT
BEGIN:VEVENT
DTSTART;TZID=America/Los_Angeles:20190203T093000
DTEND;TZID=America/Los_Angeles:20190203T103000
DTSTAMP:20260425T141224
CREATED:20190129T181203Z
LAST-MODIFIED:20190129T181203Z
UID:8434-1549186200-1549189800@brookswoodmeadowplaza.com
SUMMARY:Free The Dailey Method Barre Class (Offsite Location/Contact TDM)\, 9:30am
DESCRIPTION:Click HERE to visit The Dailey Method-Bend Barre Studio’s Facebook Page for contact information!
URL:https://brookswoodmeadowplaza.com/calendar/free-the-dailey-method-barre-class-offsite-location-contact-tdm-930am
LOCATION:Bend\, United States
CATEGORIES:Barre Class,Community,Fitness,Free,Health,Well Being,Wellness
ATTACH;FMTTYPE=image/jpeg:https://brookswoodmeadowplaza.com/wp-content/uploads/2018/10/43074539_1151731088307534_5687740003711451136_n.jpg
END:VEVENT
BEGIN:VEVENT
DTSTART;VALUE=DATE:20190112
DTEND;VALUE=DATE:20190114
DTSTAMP:20260425T141224
CREATED:20190105T010142Z
LAST-MODIFIED:20190105T010143Z
UID:8056-1547251200-1547423999@brookswoodmeadowplaza.com
SUMMARY:FREE CLASSES + FREE CHILDCARE 2-Day Open House at The Dailey Method! Reserve online for class times!
DESCRIPTION:FREE CLASSES + FREE CHILDCARE Open House at The Dailey Method! Reserve online for class times!
URL:https://brookswoodmeadowplaza.com/calendar/free-classes-free-childcare-2-day-open-house-at-the-dailey-method-reserve-online-for-class-times
LOCATION:Bend\, United States
CATEGORIES:Barre Class,Community,Fitness,Wellness
ATTACH;FMTTYPE=image/jpeg:https://brookswoodmeadowplaza.com/wp-content/uploads/2018/10/43074539_1151731088307534_5687740003711451136_n.jpg
END:VEVENT
BEGIN:VEVENT
DTSTART;TZID=America/Los_Angeles:20190103T181500
DTEND;TZID=America/Los_Angeles:20190103T191500
DTSTAMP:20260425T141224
CREATED:20181218T172439Z
LAST-MODIFIED:20181218T172439Z
UID:7998-1546539300-1546542900@brookswoodmeadowplaza.com
SUMMARY:Yoga Flow with Tin Bindi at Fettle Botanic Bend\, 6:15pm
DESCRIPTION:For details and additional information visit Fettle Botanic Bend’s Facebook Page!
URL:https://brookswoodmeadowplaza.com/calendar/yoga-flow-with-tin-bindi-at-fettle-botanic-bend-615pm
LOCATION:Bend\, United States
CATEGORIES:Fitness,Well Being,Yoga
ATTACH;FMTTYPE=image/jpeg:https://brookswoodmeadowplaza.com/wp-content/uploads/2018/10/Logo-Bend.jpg
END:VEVENT
BEGIN:VEVENT
DTSTART;TZID=America/Los_Angeles:20181201T110000
DTEND;TZID=America/Los_Angeles:20181201T110000
DTSTAMP:20260425T141224
CREATED:20181127T193730Z
LAST-MODIFIED:20181127T193730Z
UID:7522-1543662000-1543662000@brookswoodmeadowplaza.com
SUMMARY:Mom & Me Class at The Dailey Method - Bend Barre Studio\, 11am
DESCRIPTION:The Dailey Method – Bend Barre Studio
URL:https://brookswoodmeadowplaza.com/calendar/mom-me-class-at-the-dailey-method-bend-barre-studio-11am
LOCATION:Bend\, United States
CATEGORIES:Barre Class,Fitness,Kids/Family
ATTACH;FMTTYPE=image/jpeg:https://brookswoodmeadowplaza.com/wp-content/uploads/2018/10/43074539_1151731088307534_5687740003711451136_n.jpg
END:VEVENT
BEGIN:VEVENT
DTSTART;TZID=America/Los_Angeles:20181029T150000
DTEND;TZID=America/Los_Angeles:20181029T150000
DTSTAMP:20260425T141224
CREATED:20181022T200412Z
LAST-MODIFIED:20181022T200412Z
UID:7393-1540825200-1540825200@brookswoodmeadowplaza.com
SUMMARY:Free Community Class at The Dailey Method - Bend Barre Studio\, 3pm
DESCRIPTION:From The Dailey Method – Bend Barre Studio’s Facebook Page:“Our beautiful teacher trainee Annie Valdes is ready to show you her stuff! Please check out her Mock classes Monday\, Oct. 22nd @ 3:00\, (Saturday)\, Oct. 27th @ 4:00\, Monday\, Oct. 29th @ 3:00\, (Saturday)\, Nov. 3rd @ 4:00.”
URL:https://brookswoodmeadowplaza.com/calendar/free-community-class-at-the-dailey-method-bend-barre-studio-3pm-2
LOCATION:The Dailey Method – Bend Barre Studio\, 19570 Amber Meadow Drive\, Suite 110\, Bend\, OR\, 97702\, United States
CATEGORIES:Barre Class,Community,Fitness,Health
ATTACH;FMTTYPE=image/jpeg:https://brookswoodmeadowplaza.com/wp-content/uploads/2018/10/43074539_1151731088307534_5687740003711451136_n.jpg
END:VEVENT
BEGIN:VEVENT
DTSTART;TZID=America/Los_Angeles:20181027T160000
DTEND;TZID=America/Los_Angeles:20181027T160000
DTSTAMP:20260425T141224
CREATED:20181022T200047Z
LAST-MODIFIED:20181022T200047Z
UID:7390-1540656000-1540656000@brookswoodmeadowplaza.com
SUMMARY:Free Community Class at The Dailey Method - Bend Barre Studio\, 4pm
DESCRIPTION:From The Dailey Method – Bend Barre Studio’s Facebook Page:“Our beautiful teacher trainee Annie Valdes is ready to show you her stuff! Please check out her Mock classes Monday\, Oct. 22nd @ 3:00\, (Saturday)\, Oct. 27th @ 4:00\, Monday\, Oct. 29th @ 3:00\, (Saturday)\, Nov. 3rd @ 4:00.”
URL:https://brookswoodmeadowplaza.com/calendar/free-community-class-at-the-dailey-method-bend-barre-studio-4pm
LOCATION:The Dailey Method – Bend Barre Studio\, 19570 Amber Meadow Drive\, Suite 110\, Bend\, OR\, 97702\, United States
CATEGORIES:Barre Class,Community,Fitness,Health
ATTACH;FMTTYPE=image/jpeg:https://brookswoodmeadowplaza.com/wp-content/uploads/2018/10/43074539_1151731088307534_5687740003711451136_n.jpg
END:VEVENT
BEGIN:VEVENT
DTSTART;TZID=America/Los_Angeles:20181022T150000
DTEND;TZID=America/Los_Angeles:20181022T150000
DTSTAMP:20260425T141224
CREATED:20181022T195915Z
LAST-MODIFIED:20181022T200141Z
UID:7388-1540220400-1540220400@brookswoodmeadowplaza.com
SUMMARY:Free Community Class at The Dailey Method - Bend Barre Studio\, 3pm
DESCRIPTION:From The Dailey Method – Bend Barre Studio’s Facebook Page: “Our beautiful teacher trainee Annie Valdes is ready to show you her stuff! Please check out her Mock classes Monday\, Oct. 22nd @ 3:00\, (Saturday)\, Oct. 27th @ 4:00\, Monday\, Oct. 29th @ 3:00\, (Saturday)\, Nov. 3rd @ 4:00.”
URL:https://brookswoodmeadowplaza.com/calendar/free-community-class-at-the-dailey-method-bend-barre-studio-3pm
LOCATION:The Dailey Method – Bend Barre Studio\, 19570 Amber Meadow Drive\, Suite 110\, Bend\, OR\, 97702\, United States
CATEGORIES:Barre Class,Community,Fitness,Health
ATTACH;FMTTYPE=image/jpeg:https://brookswoodmeadowplaza.com/wp-content/uploads/2018/10/43074539_1151731088307534_5687740003711451136_n.jpg
END:VEVENT
BEGIN:VEVENT
DTSTART;TZID=America/Los_Angeles:20181014T160000
DTEND;TZID=America/Los_Angeles:20181014T160000
DTSTAMP:20260425T141224
CREATED:20181001T203452Z
LAST-MODIFIED:20181001T203452Z
UID:7269-1539532800-1539532800@brookswoodmeadowplaza.com
SUMMARY:Free Mock/Community Class at The Dailey Method - Bend Barre Studio\, 4pm
DESCRIPTION:From The Dailey Method – Bend Barre Studio’s Facebook Page: “Wonderful news! Our beautiful teacher trainee Courtney Ringer is ready for her Mock classes…offered free to our Community. Courtney has worked so hard and is an amazing addition to our TDM-Bend team. Her mocks are 9/30 @ 4:00 pm\, 10/3 @ 11:15 am\, 10/10 @ 2:00 pm and 10/14 @ 4:00 pm….She will WOW you with her workout!”
URL:https://brookswoodmeadowplaza.com/calendar/free-mock-community-class-at-the-dailey-method-bend-barre-studio-4pm
LOCATION:The Dailey Method – Bend Barre Studio\, 19570 Amber Meadow Drive\, Suite 110\, Bend\, OR\, 97702\, United States
CATEGORIES:Barre Class,Fitness,Health,Well Being
ATTACH;FMTTYPE=image/jpeg:https://brookswoodmeadowplaza.com/wp-content/uploads/2016/10/dailey-1-portrait_edited-1.jpg
END:VEVENT
BEGIN:VEVENT
DTSTART;TZID=America/Los_Angeles:20181010T140000
DTEND;TZID=America/Los_Angeles:20181010T140000
DTSTAMP:20260425T141224
CREATED:20181001T203246Z
LAST-MODIFIED:20181001T203246Z
UID:7267-1539180000-1539180000@brookswoodmeadowplaza.com
SUMMARY:Free Mock/Community Class at The Dailey Method - Bend Barre Studio\, 2pm
DESCRIPTION:From The Dailey Method – Bend Barre Studio’s Facebook Page: “Wonderful news! Our beautiful teacher trainee Courtney Ringer is ready for her Mock classes…offered free to our Community. Courtney has worked so hard and is an amazing addition to our TDM-Bend team. Her mocks are 9/30 @ 4:00 pm\, 10/3 @ 11:15 am\, 10/10 @ 2:00 pm and 10/14 @ 4:00 pm….She will WOW you with her workout!”
URL:https://brookswoodmeadowplaza.com/calendar/free-mock-community-class-at-the-dailey-method-bend-barre-studio-2pm
LOCATION:The Dailey Method – Bend Barre Studio\, 19570 Amber Meadow Drive\, Suite 110\, Bend\, OR\, 97702\, United States
CATEGORIES:Barre Class,Fitness,Health,Well Being
ATTACH;FMTTYPE=image/jpeg:https://brookswoodmeadowplaza.com/wp-content/uploads/2016/10/dailey-1-portrait_edited-1.jpg
END:VEVENT
END:VCALENDAR