BEGIN:VCALENDAR
VERSION:2.0
PRODID:-//Brookswood Meadow Plaza - ECPv6.15.13.1//NONSGML v1.0//EN
CALSCALE:GREGORIAN
METHOD:PUBLISH
X-WR-CALNAME:Brookswood Meadow Plaza
X-ORIGINAL-URL:https://brookswoodmeadowplaza.com
X-WR-CALDESC:Events for Brookswood Meadow Plaza
REFRESH-INTERVAL;VALUE=DURATION:PT1H
X-Robots-Tag:noindex
X-PUBLISHED-TTL:PT1H
BEGIN:VTIMEZONE
TZID:America/Los_Angeles
BEGIN:DAYLIGHT
TZOFFSETFROM:-0800
TZOFFSETTO:-0700
TZNAME:PDT
DTSTART:20190310T100000
END:DAYLIGHT
BEGIN:STANDARD
TZOFFSETFROM:-0700
TZOFFSETTO:-0800
TZNAME:PST
DTSTART:20191103T090000
END:STANDARD
BEGIN:DAYLIGHT
TZOFFSETFROM:-0800
TZOFFSETTO:-0700
TZNAME:PDT
DTSTART:20200308T100000
END:DAYLIGHT
BEGIN:STANDARD
TZOFFSETFROM:-0700
TZOFFSETTO:-0800
TZNAME:PST
DTSTART:20201101T090000
END:STANDARD
BEGIN:DAYLIGHT
TZOFFSETFROM:-0800
TZOFFSETTO:-0700
TZNAME:PDT
DTSTART:20210314T100000
END:DAYLIGHT
BEGIN:STANDARD
TZOFFSETFROM:-0700
TZOFFSETTO:-0800
TZNAME:PST
DTSTART:20211107T090000
END:STANDARD
BEGIN:DAYLIGHT
TZOFFSETFROM:-0800
TZOFFSETTO:-0700
TZNAME:PDT
DTSTART:20220313T100000
END:DAYLIGHT
BEGIN:STANDARD
TZOFFSETFROM:-0700
TZOFFSETTO:-0800
TZNAME:PST
DTSTART:20221106T090000
END:STANDARD
END:VTIMEZONE
BEGIN:VEVENT
DTSTART;TZID=America/Los_Angeles:20210717T130000
DTEND;TZID=America/Los_Angeles:20210717T160000
DTSTAMP:20260425T121419
CREATED:20210707T234849Z
LAST-MODIFIED:20210707T234849Z
UID:12441-1626526800-1626537600@brookswoodmeadowplaza.com
SUMMARY:Wine Tasting at Lovejoy's Market - Willamette Valley Vineyards\, 1-4pm
DESCRIPTION:
URL:https://brookswoodmeadowplaza.com/calendar/wine-tasting-at-lovejoys-market-willamette-valley-vineyards-1-4pm
LOCATION:Bend\, OR\, United States
CATEGORIES:Community,Free,Groceries,Summer,Wine
ATTACH;FMTTYPE=image/jpeg:https://brookswoodmeadowplaza.com/wp-content/uploads/2021/07/IMG_8243.jpg
END:VEVENT
BEGIN:VEVENT
DTSTART;TZID=America/Los_Angeles:20210716T150000
DTEND;TZID=America/Los_Angeles:20210716T190000
DTSTAMP:20260425T121419
CREATED:20210714T191558Z
LAST-MODIFIED:20210714T191558Z
UID:12449-1626447600-1626462000@brookswoodmeadowplaza.com
SUMMARY:We're The Würst Sausage Demo & Tasting at Lovejoy's Market\, 3-7pm
DESCRIPTION:Join Matthew from We’re The Würst for a demo and tasting of their incredible sausages! He’ll be at Lovejoy’s Market from 3-7pm (ish)\, so don’t wait too long. Go early\, support a local business and enjoy something delicious!
URL:https://brookswoodmeadowplaza.com/calendar/were-the-wurst-sausage-demo-tasting-at-lovejoys-market-3-7pm
LOCATION:Bend\, OR\, United States
CATEGORIES:Community,Food,Free,Groceries,Summer
ATTACH;FMTTYPE=image/jpeg:https://brookswoodmeadowplaza.com/wp-content/uploads/2021/07/Wurst_edited-1.jpg
END:VEVENT
BEGIN:VEVENT
DTSTART;TZID=America/Los_Angeles:20210715T143000
DTEND;TZID=America/Los_Angeles:20210715T173000
DTSTAMP:20260425T121419
CREATED:20210707T234602Z
LAST-MODIFIED:20210707T234602Z
UID:12439-1626359400-1626370200@brookswoodmeadowplaza.com
SUMMARY:Wine Tasting at Lovejoy's Market - Rock Point Wines\, 2:30-5:30pm
DESCRIPTION:
URL:https://brookswoodmeadowplaza.com/calendar/wine-tasting-at-lovejoys-market-rock-point-wines-230-530pm
LOCATION:Bend\, OR\, United States
CATEGORIES:Community,Free,Groceries,Summer,Wine
ATTACH;FMTTYPE=image/jpeg:https://brookswoodmeadowplaza.com/wp-content/uploads/2021/07/IMG_8260.jpg
END:VEVENT
BEGIN:VEVENT
DTSTART;TZID=America/Los_Angeles:20210710T140000
DTEND;TZID=America/Los_Angeles:20210710T170000
DTSTAMP:20260425T121419
CREATED:20210707T234353Z
LAST-MODIFIED:20210707T234353Z
UID:12434-1625925600-1625936400@brookswoodmeadowplaza.com
SUMMARY:Wine Tasting at Lovejoy's Market - King Estate Wines\, 2-5pm
DESCRIPTION:
URL:https://brookswoodmeadowplaza.com/calendar/wine-tasting-at-lovejoys-market-king-estate-wines-2-5pm
LOCATION:Bend\, OR\, United States
CATEGORIES:Community,Free,Groceries,Wine
ATTACH;FMTTYPE=image/jpeg:https://brookswoodmeadowplaza.com/wp-content/uploads/2021/07/0706211148.jpg
END:VEVENT
BEGIN:VEVENT
DTSTART;TZID=America/Los_Angeles:20210710T090000
DTEND;TZID=America/Los_Angeles:20210710T150000
DTSTAMP:20260425T121419
CREATED:20210705T232734Z
LAST-MODIFIED:20210705T232734Z
UID:12429-1625907600-1625929200@brookswoodmeadowplaza.com
SUMMARY:Deschutes River Woods Community Garage Sale\, 9am-3pm
DESCRIPTION:
URL:https://brookswoodmeadowplaza.com/calendar/deschutes-river-woods-community-garage-sale-9am-3pm
LOCATION:Bend\, OR\, United States
CATEGORIES:Community,Free,Summer
ATTACH;FMTTYPE=image/jpeg:https://brookswoodmeadowplaza.com/wp-content/uploads/2018/05/31947768_1928985497113953_6017322780255584256_n.jpg
END:VEVENT
BEGIN:VEVENT
DTSTART;TZID=America/Los_Angeles:20210704T100000
DTEND;TZID=America/Los_Angeles:20210704T100000
DTSTAMP:20260425T121419
CREATED:20210629T034841Z
LAST-MODIFIED:20210629T034841Z
UID:12398-1625392800-1625392800@brookswoodmeadowplaza.com
SUMMARY:DRW Informal Vintage Car Parade\, Starts at Brookswood Meadow Plaza Parking Lot\, 10am
DESCRIPTION:
URL:https://brookswoodmeadowplaza.com/calendar/drw-informal-vintage-car-parade-starts-at-brookswood-meadow-plaza-parking-lot-10am
LOCATION:Bend\, OR\, United States
CATEGORIES:Community,Free
ATTACH;FMTTYPE=image/jpeg:https://brookswoodmeadowplaza.com/wp-content/uploads/2021/06/196824824_10223409896209863_7494256621849633520_n.jpg
END:VEVENT
BEGIN:VEVENT
DTSTART;TZID=America/Los_Angeles:20210702T140000
DTEND;TZID=America/Los_Angeles:20210702T170000
DTSTAMP:20260425T121419
CREATED:20210622T224731Z
LAST-MODIFIED:20210625T232901Z
UID:12369-1625234400-1625245200@brookswoodmeadowplaza.com
SUMMARY:Wine Tasting at Lovejoy's Market\, Primarius & Browne Family Wines\, 2-5pm
DESCRIPTION:
URL:https://brookswoodmeadowplaza.com/calendar/wine-tasting-at-lovejoys-market-3-6pm
LOCATION:Bend\, OR\, United States
CATEGORIES:Community,Free,Groceries,Wine
ATTACH;FMTTYPE=image/jpeg:https://brookswoodmeadowplaza.com/wp-content/uploads/2021/06/IMG_7501-3-copy.jpg
END:VEVENT
BEGIN:VEVENT
DTSTART;TZID=America/Los_Angeles:20210701T150000
DTEND;TZID=America/Los_Angeles:20210701T180000
DTSTAMP:20260425T121419
CREATED:20210617T174149Z
LAST-MODIFIED:20210701T175246Z
UID:12352-1625151600-1625162400@brookswoodmeadowplaza.com
SUMMARY:Wine Tasting at Lovejoy's Market - Wine Tasting - CANCELED DUE TO UNEXPECTED ILLNESS
DESCRIPTION:
URL:https://brookswoodmeadowplaza.com/calendar/wine-tasting-at-lovejoys-market-eola-hills-wines-3-6pm
LOCATION:Bend\, OR\, United States
CATEGORIES:Community,Free,Groceries,Holiday,Wine
ATTACH;FMTTYPE=image/jpeg:https://brookswoodmeadowplaza.com/wp-content/uploads/2021/06/IMG_7013.jpg
END:VEVENT
BEGIN:VEVENT
DTSTART;TZID=America/Los_Angeles:20210618T140000
DTEND;TZID=America/Los_Angeles:20210618T180000
DTSTAMP:20260425T121419
CREATED:20210617T174033Z
LAST-MODIFIED:20210617T174033Z
UID:12350-1624024800-1624039200@brookswoodmeadowplaza.com
SUMMARY:Wine Tasting at Lovejoy's Market\, Lava Terrace Cellars\, 2-6pm
DESCRIPTION:
URL:https://brookswoodmeadowplaza.com/calendar/wine-tasting-at-lovejoys-market-lava-terrace-cellars-2-6pm-2
LOCATION:Bend\, OR\, United States
CATEGORIES:Community,Free,Groceries,Wine
ATTACH;FMTTYPE=image/jpeg:https://brookswoodmeadowplaza.com/wp-content/uploads/2020/12/130254414_3972526042767697_7983784736506491514_o.jpg
END:VEVENT
BEGIN:VEVENT
DTSTART;VALUE=DATE:20210501
DTEND;VALUE=DATE:20210517
DTSTAMP:20260425T121419
CREATED:20210426T194005Z
LAST-MODIFIED:20210426T194005Z
UID:12293-1619827200-1621209599@brookswoodmeadowplaza.com
SUMMARY:Fire Free Yard Debris Disposal FREE Days at Knott Landfill\, 7am-5pm - www.firefree.org
DESCRIPTION:For additional dates\, locations and information visit www.firefree.org!
URL:https://brookswoodmeadowplaza.com/calendar/fire-free-yard-debris-disposal-free-days-at-knott-landfill-7am-5pm-www-firefree-org
LOCATION:Bend\, OR\, United States
CATEGORIES:Community,Free
ATTACH;FMTTYPE=image/jpeg:https://brookswoodmeadowplaza.com/wp-content/uploads/2021/04/IMG_4536-1.jpg
END:VEVENT
BEGIN:VEVENT
DTSTART;TZID=America/Los_Angeles:20210415T183000
DTEND;TZID=America/Los_Angeles:20210415T203000
DTSTAMP:20260425T121419
CREATED:20210316T185934Z
LAST-MODIFIED:20210316T185934Z
UID:12171-1618511400-1618518600@brookswoodmeadowplaza.com
SUMMARY:Southwest Bend Neighborhood Association Spring General Membership Meeting\, Online\, 6:30-8:30pm
DESCRIPTION:https://southwestbendna.org
URL:https://brookswoodmeadowplaza.com/calendar/southwest-bend-neighborhood-association-spring-general-membership-meeting-online-630-830pm
LOCATION:Bend\, OR\, United States
CATEGORIES:Community,Free
ATTACH;FMTTYPE=image/png:https://brookswoodmeadowplaza.com/wp-content/uploads/2020/08/60431779_2477936188885545_7001886441647112192_n.png
END:VEVENT
BEGIN:VEVENT
DTSTART;TZID=America/Los_Angeles:20210402T140000
DTEND;TZID=America/Los_Angeles:20210402T170000
DTSTAMP:20260425T121419
CREATED:20210331T195121Z
LAST-MODIFIED:20210331T195121Z
UID:12259-1617372000-1617382800@brookswoodmeadowplaza.com
SUMMARY:Wine Tasting at Lovejoy's Market - Eola Hills Wines\, 2-5pm
DESCRIPTION:Join Eola Hills for a wine tasting at Lovejoy’s Market from 2-5pm on Friday\, April 2nd!
URL:https://brookswoodmeadowplaza.com/calendar/wine-tasting-at-lovejoys-market-eola-hills-wines-2-5pm
LOCATION:Bend\, OR\, United States
CATEGORIES:Community,Free,Groceries,Holiday,Wine
ATTACH;FMTTYPE=image/jpeg:https://brookswoodmeadowplaza.com/wp-content/uploads/2021/02/IMG_1705-1.jpg
END:VEVENT
BEGIN:VEVENT
DTSTART;TZID=America/Los_Angeles:20210326T140000
DTEND;TZID=America/Los_Angeles:20210326T180000
DTSTAMP:20260425T121419
CREATED:20210310T012634Z
LAST-MODIFIED:20210310T012634Z
UID:12163-1616767200-1616781600@brookswoodmeadowplaza.com
SUMMARY:Wine Tasting at Lovejoy's Market - Lava Terrace Cellars\, 2-6pm
DESCRIPTION:https://celovejoys.com
URL:https://brookswoodmeadowplaza.com/calendar/wine-tasting-at-lovejoys-market-lava-terrace-cellars-2-6pm
LOCATION:Bend\, OR\, United States
CATEGORIES:Community,Free,Groceries,Wine
ATTACH;FMTTYPE=image/jpeg:https://brookswoodmeadowplaza.com/wp-content/uploads/2020/12/130254414_3972526042767697_7983784736506491514_o.jpg
END:VEVENT
BEGIN:VEVENT
DTSTART;TZID=America/Los_Angeles:20210305T160000
DTEND;TZID=America/Los_Angeles:20210305T183000
DTSTAMP:20260425T121419
CREATED:20210223T214025Z
LAST-MODIFIED:20210223T214028Z
UID:12140-1614960000-1614969000@brookswoodmeadowplaza.com
SUMMARY:Wine Tasting at Lovejoy's Market\, 4-6:30pm - D'Anu Wines
DESCRIPTION:www.celovejoys.com
URL:https://brookswoodmeadowplaza.com/calendar/wine-tasting-at-lovejoys-market-4-630pm-danu-wines
LOCATION:Bend\, OR\, United States
CATEGORIES:Community,Free,Groceries,Wine
ATTACH;FMTTYPE=image/png:https://brookswoodmeadowplaza.com/wp-content/uploads/2021/02/home_purchase-square.png
END:VEVENT
BEGIN:VEVENT
DTSTART;TZID=America/Los_Angeles:20210227T140000
DTEND;TZID=America/Los_Angeles:20210227T170000
DTSTAMP:20260425T121419
CREATED:20210223T213905Z
LAST-MODIFIED:20210223T214141Z
UID:12136-1614434400-1614445200@brookswoodmeadowplaza.com
SUMMARY:Wine Tasting at Lovejoy's Market 2-5pm - Eola Hills Wines
DESCRIPTION:www.celovejoys.com
URL:https://brookswoodmeadowplaza.com/calendar/wine-tasting-at-lovejoys-market-2-5pm-eola-hills-wines
LOCATION:Bend\, OR\, United States
CATEGORIES:Community,Free,Groceries,Wine
ATTACH;FMTTYPE=image/jpeg:https://brookswoodmeadowplaza.com/wp-content/uploads/2021/02/IMG_1705-1.jpg
END:VEVENT
BEGIN:VEVENT
DTSTART;VALUE=DATE:20210214
DTEND;VALUE=DATE:20210221
DTSTAMP:20260425T121419
CREATED:20210122T034331Z
LAST-MODIFIED:20210122T034331Z
UID:11966-1613260800-1613865599@brookswoodmeadowplaza.com
SUMMARY:New Client Virtual OPEN HOUSE at The Dailey Method - Bend Barre Studio! FREE Classes for New Clients
DESCRIPTION:https://thedaileymethod.com/studios/bend/overview/
URL:https://brookswoodmeadowplaza.com/calendar/new-client-virtual-open-house-at-the-dailey-method-bend-barre-studio-free-classes-for-new-clients
LOCATION:Bend\, OR\, United States
CATEGORIES:Barre Class,Community,Fitness,Free,Health,Well Being,Wellness
ATTACH;FMTTYPE=image/jpeg:https://brookswoodmeadowplaza.com/wp-content/uploads/2020/07/TDM-Logo_Square_Signage-barre-studio.jpg
END:VEVENT
BEGIN:VEVENT
DTSTART;TZID=America/Los_Angeles:20210212T140000
DTEND;TZID=America/Los_Angeles:20210212T170000
DTSTAMP:20260425T121419
CREATED:20210210T162625Z
LAST-MODIFIED:20210210T162630Z
UID:12113-1613138400-1613149200@brookswoodmeadowplaza.com
SUMMARY:Wine Tasting at Lovejoy's Market - Willamette Valley Vineyards Valentine's Day Wines\, 2-5pm
DESCRIPTION:https://celovejoys.com
URL:https://brookswoodmeadowplaza.com/calendar/wine-tasting-at-lovejoys-market-willamette-valley-vineyards-valentines-day-wines-2-5pm
LOCATION:Bend\, OR\, United States
CATEGORIES:Community,Free,Groceries,Wine
ATTACH;FMTTYPE=image/jpeg:https://brookswoodmeadowplaza.com/wp-content/uploads/2020/12/130248937_3972516839435284_8656565232421542974_o.jpg
END:VEVENT
BEGIN:VEVENT
DTSTART;TZID=America/Los_Angeles:20210205T140000
DTEND;TZID=America/Los_Angeles:20210205T170000
DTSTAMP:20260425T121419
CREATED:20210205T234058Z
LAST-MODIFIED:20210205T234058Z
UID:12105-1612533600-1612544400@brookswoodmeadowplaza.com
SUMMARY:Outdoor Wine Tasting at Lovejoy's Market\, 2-5pm Eola Hills Wines
DESCRIPTION:
URL:https://brookswoodmeadowplaza.com/calendar/outdoor-wine-tasting-at-lovejoys-market-2-5pm-eola-hills-wines
LOCATION:Bend\, OR\, United States
CATEGORIES:Community,Free,Groceries,Wine
ATTACH;FMTTYPE=image/jpeg:https://brookswoodmeadowplaza.com/wp-content/uploads/2021/02/IMG_1444.jpg
END:VEVENT
BEGIN:VEVENT
DTSTART;TZID=America/Los_Angeles:20210130T150000
DTEND;TZID=America/Los_Angeles:20210130T150000
DTSTAMP:20260425T121419
CREATED:20210127T233438Z
LAST-MODIFIED:20210127T233438Z
UID:11977-1612018800-1612018800@brookswoodmeadowplaza.com
SUMMARY:Stride Canine Fitness & Rehabilitation Facebook Live Presentation on Pet Chiropractic Care with Sean Scaramuzzo\, DC\, 3:30pm
DESCRIPTION:https://www.facebook.com/stridecaninerehab
URL:https://brookswoodmeadowplaza.com/calendar/stride-canine-fitness-rehabilitation-facebook-live-presentation-on-pet-chiropractic-care-with-sean-scaramuzzo-dc-330pm
LOCATION:Bend\, OR\, United States
CATEGORIES:Community,Free,Pets
ATTACH;FMTTYPE=image/png:https://brookswoodmeadowplaza.com/wp-content/uploads/2021/01/Screen-Shot-2021-01-27-at-10.25.53-AM-copy.png
END:VEVENT
BEGIN:VEVENT
DTSTART;TZID=America/Los_Angeles:20201123T120000
DTEND;TZID=America/Los_Angeles:20201123T130000
DTSTAMP:20260425T121419
CREATED:20201116T233228Z
LAST-MODIFIED:20201116T233228Z
UID:11558-1606132800-1606136400@brookswoodmeadowplaza.com
SUMMARY:Holiday Brown Bag Meals Pick Up for Bend-Lapine Schools Students\, 12-1pm (At select sites\, including Elk Meadow Elementary School)
DESCRIPTION:https://www.bend.k12.or.us/district/parents/school-meals
URL:https://brookswoodmeadowplaza.com/calendar/holiday-brown-bag-meals-pick-up-for-bend-lapine-schools-students-12-1pm-at-select-sites-including-elk-meadow-elementary-school
LOCATION:OR
CATEGORIES:Community,Food,Free,Holiday,Kids/Family
ATTACH;FMTTYPE=image/png:https://brookswoodmeadowplaza.com/wp-content/uploads/2018/03/BLS_logo-dark.png
END:VEVENT
BEGIN:VEVENT
DTSTART;TZID=America/Los_Angeles:20201108T140000
DTEND;TZID=America/Los_Angeles:20201108T140000
DTSTAMP:20260425T121419
CREATED:20201030T174748Z
LAST-MODIFIED:20201030T174748Z
UID:11480-1604844000-1604844000@brookswoodmeadowplaza.com
SUMMARY:FREE Mock Barre Class with Ginger at The Dailey Method\, 2pm
DESCRIPTION:Register at: The Dailey Method Bend Barre Studio’s Website!
URL:https://brookswoodmeadowplaza.com/calendar/free-mock-barre-class-with-ginger-at-the-dailey-method-2pm-3
LOCATION:OR
CATEGORIES:Barre Class,Community,Fitness,Free,Health,Well Being,Wellness
ATTACH;FMTTYPE=image/jpeg:https://brookswoodmeadowplaza.com/wp-content/uploads/2020/07/TDM-Logo_Square_Signage-barre-studio.jpg
END:VEVENT
BEGIN:VEVENT
DTSTART;TZID=America/Los_Angeles:20201107T140000
DTEND;TZID=America/Los_Angeles:20201107T140000
DTSTAMP:20260425T121419
CREATED:20201030T174646Z
LAST-MODIFIED:20201030T174646Z
UID:11478-1604757600-1604757600@brookswoodmeadowplaza.com
SUMMARY:FREE Mock Barre Class with Ginger at The Dailey Method\, 2pm
DESCRIPTION:Register at: The Dailey Method Bend Barre Studio’s Website!
URL:https://brookswoodmeadowplaza.com/calendar/free-mock-barre-class-with-ginger-at-the-dailey-method-2pm-2
LOCATION:OR
CATEGORIES:Barre Class,Community,Fitness,Free,Well Being,Wellness
ATTACH;FMTTYPE=image/jpeg:https://brookswoodmeadowplaza.com/wp-content/uploads/2020/07/TDM-Logo_Square_Signage-barre-studio.jpg
END:VEVENT
BEGIN:VEVENT
DTSTART;TZID=America/Los_Angeles:20201104T150000
DTEND;TZID=America/Los_Angeles:20201104T180000
DTSTAMP:20260425T121419
CREATED:20201103T230117Z
LAST-MODIFIED:20201103T230117Z
UID:11546-1604502000-1604512800@brookswoodmeadowplaza.com
SUMMARY:Beer Tasting - Athletic Brewing Non-Alcoholic Craft Beer at Lovejoy's Market\, 3-6pm
DESCRIPTION:C.E. Lovejoy’s Market
URL:https://brookswoodmeadowplaza.com/calendar/beer-tasting-athletic-brewing-non-alcoholic-craft-beer-at-lovejoys-market-3-6pm
LOCATION:OR
CATEGORIES:Beer,Community,Free,Groceries
ATTACH;FMTTYPE=image/jpeg:https://brookswoodmeadowplaza.com/wp-content/uploads/2020/11/pexels-visionpic-net-1009068-copy.jpg
END:VEVENT
BEGIN:VEVENT
DTSTART;TZID=America/Los_Angeles:20201101T140000
DTEND;TZID=America/Los_Angeles:20201101T140000
DTSTAMP:20260425T121419
CREATED:20201030T174536Z
LAST-MODIFIED:20201030T174536Z
UID:11476-1604239200-1604239200@brookswoodmeadowplaza.com
SUMMARY:FREE Mock Barre Class with Ginger at The Dailey Method\, 2pm
DESCRIPTION:Register at: The Dailey Method Bend Barre Studio’s Website!
URL:https://brookswoodmeadowplaza.com/calendar/free-mock-barre-class-with-ginger-at-the-dailey-method-2pm
LOCATION:OR
CATEGORIES:Barre Class,Community,Fitness,Free,Well Being,Wellness
ATTACH;FMTTYPE=image/jpeg:https://brookswoodmeadowplaza.com/wp-content/uploads/2020/07/TDM-Logo_Square_Signage-barre-studio.jpg
END:VEVENT
BEGIN:VEVENT
DTSTART;TZID=America/Los_Angeles:20201031T143000
DTEND;TZID=America/Los_Angeles:20201031T143000
DTSTAMP:20260425T121419
CREATED:20201030T164854Z
LAST-MODIFIED:20201030T164854Z
UID:11472-1604154600-1604154600@brookswoodmeadowplaza.com
SUMMARY:Wine Tasting - Engine House Wines Sauvignon Blanc\, 2:30pm
DESCRIPTION:Lovejoy’s Market’s Website
URL:https://brookswoodmeadowplaza.com/calendar/wine-tasting-engine-house-wines-sauvignon-blanc-230pm
LOCATION:OR
CATEGORIES:Community,Free,Groceries,Wine
ATTACH;FMTTYPE=image/jpeg:https://brookswoodmeadowplaza.com/wp-content/uploads/2020/02/22814055_1809917702361886_2941280565520162839_n-645x484-1.jpg
END:VEVENT
BEGIN:VEVENT
DTSTART;TZID=America/Los_Angeles:20201031T120000
DTEND;TZID=America/Los_Angeles:20201031T120000
DTSTAMP:20260425T121419
CREATED:20201030T174418Z
LAST-MODIFIED:20201030T174418Z
UID:11474-1604145600-1604145600@brookswoodmeadowplaza.com
SUMMARY:FREE Mock Barre Class with Ginger at The Dailey Method\, 12pm
DESCRIPTION:Register at: The Dailey Method Bend Barre Studio’s Website!
URL:https://brookswoodmeadowplaza.com/calendar/free-mock-barre-class-with-ginger-at-the-dailey-method-12pm
LOCATION:OR
CATEGORIES:Barre Class,Fitness,Free,Well Being,Wellness
ATTACH;FMTTYPE=image/jpeg:https://brookswoodmeadowplaza.com/wp-content/uploads/2020/07/TDM-Logo_Square_Signage-barre-studio.jpg
END:VEVENT
BEGIN:VEVENT
DTSTART;TZID=America/Los_Angeles:20201030T143000
DTEND;TZID=America/Los_Angeles:20201030T143000
DTSTAMP:20260425T121419
CREATED:20201030T164715Z
LAST-MODIFIED:20201030T164715Z
UID:11470-1604068200-1604068200@brookswoodmeadowplaza.com
SUMMARY:Wine Tasting at Lovejoy's Market - Schmidt Family Vineyards\, 2:30pm
DESCRIPTION:Lovejoy’s Market’s Website
URL:https://brookswoodmeadowplaza.com/calendar/wine-tasting-at-lovejoys-market-schmidt-family-vineyards-230pm
LOCATION:OR
CATEGORIES:Community,Free,Groceries,Wine
ATTACH;FMTTYPE=image/jpeg:https://brookswoodmeadowplaza.com/wp-content/uploads/2020/02/22814055_1809917702361886_2941280565520162839_n-645x484-1.jpg
END:VEVENT
BEGIN:VEVENT
DTSTART;TZID=America/Los_Angeles:20201029T143000
DTEND;TZID=America/Los_Angeles:20201029T143000
DTSTAMP:20260425T121419
CREATED:20201030T164610Z
LAST-MODIFIED:20201030T164610Z
UID:11468-1603981800-1603981800@brookswoodmeadowplaza.com
SUMMARY:Wine Tasting at Lovejoy's Market - Willamette Valley Vineyards\, 2:30pm
DESCRIPTION:Lovejoy’s Market’s Website
URL:https://brookswoodmeadowplaza.com/calendar/wine-tasting-at-lovejoys-market-willamette-valley-vineyards-230pm
LOCATION:OR
CATEGORIES:Community,Free,Groceries,Wine
ATTACH;FMTTYPE=image/jpeg:https://brookswoodmeadowplaza.com/wp-content/uploads/2020/02/22814055_1809917702361886_2941280565520162839_n-645x484-1.jpg
END:VEVENT
BEGIN:VEVENT
DTSTART;TZID=America/Los_Angeles:20200904T140000
DTEND;TZID=America/Los_Angeles:20200904T170000
DTSTAMP:20260425T121419
CREATED:20200903T203005Z
LAST-MODIFIED:20200903T203005Z
UID:11402-1599228000-1599238800@brookswoodmeadowplaza.com
SUMMARY:Wine Tasting at Lovejoy's Market\, 2-5pm Willamette Valley Vineyards
DESCRIPTION:CELovejoys.com
URL:https://brookswoodmeadowplaza.com/calendar/wine-tasting-at-lovejoys-market-2-5pm-willamette-valley-vineyards
LOCATION:Bend\, OR\, United States
CATEGORIES:Community,Free,Groceries,Wine
ATTACH;FMTTYPE=image/jpeg:https://brookswoodmeadowplaza.com/wp-content/uploads/2020/02/22814055_1809917702361886_2941280565520162839_n-645x484-1.jpg
END:VEVENT
BEGIN:VEVENT
DTSTART;TZID=America/Los_Angeles:20200702T140000
DTEND;TZID=America/Los_Angeles:20200702T170000
DTSTAMP:20260425T121419
CREATED:20200622T195217Z
LAST-MODIFIED:20200701T231340Z
UID:11266-1593698400-1593709200@brookswoodmeadowplaza.com
SUMMARY:Wine Tasting at Lovejoy's Market - Willamette Valley Wines\, 2pm
DESCRIPTION:Learn more about this event at the Lovejoy’s Market Facebook Page: https://www.facebook.com/celovejoys/
URL:https://brookswoodmeadowplaza.com/calendar/wine-tasting-at-lovejoys-market-willamette-valley-wines-2pm
LOCATION:Bend\, United States
CATEGORIES:Community,Free,Groceries,Summer,Wine
ATTACH;FMTTYPE=image/jpeg:https://brookswoodmeadowplaza.com/wp-content/uploads/2020/02/22814055_1809917702361886_2941280565520162839_n-645x484-1.jpg
END:VEVENT
END:VCALENDAR