BEGIN:VCALENDAR
VERSION:2.0
PRODID:-//Brookswood Meadow Plaza - ECPv6.15.13.1//NONSGML v1.0//EN
CALSCALE:GREGORIAN
METHOD:PUBLISH
X-ORIGINAL-URL:https://brookswoodmeadowplaza.com
X-WR-CALDESC:Events for Brookswood Meadow Plaza
REFRESH-INTERVAL;VALUE=DURATION:PT1H
X-Robots-Tag:noindex
X-PUBLISHED-TTL:PT1H
BEGIN:VTIMEZONE
TZID:America/Los_Angeles
BEGIN:DAYLIGHT
TZOFFSETFROM:-0800
TZOFFSETTO:-0700
TZNAME:PDT
DTSTART:20170312T100000
END:DAYLIGHT
BEGIN:STANDARD
TZOFFSETFROM:-0700
TZOFFSETTO:-0800
TZNAME:PST
DTSTART:20171105T090000
END:STANDARD
BEGIN:DAYLIGHT
TZOFFSETFROM:-0800
TZOFFSETTO:-0700
TZNAME:PDT
DTSTART:20180311T100000
END:DAYLIGHT
BEGIN:STANDARD
TZOFFSETFROM:-0700
TZOFFSETTO:-0800
TZNAME:PST
DTSTART:20181104T090000
END:STANDARD
BEGIN:DAYLIGHT
TZOFFSETFROM:-0800
TZOFFSETTO:-0700
TZNAME:PDT
DTSTART:20190310T100000
END:DAYLIGHT
BEGIN:STANDARD
TZOFFSETFROM:-0700
TZOFFSETTO:-0800
TZNAME:PST
DTSTART:20191103T090000
END:STANDARD
BEGIN:DAYLIGHT
TZOFFSETFROM:-0800
TZOFFSETTO:-0700
TZNAME:PDT
DTSTART:20200308T100000
END:DAYLIGHT
BEGIN:STANDARD
TZOFFSETFROM:-0700
TZOFFSETTO:-0800
TZNAME:PST
DTSTART:20201101T090000
END:STANDARD
BEGIN:DAYLIGHT
TZOFFSETFROM:-0800
TZOFFSETTO:-0700
TZNAME:PDT
DTSTART:20210314T100000
END:DAYLIGHT
BEGIN:STANDARD
TZOFFSETFROM:-0700
TZOFFSETTO:-0800
TZNAME:PST
DTSTART:20211107T090000
END:STANDARD
BEGIN:DAYLIGHT
TZOFFSETFROM:-0800
TZOFFSETTO:-0700
TZNAME:PDT
DTSTART:20220313T100000
END:DAYLIGHT
BEGIN:STANDARD
TZOFFSETFROM:-0700
TZOFFSETTO:-0800
TZNAME:PST
DTSTART:20221106T090000
END:STANDARD
END:VTIMEZONE
BEGIN:VEVENT
DTSTART;VALUE=DATE:20211227
DTEND;VALUE=DATE:20211231
DTSTAMP:20260425T143253
CREATED:20211206T185809Z
LAST-MODIFIED:20211206T185809Z
UID:12823-1640563200-1640908799@brookswoodmeadowplaza.com
SUMMARY:Winter Art Camp at Yay Art Camp
DESCRIPTION:Register at Yay Art Camp Website
URL:https://brookswoodmeadowplaza.com/calendar/winter-art-camp-at-yay-art-camp-2
LOCATION:Bend\, OR\, United States
CATEGORIES:Art,Class,Holiday,Kids/Family
ATTACH;FMTTYPE=image/jpeg:https://brookswoodmeadowplaza.com/wp-content/uploads/2021/06/unnamed-2.jpg
END:VEVENT
BEGIN:VEVENT
DTSTART;VALUE=DATE:20211220
DTEND;VALUE=DATE:20211224
DTSTAMP:20260425T143253
CREATED:20211206T185648Z
LAST-MODIFIED:20211206T185648Z
UID:12821-1639958400-1640303999@brookswoodmeadowplaza.com
SUMMARY:Winter Art Camp at Yay Art Camp
DESCRIPTION:Register at Yay Art Camp Website
URL:https://brookswoodmeadowplaza.com/calendar/winter-art-camp-at-yay-art-camp
LOCATION:Bend\, OR\, United States
CATEGORIES:Art,Class,Community,Holiday,Kids/Family
ATTACH;FMTTYPE=image/jpeg:https://brookswoodmeadowplaza.com/wp-content/uploads/2021/06/unnamed-2.jpg
END:VEVENT
BEGIN:VEVENT
DTSTART;TZID=America/Los_Angeles:20211211T180000
DTEND;TZID=America/Los_Angeles:20211211T180000
DTSTAMP:20260425T143253
CREATED:20211208T195832Z
LAST-MODIFIED:20211208T195832Z
UID:12838-1639245600-1639245600@brookswoodmeadowplaza.com
SUMMARY:Deschutes River Woods Christmas Parade\, 6pm
DESCRIPTION:https://www.facebook.com/photo/?fbid=4849693501762001&set=gm.3045838392401636
URL:https://brookswoodmeadowplaza.com/calendar/deschutes-river-woods-christmas-parade-6pm
LOCATION:Bend\, OR\, United States
CATEGORIES:Community,Free,Holiday,Kids/Family
ATTACH;FMTTYPE=image/jpeg:https://brookswoodmeadowplaza.com/wp-content/uploads/2021/12/265259209_4849693491762002_6989336286605138018_n.jpg
END:VEVENT
BEGIN:VEVENT
DTSTART;TZID=America/Los_Angeles:20211211T100000
DTEND;TZID=America/Los_Angeles:20211211T140000
DTSTAMP:20260425T143253
CREATED:20211208T200845Z
LAST-MODIFIED:20211208T200845Z
UID:12841-1639216800-1639231200@brookswoodmeadowplaza.com
SUMMARY:Deschutes River Woods Holiday Bazaar\, 10am-2pm
DESCRIPTION:https://www.facebook.com/photo/?fbid=4846975782033773&set=gm.3045752395743569
URL:https://brookswoodmeadowplaza.com/calendar/deschutes-river-woods-holiday-bazaar-10am-2pm
LOCATION:Bend\, OR\, United States
CATEGORIES:Art,Community,Free,Holiday,Kids/Family
ATTACH;FMTTYPE=image/jpeg:https://brookswoodmeadowplaza.com/wp-content/uploads/2021/12/265593779_10158374012656190_2528187662670654006_n.jpg
END:VEVENT
BEGIN:VEVENT
DTSTART;TZID=America/Los_Angeles:20211202T150000
DTEND;TZID=America/Los_Angeles:20211202T190000
DTSTAMP:20260425T143253
CREATED:20211026T190317Z
LAST-MODIFIED:20211130T171222Z
UID:12744-1638457200-1638471600@brookswoodmeadowplaza.com
SUMMARY:Holiday Sip & Shop at Austin Mercantile - Wildflower Fashion truck\, Michelle Adams photography\, Renee Eisenhauer cards and artwork\, The Fringed Hour\, Triumph Outpost\, Rainbows by Amy and more\, 3-7pm
DESCRIPTION:Join Austin Mercantile on Thursday for their first annual Holiday Sip & Shop!\nWildflower Fashion truck\, Michelle Adams photography\, Renee Eisenhauer cards and artwork\, The Fringed Hour\, Triumph Outpost\, Rainbows by Amy and more…..\nClothes\, leather goods\, art\, metal art\, handmade perfume\, great gifts\, wine & beer. 3-7pm\n@wildflower_mobile_boutique @rainbowsbyamy @thefringedhour @triumphoutpost @michelle.adamsphotography
URL:https://brookswoodmeadowplaza.com/calendar/holiday-boutique-wildflower-fashion-truck-artist-renee-eisenhower-author-zoe-falk-and-many-more-at-austin-mercantile-3-7pm
LOCATION:Bend\, OR\, United States
CATEGORIES:Art,Beauty,Community,Holiday
ATTACH;FMTTYPE=image/jpeg:https://brookswoodmeadowplaza.com/wp-content/uploads/2021/08/Austin-Mercantile-Logo-1st-choice.jpg
END:VEVENT
BEGIN:VEVENT
DTSTART;VALUE=DATE:20211126
DTEND;VALUE=DATE:20211216
DTSTAMP:20260425T143253
CREATED:20211117T201147Z
LAST-MODIFIED:20211117T201908Z
UID:12789-1637884800-1639612799@brookswoodmeadowplaza.com
SUMMARY:T&T Christmas Tree Lot in Front of Lovejoy's Market & Toddles!
DESCRIPTION:
URL:https://brookswoodmeadowplaza.com/calendar/tt-christmas-tree-lot-at-brookswood-plaza
LOCATION:Bend\, OR\, United States
CATEGORIES:Community,Holiday
ATTACH;FMTTYPE=image/jpeg:https://brookswoodmeadowplaza.com/wp-content/uploads/2021/11/TT-Chrismas-Trees.jpg
END:VEVENT
BEGIN:VEVENT
DTSTART;VALUE=DATE:20211125
DTEND;VALUE=DATE:20211126
DTSTAMP:20260425T143253
CREATED:20211117T201004Z
LAST-MODIFIED:20211117T201004Z
UID:12787-1637798400-1637884799@brookswoodmeadowplaza.com
SUMMARY:Happy Thanksgiving! OPEN: The Dailey Method - 10am Class Only (in studio & via Zoom)\, Snap Fitness & The Offices@Brookswood are Unstaffed (Always Open to Members).  CLOSED:  All Others
DESCRIPTION:
URL:https://brookswoodmeadowplaza.com/calendar/happy-thanksgiving-open-the-dailey-method-10am-class-only-in-studio-via-zoom-snap-fitness-the-officesbrookswood-are-unstaffed-always-open-to-members-closed-all-others
LOCATION:Bend\, OR\, United States
CATEGORIES:Community,Holiday
ATTACH;FMTTYPE=image/jpeg:https://brookswoodmeadowplaza.com/wp-content/uploads/2021/11/BMP-Thankgsgiving-Hours-2021-DRAFT-copy.jpg
END:VEVENT
BEGIN:VEVENT
DTSTART;TZID=America/Los_Angeles:20211112T160000
DTEND;TZID=America/Los_Angeles:20211112T190000
DTSTAMP:20260425T143253
CREATED:20211026T185938Z
LAST-MODIFIED:20211026T185938Z
UID:12742-1636732800-1636743600@brookswoodmeadowplaza.com
SUMMARY:Jewelry Trunk Show at Austin Mercantile - Featuring Local Designer\, Amy Brannan/Rainbows by Amy\, 4-7pm
DESCRIPTION:
URL:https://brookswoodmeadowplaza.com/calendar/jewelry-trunk-show-at-austin-mercantile-featuring-local-designer-amy-brannan-rainbows-by-amy-4-7pm
LOCATION:Bend\, OR\, United States
CATEGORIES:Art,Beauty,Community,Holiday
ATTACH;FMTTYPE=image/jpeg:https://brookswoodmeadowplaza.com/wp-content/uploads/2021/08/Austin-Mercantile-Logo-1st-choice.jpg
END:VEVENT
BEGIN:VEVENT
DTSTART;TZID=America/Los_Angeles:20210701T150000
DTEND;TZID=America/Los_Angeles:20210701T180000
DTSTAMP:20260425T143253
CREATED:20210617T174149Z
LAST-MODIFIED:20210701T175246Z
UID:12352-1625151600-1625162400@brookswoodmeadowplaza.com
SUMMARY:Wine Tasting at Lovejoy's Market - Wine Tasting - CANCELED DUE TO UNEXPECTED ILLNESS
DESCRIPTION:
URL:https://brookswoodmeadowplaza.com/calendar/wine-tasting-at-lovejoys-market-eola-hills-wines-3-6pm
LOCATION:Bend\, OR\, United States
CATEGORIES:Community,Free,Groceries,Holiday,Wine
ATTACH;FMTTYPE=image/jpeg:https://brookswoodmeadowplaza.com/wp-content/uploads/2021/06/IMG_7013.jpg
END:VEVENT
BEGIN:VEVENT
DTSTART;VALUE=DATE:20210404
DTEND;VALUE=DATE:20210405
DTSTAMP:20260425T143253
CREATED:20210316T190051Z
LAST-MODIFIED:20210316T190051Z
UID:12175-1617494400-1617580799@brookswoodmeadowplaza.com
SUMMARY:Passover Ends Today
DESCRIPTION:
URL:https://brookswoodmeadowplaza.com/calendar/passover-ends-today
LOCATION:Bend\, OR\, United States
CATEGORIES:Community,Holiday
END:VEVENT
BEGIN:VEVENT
DTSTART;TZID=America/Los_Angeles:20210402T140000
DTEND;TZID=America/Los_Angeles:20210402T170000
DTSTAMP:20260425T143253
CREATED:20210331T195121Z
LAST-MODIFIED:20210331T195121Z
UID:12259-1617372000-1617382800@brookswoodmeadowplaza.com
SUMMARY:Wine Tasting at Lovejoy's Market - Eola Hills Wines\, 2-5pm
DESCRIPTION:Join Eola Hills for a wine tasting at Lovejoy’s Market from 2-5pm on Friday\, April 2nd!
URL:https://brookswoodmeadowplaza.com/calendar/wine-tasting-at-lovejoys-market-eola-hills-wines-2-5pm
LOCATION:Bend\, OR\, United States
CATEGORIES:Community,Free,Groceries,Holiday,Wine
ATTACH;FMTTYPE=image/jpeg:https://brookswoodmeadowplaza.com/wp-content/uploads/2021/02/IMG_1705-1.jpg
END:VEVENT
BEGIN:VEVENT
DTSTART;VALUE=DATE:20210327
DTEND;VALUE=DATE:20210328
DTSTAMP:20260425T143253
CREATED:20210316T190015Z
LAST-MODIFIED:20210316T190015Z
UID:12173-1616803200-1616889599@brookswoodmeadowplaza.com
SUMMARY:Passover Begins at Sundown
DESCRIPTION:
URL:https://brookswoodmeadowplaza.com/calendar/passover-begins-at-sundown
LOCATION:Bend\, OR\, United States
CATEGORIES:Community,Holiday
END:VEVENT
BEGIN:VEVENT
DTSTART;VALUE=DATE:20201221
DTEND;VALUE=DATE:20201225
DTSTAMP:20260425T143253
CREATED:20201218T235424Z
LAST-MODIFIED:20201218T235426Z
UID:11796-1608508800-1608854399@brookswoodmeadowplaza.com
SUMMARY:Winter Art Camp at Roots Art & Nature School
DESCRIPTION:www.rootsartnatureschool.com
URL:https://brookswoodmeadowplaza.com/calendar/winter-art-camp-at-roots-art-nature-school
LOCATION:Bend\, OR\, United States
CATEGORIES:Art,Community,Holiday,Kids/Family,School
ATTACH;FMTTYPE=image/jpeg:https://brookswoodmeadowplaza.com/wp-content/uploads/2020/07/Roots-Art-Nature-School-Logo-2.jpg
END:VEVENT
BEGIN:VEVENT
DTSTART;VALUE=DATE:20201221
DTEND;VALUE=DATE:20201225
DTSTAMP:20260425T143253
CREATED:20201218T235424Z
LAST-MODIFIED:20201218T235426Z
UID:11796-1608508800-1608854399@brookswoodmeadowplaza.com
SUMMARY:Winter Art Camp at Roots Art & Nature School
DESCRIPTION:www.rootsartnatureschool.com
URL:https://brookswoodmeadowplaza.com/calendar/winter-art-camp-at-roots-art-nature-school
LOCATION:Bend\, OR\, United States
CATEGORIES:Art,Community,Holiday,Kids/Family,School
ATTACH;FMTTYPE=image/jpeg:https://brookswoodmeadowplaza.com/wp-content/uploads/2020/07/Roots-Art-Nature-School-Logo-2.jpg
END:VEVENT
BEGIN:VEVENT
DTSTART;VALUE=DATE:20201127
DTEND;VALUE=DATE:20201128
DTSTAMP:20260425T143253
CREATED:20201124T215610Z
LAST-MODIFIED:20201124T215611Z
UID:11740-1606435200-1606521599@brookswoodmeadowplaza.com
SUMMARY:Christmas Tree Lot Tree Sales Begin! T&T Christmas Trees on the Plaza in Front of Lovejoy's Market/Toddles Preschool
DESCRIPTION:
URL:https://brookswoodmeadowplaza.com/calendar/christmas-tree-lot-tree-sales-begin-tt-christmas-trees-on-the-plaza-in-front-of-lovejoys-market-toddles-preschool
LOCATION:Bend\, OR\, United States
CATEGORIES:Holiday,Kids/Family
ATTACH;FMTTYPE=image/jpeg:https://brookswoodmeadowplaza.com/wp-content/uploads/2020/11/Tree-Flyer-Lg2a.jpg
END:VEVENT
BEGIN:VEVENT
DTSTART;TZID=America/Los_Angeles:20201123T120000
DTEND;TZID=America/Los_Angeles:20201123T130000
DTSTAMP:20260425T143253
CREATED:20201116T233228Z
LAST-MODIFIED:20201116T233228Z
UID:11558-1606132800-1606136400@brookswoodmeadowplaza.com
SUMMARY:Holiday Brown Bag Meals Pick Up for Bend-Lapine Schools Students\, 12-1pm (At select sites\, including Elk Meadow Elementary School)
DESCRIPTION:https://www.bend.k12.or.us/district/parents/school-meals
URL:https://brookswoodmeadowplaza.com/calendar/holiday-brown-bag-meals-pick-up-for-bend-lapine-schools-students-12-1pm-at-select-sites-including-elk-meadow-elementary-school
LOCATION:OR
CATEGORIES:Community,Food,Free,Holiday,Kids/Family
ATTACH;FMTTYPE=image/png:https://brookswoodmeadowplaza.com/wp-content/uploads/2018/03/BLS_logo-dark.png
END:VEVENT
BEGIN:VEVENT
DTSTART;TZID=America/Los_Angeles:20200212T170000
DTEND;TZID=America/Los_Angeles:20200212T183000
DTSTAMP:20260425T143253
CREATED:20200210T211525Z
LAST-MODIFIED:20200210T211525Z
UID:10654-1581526800-1581532200@brookswoodmeadowplaza.com
SUMMARY:Valentines Printing Workshop for the Family (or Drop Off Age 5+) at ARTdog Children’s Studio (Register Online)\, 5-6:30pm
DESCRIPTION:Learn more about Valentines Printing Workshop for the Family (or Drop Off Age 5+) at ARTdog Children’s Studio (Register Online)! \n 
URL:https://brookswoodmeadowplaza.com/calendar/valentines-printing-workshop-for-the-family-or-drop-off-age-5-at-artdog-childrens-studio-register-online-5-630pm
LOCATION:Bend\, United States
CATEGORIES:Art,Community,Holiday,Kids/Family,Well Being,Wellness
ATTACH;FMTTYPE=image/png:https://brookswoodmeadowplaza.com/wp-content/uploads/2019/08/65256204_1337204583112492_9195278720196149248_o.png
END:VEVENT
BEGIN:VEVENT
DTSTART;TZID=America/Los_Angeles:20191220T150000
DTEND;TZID=America/Los_Angeles:20191220T190000
DTSTAMP:20260425T143253
CREATED:20191122T231212Z
LAST-MODIFIED:20191122T231212Z
UID:10265-1576854000-1576868400@brookswoodmeadowplaza.com
SUMMARY:Holiday Makers Market at The Peoples Apothecary\, 3-7pm
DESCRIPTION:Learn more about Holiday Makers Market at The Peoples Apothecary’s Facebook Page!
URL:https://brookswoodmeadowplaza.com/calendar/holiday-makers-market-at-the-peoples-apothecary-3-7pm
LOCATION:Bend\, United States
CATEGORIES:Community,Health,Holiday,Well Being,Wellness
ATTACH;FMTTYPE=image/jpeg:https://brookswoodmeadowplaza.com/wp-content/uploads/2019/11/75649429_906525509744037_2071698387421364224_o.jpg
END:VEVENT
BEGIN:VEVENT
DTSTART;TZID=America/Los_Angeles:20191219T180000
DTEND;TZID=America/Los_Angeles:20191219T203000
DTSTAMP:20260425T143253
CREATED:20191022T185213Z
LAST-MODIFIED:20191022T185213Z
UID:10115-1576778400-1576787400@brookswoodmeadowplaza.com
SUMMARY:Tune Into the Magic of the Season at The Peoples Apothecary\, 6-8:30pm
DESCRIPTION:Learn more about Tune Into the Magic of the Season at The Peoples Apothecary’s Facebook Page!
URL:https://brookswoodmeadowplaza.com/calendar/tune-into-the-magic-of-the-season-at-the-peoples-apothecary-6-830pm
LOCATION:Bend\, United States
CATEGORIES:Community,Health,Holiday,Well Being,Wellness
ATTACH;FMTTYPE=image/jpeg:https://brookswoodmeadowplaza.com/wp-content/uploads/2019/10/The-Peoples-Apothecary-Square-Logo.jpg
END:VEVENT
BEGIN:VEVENT
DTSTART;TZID=America/Los_Angeles:20191129T140000
DTEND;TZID=America/Los_Angeles:20191129T210000
DTSTAMP:20260425T143253
CREATED:20191125T161759Z
LAST-MODIFIED:20191125T161800Z
UID:10278-1575036000-1575061200@brookswoodmeadowplaza.com
SUMMARY:Black Friday Pizza Perfect Sale at Local Slice! "Buy one pizza and get a second 2-topping pizza of the same size 50% off! Offer is good on Black Friday (11/29)!"
DESCRIPTION:Learn more about Black Friday Pizza Perfect Sale at Local Slice’s Facebook Page! “Buy one pizza and get a second 2-topping pizza of the same size 50% off! Offer is good on Black Friday (11/29)!”
URL:https://brookswoodmeadowplaza.com/calendar/black-friday-pizza-perfect-sale-at-local-slice-buy-one-pizza-and-get-a-second-2-topping-pizza-of-the-same-size-50-off-offer-is-good-on-black-friday-11-29
LOCATION:Bend\, United States
CATEGORIES:Community,Food,Holiday,Kids/Family,Pizza
ATTACH;FMTTYPE=image/jpeg:https://brookswoodmeadowplaza.com/wp-content/uploads/2018/06/4416b5bd-26a8-492d-a5d5-c979cbd2ecda.jpg
END:VEVENT
BEGIN:VEVENT
DTSTART;TZID=America/Los_Angeles:20191127T143000
DTEND;TZID=America/Los_Angeles:20191127T143000
DTSTAMP:20260425T143253
CREATED:20191125T165740Z
LAST-MODIFIED:20191125T165740Z
UID:10281-1574865000-1574865000@brookswoodmeadowplaza.com
SUMMARY:Wine Tasting at C.E. Lovejoy's Market - Willamette Valley Vineyards Wines\, 2:30pm
DESCRIPTION:
URL:https://brookswoodmeadowplaza.com/calendar/wine-tasting-at-c-e-lovejoys-market-willamette-valley-vineyards-wines-230pm
LOCATION:Bend\, United States
CATEGORIES:Community,Free,Groceries,Holiday,Wine
ATTACH;FMTTYPE=image/png:https://brookswoodmeadowplaza.com/wp-content/uploads/2016/10/1.png
END:VEVENT
BEGIN:VEVENT
DTSTART;TZID=America/Los_Angeles:20191123T100000
DTEND;TZID=America/Los_Angeles:20191123T160000
DTSTAMP:20260425T143253
CREATED:20191021T175336Z
LAST-MODIFIED:20191021T175337Z
UID:10086-1574503200-1574524800@brookswoodmeadowplaza.com
SUMMARY:2nd Annual Elk Meadow Elementary School Holiday Bazaar at Elk Meadow Elementary\, 10am-4pm
DESCRIPTION:Learn more about the 2nd Annual Elk Meadow Elementary School Holiday Bazaar by visiting the Elk Meadow PTO’s Facebook Page!
URL:https://brookswoodmeadowplaza.com/calendar/2nd-annual-elk-meadow-elementary-school-holiday-bazaar-at-elk-meadow-elementary-10am-4pm
LOCATION:Bend\, United States
CATEGORIES:Art,Community,Holiday,Kids/Family,School
ATTACH;FMTTYPE=image/png:https://brookswoodmeadowplaza.com/wp-content/uploads/2018/09/14484689_667082263446356_3349549334752619566_n.png
END:VEVENT
BEGIN:VEVENT
DTSTART;TZID=America/Los_Angeles:20190811T150000
DTEND;TZID=America/Los_Angeles:20190811T160000
DTSTAMP:20260425T143253
CREATED:20190702T173401Z
LAST-MODIFIED:20190702T173401Z
UID:9588-1565535600-1565539200@brookswoodmeadowplaza.com
SUMMARY:Barre Meets Yoga Class at The Dailey Method-Bend Barre Studio\, 3-4pm
DESCRIPTION:Learn more about the Barre Meets Yoga Class at The Dailey Method’s Facebook Page!
URL:https://brookswoodmeadowplaza.com/calendar/barre-meets-yoga-class-at-the-dailey-method-bend-barre-studio-3-4pm
LOCATION:Bend\, United States
CATEGORIES:Barre Class,Community,Fitness,Holiday,Summer,Well Being,Wellness,Yoga
ATTACH;FMTTYPE=image/jpeg:https://brookswoodmeadowplaza.com/wp-content/uploads/2018/10/43074539_1151731088307534_5687740003711451136_n.jpg
END:VEVENT
BEGIN:VEVENT
DTSTART;TZID=America/Los_Angeles:20181216T110000
DTEND;TZID=America/Los_Angeles:20181216T110000
DTSTAMP:20260425T143253
CREATED:20181127T203003Z
LAST-MODIFIED:20181127T203003Z
UID:7553-1544958000-1544958000@brookswoodmeadowplaza.com
SUMMARY:Craft Together: Herbal Paints + Holiday Craft (Parents and Kids) by Fettle Botanic Bend and Creative Wellness Studio\, 11am
DESCRIPTION:Learn more at Fettle Botanic Bend’s Facebook Page and at Creative Wellness Studio’s Website!
URL:https://brookswoodmeadowplaza.com/calendar/craft-together-herbal-paints-holiday-craft-parents-and-kids-by-fettle-botanic-bend-and-creative-wellness-studio-11am
LOCATION:Bend\, United States
CATEGORIES:Art,Holiday,Kids/Family,Wellness
ATTACH;FMTTYPE=image/jpeg:https://brookswoodmeadowplaza.com/wp-content/uploads/2018/11/Fettle-CWS-Combined_edited-1.jpg
END:VEVENT
BEGIN:VEVENT
DTSTART;TZID=America/Los_Angeles:20181215T180000
DTEND;TZID=America/Los_Angeles:20181215T180000
DTSTAMP:20260425T143253
CREATED:20181127T202825Z
LAST-MODIFIED:20181127T202825Z
UID:7550-1544896800-1544896800@brookswoodmeadowplaza.com
SUMMARY:Make Your Own Bath Bombs at Fettle Botanic Bend\, 6pm
DESCRIPTION:Learn more at Fettle Botanic Bend’s Facebook Page !
URL:https://brookswoodmeadowplaza.com/calendar/make-your-own-bath-bombs-at-fettle-botanic-bend-6pm
LOCATION:Bend\, United States
CATEGORIES:Holiday,Kids/Family,Well Being,Wellness
ATTACH;FMTTYPE=image/jpeg:https://brookswoodmeadowplaza.com/wp-content/uploads/2018/10/Logo-Bend.jpg
END:VEVENT
BEGIN:VEVENT
DTSTART;TZID=America/Los_Angeles:20181208T140000
DTEND;TZID=America/Los_Angeles:20181208T151500
DTSTAMP:20260425T143253
CREATED:20181016T194247Z
LAST-MODIFIED:20181016T194247Z
UID:7363-1544277600-1544282100@brookswoodmeadowplaza.com
SUMMARY:Handmade Gifts Workshop at Creative Wellness Studio\, 2pm (Ages 4-13)
DESCRIPTION:From Creative Wellness Studio’s Facebook Page: “Send your kiddo to the studio to create the perfect handmade gifts for the holidays! We’ll have ideas to inspire and a ton of materials and supplies they to create jewelry\, fabric goods\, and all kinds of arts and crafts. Your child is welcome to make as many gifts as they want during each workshop\, and we’ll even help them wrap and create gift tags! No last minute shopping or wrapping needed\, your kids will be all set for the holidays. Perfect for ages 4-13. Cost $20.”  Register at www.creativewellnessstudio.com
URL:https://brookswoodmeadowplaza.com/calendar/handmade-gifts-workshop-at-creative-wellness-studio-2pm-ages-4-13-2
LOCATION:Creative Wellness Studio\, 19570 Amber Meadow Drive\, Suite 130\, Bend\, OR\, 97702\, United States
CATEGORIES:Art,Holiday,Kids/Family
ATTACH;FMTTYPE=image/jpeg:https://brookswoodmeadowplaza.com/wp-content/uploads/2018/10/44273280_1159260604240225_756519937563951104_o.jpg
END:VEVENT
BEGIN:VEVENT
DTSTART;TZID=America/Los_Angeles:20181207T183000
DTEND;TZID=America/Los_Angeles:20181207T183000
DTSTAMP:20260425T143253
CREATED:20181127T195604Z
LAST-MODIFIED:20181127T195604Z
UID:7532-1544207400-1544207400@brookswoodmeadowplaza.com
SUMMARY:Tea Blending + Ceramic Gift Tag Workshop by Fettle Botanic Bend & Creative Wellness Studio\, 6:30pm
DESCRIPTION:Learn more at Fettle Botanic Bend’s Facebook Page and at Creative Wellness Studio’s Website!
URL:https://brookswoodmeadowplaza.com/calendar/tea-blending-ceramic-gift-tag-workshop-by-fettle-botanic-bend-creative-wellness-studio-630pm
LOCATION:Bend\, United States
CATEGORIES:Art,Holiday
ATTACH;FMTTYPE=image/jpeg:https://brookswoodmeadowplaza.com/wp-content/uploads/2018/11/Fettle-CWS-Combined_edited-1.jpg
END:VEVENT
BEGIN:VEVENT
DTSTART;TZID=America/Los_Angeles:20181202T110000
DTEND;TZID=America/Los_Angeles:20181202T230000
DTSTAMP:20260425T143253
CREATED:20181127T195403Z
LAST-MODIFIED:20181127T195403Z
UID:7528-1543748400-1543791600@brookswoodmeadowplaza.com
SUMMARY:Coloring + Tea Party (Parents and Kids) by Fettle Botanic Bend & Creative Wellness Studio\, 11am
DESCRIPTION:Learn more at Fettle Botanic Bend’s Facebook Page and at Creative Wellness Studio’s Website! \n 
URL:https://brookswoodmeadowplaza.com/calendar/coloring-tea-party-parents-and-kids-by-fettle-botanic-bend-creative-wellness-studio-11am
LOCATION:Bend\, United States
CATEGORIES:Art,Holiday,Kids/Family,Wellness
ATTACH;FMTTYPE=image/jpeg:https://brookswoodmeadowplaza.com/wp-content/uploads/2018/11/Fettle-CWS-Combined_edited-1.jpg
END:VEVENT
BEGIN:VEVENT
DTSTART;TZID=America/Los_Angeles:20181201T140000
DTEND;TZID=America/Los_Angeles:20181201T151500
DTSTAMP:20260425T143253
CREATED:20181016T194114Z
LAST-MODIFIED:20181016T194114Z
UID:7360-1543672800-1543677300@brookswoodmeadowplaza.com
SUMMARY:Handmade Gifts Workshop at Creative Wellness Studio\, 2pm (Ages 4-13)
DESCRIPTION:From Creative Wellness Studio’s Facebook Page: “Send your kiddo to the studio to create the perfect handmade gifts for the holidays! We’ll have ideas to inspire and a ton of materials and supplies they to create jewelry\, fabric goods\, and all kinds of arts and crafts. Your child is welcome to make as many gifts as they want during each workshop\, and we’ll even help them wrap and create gift tags! No last minute shopping or wrapping needed\, your kids will be all set for the holidays. Perfect for ages 4-13. Cost $20.”  Register at www.creativewellnessstudio.com
URL:https://brookswoodmeadowplaza.com/calendar/handmade-gifts-workshop-at-creative-wellness-studio-2pm-ages-4-13
LOCATION:Creative Wellness Studio\, 19570 Amber Meadow Drive\, Suite 130\, Bend\, OR\, 97702\, United States
CATEGORIES:Art,Holiday,Kids/Family
ATTACH;FMTTYPE=image/jpeg:https://brookswoodmeadowplaza.com/wp-content/uploads/2018/10/44273280_1159260604240225_756519937563951104_o.jpg
END:VEVENT
END:VCALENDAR