BEGIN:VCALENDAR
VERSION:2.0
PRODID:-//Brookswood Meadow Plaza - ECPv6.15.13.1//NONSGML v1.0//EN
CALSCALE:GREGORIAN
METHOD:PUBLISH
X-WR-CALNAME:Brookswood Meadow Plaza
X-ORIGINAL-URL:https://brookswoodmeadowplaza.com
X-WR-CALDESC:Events for Brookswood Meadow Plaza
REFRESH-INTERVAL;VALUE=DURATION:PT1H
X-Robots-Tag:noindex
X-PUBLISHED-TTL:PT1H
BEGIN:VTIMEZONE
TZID:America/Los_Angeles
BEGIN:DAYLIGHT
TZOFFSETFROM:-0800
TZOFFSETTO:-0700
TZNAME:PDT
DTSTART:20180311T100000
END:DAYLIGHT
BEGIN:STANDARD
TZOFFSETFROM:-0700
TZOFFSETTO:-0800
TZNAME:PST
DTSTART:20181104T090000
END:STANDARD
BEGIN:DAYLIGHT
TZOFFSETFROM:-0800
TZOFFSETTO:-0700
TZNAME:PDT
DTSTART:20190310T100000
END:DAYLIGHT
BEGIN:STANDARD
TZOFFSETFROM:-0700
TZOFFSETTO:-0800
TZNAME:PST
DTSTART:20191103T090000
END:STANDARD
BEGIN:DAYLIGHT
TZOFFSETFROM:-0800
TZOFFSETTO:-0700
TZNAME:PDT
DTSTART:20200308T100000
END:DAYLIGHT
BEGIN:STANDARD
TZOFFSETFROM:-0700
TZOFFSETTO:-0800
TZNAME:PST
DTSTART:20201101T090000
END:STANDARD
BEGIN:DAYLIGHT
TZOFFSETFROM:-0800
TZOFFSETTO:-0700
TZNAME:PDT
DTSTART:20210314T100000
END:DAYLIGHT
BEGIN:STANDARD
TZOFFSETFROM:-0700
TZOFFSETTO:-0800
TZNAME:PST
DTSTART:20211107T090000
END:STANDARD
END:VTIMEZONE
BEGIN:VEVENT
DTSTART;TZID=America/Los_Angeles:20200131T160000
DTEND;TZID=America/Los_Angeles:20200131T180000
DTSTAMP:20260425T180140
CREATED:20200129T184738Z
LAST-MODIFIED:20200129T184738Z
UID:10501-1580486400-1580493600@brookswoodmeadowplaza.com
SUMMARY:Habit Hot Sauce Tasting (They’re Local!) at C.E\, Lovejoy’s\, 4-6pm
DESCRIPTION:Learn  more about Habit Hot Sauce Tasting at C.E\, Lovejoy’s Facebook Page!
URL:https://brookswoodmeadowplaza.com/calendar/habit-hot-sauce-tasting-theyre-local-at-c-e-lovejoys-4-6pm
LOCATION:Bend\, United States
CATEGORIES:Community,Food,Free,Groceries,Kids/Family
ATTACH;FMTTYPE=image/png:https://brookswoodmeadowplaza.com/wp-content/uploads/2019/12/Exterior-Logo-No-Background_edited-2-scaled.png
END:VEVENT
BEGIN:VEVENT
DTSTART;VALUE=DATE:20200131
DTEND;VALUE=DATE:20200201
DTSTAMP:20260425T180140
CREATED:20200129T185036Z
LAST-MODIFIED:20200129T185036Z
UID:10504-1580428800-1580515199@brookswoodmeadowplaza.com
SUMMARY:No School Art Camp at ARTdog – Register at artdogbend.com
DESCRIPTION:Learn more about No School Art Camp at artdogbend.com!
URL:https://brookswoodmeadowplaza.com/calendar/no-school-art-camp-at-artdog-register-at-artdogbend-com
LOCATION:Bend\, United States
CATEGORIES:Art,Community,Kids/Family,School,Well Being,Wellness
ATTACH;FMTTYPE=image/png:https://brookswoodmeadowplaza.com/wp-content/uploads/2019/08/65256204_1337204583112492_9195278720196149248_o.png
END:VEVENT
BEGIN:VEVENT
DTSTART;TZID=America/Los_Angeles:20190911T073000
DTEND;TZID=America/Los_Angeles:20190911T100000
DTSTAMP:20260425T180140
CREATED:20190916T183257Z
LAST-MODIFIED:20190916T183257Z
UID:9922-1568187000-1568196000@brookswoodmeadowplaza.com
SUMMARY:Pancake Breakfast at C.E. Lovejoy's\, 7:30-10am
DESCRIPTION:Saturdays and Wednesdays are Pancake Breakfast Mornings at Lovejoy’s 7:30-10am! *HOT & FRESH Every Wednesday & Saturday* Two Pancakes\, a Sausage & a Small Coffee for $4.99 Eat them there or get them to go! Includes syrup and toppings. CELovejoys.com
URL:https://brookswoodmeadowplaza.com/calendar/pancake-breakfast-at-c-e-lovejoys-730-10am-2
LOCATION:Bend\, United States
CATEGORIES:Community,Food,Groceries,Kids/Family
ATTACH;FMTTYPE=image/jpeg:https://brookswoodmeadowplaza.com/wp-content/uploads/2019/06/pancakebreakfast_wedsat-7-30a_edited-1-copy.jpg
END:VEVENT
BEGIN:VEVENT
DTSTART;TZID=America/Los_Angeles:20190911T073000
DTEND;TZID=America/Los_Angeles:20190911T100000
DTSTAMP:20260425T180140
CREATED:20190916T183257Z
LAST-MODIFIED:20190916T183257Z
UID:9922-1568187000-1568196000@brookswoodmeadowplaza.com
SUMMARY:Pancake Breakfast at C.E. Lovejoy's\, 7:30-10am
DESCRIPTION:Saturdays and Wednesdays are Pancake Breakfast Mornings at Lovejoy’s 7:30-10am! *HOT & FRESH Every Wednesday & Saturday* Two Pancakes\, a Sausage & a Small Coffee for $4.99 Eat them there or get them to go! Includes syrup and toppings. CELovejoys.com
URL:https://brookswoodmeadowplaza.com/calendar/pancake-breakfast-at-c-e-lovejoys-730-10am-2
LOCATION:Bend\, United States
CATEGORIES:Community,Food,Groceries,Kids/Family
ATTACH;FMTTYPE=image/jpeg:https://brookswoodmeadowplaza.com/wp-content/uploads/2019/06/pancakebreakfast_wedsat-7-30a_edited-1-copy.jpg
END:VEVENT
BEGIN:VEVENT
DTSTART;TZID=America/Los_Angeles:20190911T073000
DTEND;TZID=America/Los_Angeles:20190911T100000
DTSTAMP:20260425T180140
CREATED:20190916T183257Z
LAST-MODIFIED:20190916T183257Z
UID:9922-1568187000-1568196000@brookswoodmeadowplaza.com
SUMMARY:Pancake Breakfast at C.E. Lovejoy's\, 7:30-10am
DESCRIPTION:Saturdays and Wednesdays are Pancake Breakfast Mornings at Lovejoy’s 7:30-10am! *HOT & FRESH Every Wednesday & Saturday* Two Pancakes\, a Sausage & a Small Coffee for $4.99 Eat them there or get them to go! Includes syrup and toppings. CELovejoys.com
URL:https://brookswoodmeadowplaza.com/calendar/pancake-breakfast-at-c-e-lovejoys-730-10am-2
LOCATION:Bend\, United States
CATEGORIES:Community,Food,Groceries,Kids/Family
ATTACH;FMTTYPE=image/jpeg:https://brookswoodmeadowplaza.com/wp-content/uploads/2019/06/pancakebreakfast_wedsat-7-30a_edited-1-copy.jpg
END:VEVENT
BEGIN:VEVENT
DTSTART;TZID=America/Los_Angeles:20190911T073000
DTEND;TZID=America/Los_Angeles:20190911T100000
DTSTAMP:20260425T180140
CREATED:20190916T183257Z
LAST-MODIFIED:20190916T183257Z
UID:9922-1568187000-1568196000@brookswoodmeadowplaza.com
SUMMARY:Pancake Breakfast at C.E. Lovejoy's\, 7:30-10am
DESCRIPTION:Saturdays and Wednesdays are Pancake Breakfast Mornings at Lovejoy’s 7:30-10am! *HOT & FRESH Every Wednesday & Saturday* Two Pancakes\, a Sausage & a Small Coffee for $4.99 Eat them there or get them to go! Includes syrup and toppings. CELovejoys.com
URL:https://brookswoodmeadowplaza.com/calendar/pancake-breakfast-at-c-e-lovejoys-730-10am-2
LOCATION:Bend\, United States
CATEGORIES:Community,Food,Groceries,Kids/Family
ATTACH;FMTTYPE=image/jpeg:https://brookswoodmeadowplaza.com/wp-content/uploads/2019/06/pancakebreakfast_wedsat-7-30a_edited-1-copy.jpg
END:VEVENT
BEGIN:VEVENT
DTSTART;TZID=America/Los_Angeles:20190911T073000
DTEND;TZID=America/Los_Angeles:20190911T100000
DTSTAMP:20260425T180140
CREATED:20190916T183257Z
LAST-MODIFIED:20190916T183257Z
UID:9922-1568187000-1568196000@brookswoodmeadowplaza.com
SUMMARY:Pancake Breakfast at C.E. Lovejoy's\, 7:30-10am
DESCRIPTION:Saturdays and Wednesdays are Pancake Breakfast Mornings at Lovejoy’s 7:30-10am! *HOT & FRESH Every Wednesday & Saturday* Two Pancakes\, a Sausage & a Small Coffee for $4.99 Eat them there or get them to go! Includes syrup and toppings. CELovejoys.com
URL:https://brookswoodmeadowplaza.com/calendar/pancake-breakfast-at-c-e-lovejoys-730-10am-2
LOCATION:Bend\, United States
CATEGORIES:Community,Food,Groceries,Kids/Family
ATTACH;FMTTYPE=image/jpeg:https://brookswoodmeadowplaza.com/wp-content/uploads/2019/06/pancakebreakfast_wedsat-7-30a_edited-1-copy.jpg
END:VEVENT
BEGIN:VEVENT
DTSTART;TZID=America/Los_Angeles:20190911T073000
DTEND;TZID=America/Los_Angeles:20190911T100000
DTSTAMP:20260425T180140
CREATED:20190916T183257Z
LAST-MODIFIED:20190916T183257Z
UID:9922-1568187000-1568196000@brookswoodmeadowplaza.com
SUMMARY:Pancake Breakfast at C.E. Lovejoy's\, 7:30-10am
DESCRIPTION:Saturdays and Wednesdays are Pancake Breakfast Mornings at Lovejoy’s 7:30-10am! *HOT & FRESH Every Wednesday & Saturday* Two Pancakes\, a Sausage & a Small Coffee for $4.99 Eat them there or get them to go! Includes syrup and toppings. CELovejoys.com
URL:https://brookswoodmeadowplaza.com/calendar/pancake-breakfast-at-c-e-lovejoys-730-10am-2
LOCATION:Bend\, United States
CATEGORIES:Community,Food,Groceries,Kids/Family
ATTACH;FMTTYPE=image/jpeg:https://brookswoodmeadowplaza.com/wp-content/uploads/2019/06/pancakebreakfast_wedsat-7-30a_edited-1-copy.jpg
END:VEVENT
BEGIN:VEVENT
DTSTART;TZID=America/Los_Angeles:20190911T073000
DTEND;TZID=America/Los_Angeles:20190911T100000
DTSTAMP:20260425T180140
CREATED:20190916T183257Z
LAST-MODIFIED:20190916T183257Z
UID:9922-1568187000-1568196000@brookswoodmeadowplaza.com
SUMMARY:Pancake Breakfast at C.E. Lovejoy's\, 7:30-10am
DESCRIPTION:Saturdays and Wednesdays are Pancake Breakfast Mornings at Lovejoy’s 7:30-10am! *HOT & FRESH Every Wednesday & Saturday* Two Pancakes\, a Sausage & a Small Coffee for $4.99 Eat them there or get them to go! Includes syrup and toppings. CELovejoys.com
URL:https://brookswoodmeadowplaza.com/calendar/pancake-breakfast-at-c-e-lovejoys-730-10am-2
LOCATION:Bend\, United States
CATEGORIES:Community,Food,Groceries,Kids/Family
ATTACH;FMTTYPE=image/jpeg:https://brookswoodmeadowplaza.com/wp-content/uploads/2019/06/pancakebreakfast_wedsat-7-30a_edited-1-copy.jpg
END:VEVENT
BEGIN:VEVENT
DTSTART;TZID=America/Los_Angeles:20190911T073000
DTEND;TZID=America/Los_Angeles:20190911T100000
DTSTAMP:20260425T180140
CREATED:20190916T183257Z
LAST-MODIFIED:20190916T183257Z
UID:9922-1568187000-1568196000@brookswoodmeadowplaza.com
SUMMARY:Pancake Breakfast at C.E. Lovejoy's\, 7:30-10am
DESCRIPTION:Saturdays and Wednesdays are Pancake Breakfast Mornings at Lovejoy’s 7:30-10am! *HOT & FRESH Every Wednesday & Saturday* Two Pancakes\, a Sausage & a Small Coffee for $4.99 Eat them there or get them to go! Includes syrup and toppings. CELovejoys.com
URL:https://brookswoodmeadowplaza.com/calendar/pancake-breakfast-at-c-e-lovejoys-730-10am-2
LOCATION:Bend\, United States
CATEGORIES:Community,Food,Groceries,Kids/Family
ATTACH;FMTTYPE=image/jpeg:https://brookswoodmeadowplaza.com/wp-content/uploads/2019/06/pancakebreakfast_wedsat-7-30a_edited-1-copy.jpg
END:VEVENT
BEGIN:VEVENT
DTSTART;TZID=America/Los_Angeles:20190911T073000
DTEND;TZID=America/Los_Angeles:20190911T100000
DTSTAMP:20260425T180140
CREATED:20190916T183257Z
LAST-MODIFIED:20190916T183257Z
UID:9922-1568187000-1568196000@brookswoodmeadowplaza.com
SUMMARY:Pancake Breakfast at C.E. Lovejoy's\, 7:30-10am
DESCRIPTION:Saturdays and Wednesdays are Pancake Breakfast Mornings at Lovejoy’s 7:30-10am! *HOT & FRESH Every Wednesday & Saturday* Two Pancakes\, a Sausage & a Small Coffee for $4.99 Eat them there or get them to go! Includes syrup and toppings. CELovejoys.com
URL:https://brookswoodmeadowplaza.com/calendar/pancake-breakfast-at-c-e-lovejoys-730-10am-2
LOCATION:Bend\, United States
CATEGORIES:Community,Food,Groceries,Kids/Family
ATTACH;FMTTYPE=image/jpeg:https://brookswoodmeadowplaza.com/wp-content/uploads/2019/06/pancakebreakfast_wedsat-7-30a_edited-1-copy.jpg
END:VEVENT
BEGIN:VEVENT
DTSTART;TZID=America/Los_Angeles:20190911T073000
DTEND;TZID=America/Los_Angeles:20190911T100000
DTSTAMP:20260425T180140
CREATED:20190916T183257Z
LAST-MODIFIED:20190916T183257Z
UID:9922-1568187000-1568196000@brookswoodmeadowplaza.com
SUMMARY:Pancake Breakfast at C.E. Lovejoy's\, 7:30-10am
DESCRIPTION:Saturdays and Wednesdays are Pancake Breakfast Mornings at Lovejoy’s 7:30-10am! *HOT & FRESH Every Wednesday & Saturday* Two Pancakes\, a Sausage & a Small Coffee for $4.99 Eat them there or get them to go! Includes syrup and toppings. CELovejoys.com
URL:https://brookswoodmeadowplaza.com/calendar/pancake-breakfast-at-c-e-lovejoys-730-10am-2
LOCATION:Bend\, United States
CATEGORIES:Community,Food,Groceries,Kids/Family
ATTACH;FMTTYPE=image/jpeg:https://brookswoodmeadowplaza.com/wp-content/uploads/2019/06/pancakebreakfast_wedsat-7-30a_edited-1-copy.jpg
END:VEVENT
BEGIN:VEVENT
DTSTART;TZID=America/Los_Angeles:20190911T073000
DTEND;TZID=America/Los_Angeles:20190911T100000
DTSTAMP:20260425T180140
CREATED:20190916T183257Z
LAST-MODIFIED:20190916T183257Z
UID:9922-1568187000-1568196000@brookswoodmeadowplaza.com
SUMMARY:Pancake Breakfast at C.E. Lovejoy's\, 7:30-10am
DESCRIPTION:Saturdays and Wednesdays are Pancake Breakfast Mornings at Lovejoy’s 7:30-10am! *HOT & FRESH Every Wednesday & Saturday* Two Pancakes\, a Sausage & a Small Coffee for $4.99 Eat them there or get them to go! Includes syrup and toppings. CELovejoys.com
URL:https://brookswoodmeadowplaza.com/calendar/pancake-breakfast-at-c-e-lovejoys-730-10am-2
LOCATION:Bend\, United States
CATEGORIES:Community,Food,Groceries,Kids/Family
ATTACH;FMTTYPE=image/jpeg:https://brookswoodmeadowplaza.com/wp-content/uploads/2019/06/pancakebreakfast_wedsat-7-30a_edited-1-copy.jpg
END:VEVENT
BEGIN:VEVENT
DTSTART;TZID=America/Los_Angeles:20190911T073000
DTEND;TZID=America/Los_Angeles:20190911T100000
DTSTAMP:20260425T180140
CREATED:20190916T183257Z
LAST-MODIFIED:20190916T183257Z
UID:9922-1568187000-1568196000@brookswoodmeadowplaza.com
SUMMARY:Pancake Breakfast at C.E. Lovejoy's\, 7:30-10am
DESCRIPTION:Saturdays and Wednesdays are Pancake Breakfast Mornings at Lovejoy’s 7:30-10am! *HOT & FRESH Every Wednesday & Saturday* Two Pancakes\, a Sausage & a Small Coffee for $4.99 Eat them there or get them to go! Includes syrup and toppings. CELovejoys.com
URL:https://brookswoodmeadowplaza.com/calendar/pancake-breakfast-at-c-e-lovejoys-730-10am-2
LOCATION:Bend\, United States
CATEGORIES:Community,Food,Groceries,Kids/Family
ATTACH;FMTTYPE=image/jpeg:https://brookswoodmeadowplaza.com/wp-content/uploads/2019/06/pancakebreakfast_wedsat-7-30a_edited-1-copy.jpg
END:VEVENT
BEGIN:VEVENT
DTSTART;TZID=America/Los_Angeles:20191214T180000
DTEND;TZID=America/Los_Angeles:20191214T200000
DTSTAMP:20260425T180140
CREATED:20191022T185845Z
LAST-MODIFIED:20191022T185845Z
UID:10118-1576346400-1576353600@brookswoodmeadowplaza.com
SUMMARY:Parents’ Night Out (for kids!) at ARTdog Children’s Studio\, 6-8pm (Register at ARTdogBend.com)
DESCRIPTION:Parents’ Night Out (for kids!) at ARTdog Children’s Studio\, 6-8pm (Register at ARTdogBend.com)!
URL:https://brookswoodmeadowplaza.com/calendar/parents-night-out-for-kids-at-artdog-childrens-studio-6-8pm-register-at-artdogbend-com
LOCATION:Bend\, United States
CATEGORIES:Kids/Family
ATTACH;FMTTYPE=image/png:https://brookswoodmeadowplaza.com/wp-content/uploads/2019/08/65256204_1337204583112492_9195278720196149248_o.png
END:VEVENT
BEGIN:VEVENT
DTSTART;TZID=America/Los_Angeles:20191214T180000
DTEND;TZID=America/Los_Angeles:20191214T200000
DTSTAMP:20260425T180140
CREATED:20191010T003253Z
LAST-MODIFIED:20191010T003307Z
UID:10035-1576346400-1576353600@brookswoodmeadowplaza.com
SUMMARY:Parents’ Night Out (for kids!) at ARTdog Children’s Studio\, 6-8pm (Register at ARTdogBend.com)
DESCRIPTION:Learn more and register for Parents’ Night Out (for kids!) at ARTdog Children’s Studio\, 6-8pm at ARTdogbend.com!
URL:https://brookswoodmeadowplaza.com/calendar/parents-night-out-for-kids-at-artdog-childrens-studio-6-8pm-register-at-artdog-com-3
LOCATION:Bend\, United States
CATEGORIES:Art,Community,Kids/Family
ATTACH;FMTTYPE=image/png:https://brookswoodmeadowplaza.com/wp-content/uploads/2019/08/65256204_1337204583112492_9195278720196149248_o.png
END:VEVENT
BEGIN:VEVENT
DTSTART;TZID=America/Los_Angeles:20190911T073000
DTEND;TZID=America/Los_Angeles:20190911T100000
DTSTAMP:20260425T180140
CREATED:20190916T183257Z
LAST-MODIFIED:20190916T183257Z
UID:9922-1568187000-1568196000@brookswoodmeadowplaza.com
SUMMARY:Pancake Breakfast at C.E. Lovejoy's\, 7:30-10am
DESCRIPTION:Saturdays and Wednesdays are Pancake Breakfast Mornings at Lovejoy’s 7:30-10am! *HOT & FRESH Every Wednesday & Saturday* Two Pancakes\, a Sausage & a Small Coffee for $4.99 Eat them there or get them to go! Includes syrup and toppings. CELovejoys.com
URL:https://brookswoodmeadowplaza.com/calendar/pancake-breakfast-at-c-e-lovejoys-730-10am-2
LOCATION:Bend\, United States
CATEGORIES:Community,Food,Groceries,Kids/Family
ATTACH;FMTTYPE=image/jpeg:https://brookswoodmeadowplaza.com/wp-content/uploads/2019/06/pancakebreakfast_wedsat-7-30a_edited-1-copy.jpg
END:VEVENT
BEGIN:VEVENT
DTSTART;TZID=America/Los_Angeles:20190911T073000
DTEND;TZID=America/Los_Angeles:20190911T100000
DTSTAMP:20260425T180140
CREATED:20190916T183257Z
LAST-MODIFIED:20190916T183257Z
UID:9922-1568187000-1568196000@brookswoodmeadowplaza.com
SUMMARY:Pancake Breakfast at C.E. Lovejoy's\, 7:30-10am
DESCRIPTION:Saturdays and Wednesdays are Pancake Breakfast Mornings at Lovejoy’s 7:30-10am! *HOT & FRESH Every Wednesday & Saturday* Two Pancakes\, a Sausage & a Small Coffee for $4.99 Eat them there or get them to go! Includes syrup and toppings. CELovejoys.com
URL:https://brookswoodmeadowplaza.com/calendar/pancake-breakfast-at-c-e-lovejoys-730-10am-2
LOCATION:Bend\, United States
CATEGORIES:Community,Food,Groceries,Kids/Family
ATTACH;FMTTYPE=image/jpeg:https://brookswoodmeadowplaza.com/wp-content/uploads/2019/06/pancakebreakfast_wedsat-7-30a_edited-1-copy.jpg
END:VEVENT
BEGIN:VEVENT
DTSTART;TZID=America/Los_Angeles:20191207T140000
DTEND;TZID=America/Los_Angeles:20191207T150000
DTSTAMP:20260425T180140
CREATED:20191202T185151Z
LAST-MODIFIED:20191202T185151Z
UID:10317-1575727200-1575730800@brookswoodmeadowplaza.com
SUMMARY:Art + Mindfulness Class for Kids: Kindness! at ARTdog Children's Studio\, 2-3pm
DESCRIPTION:Learn more about and register for Art + Mindfulness Class for Kids: Kindness! at ARTdog Children’s Studio’s webpage: www.artdogbend.com!
URL:https://brookswoodmeadowplaza.com/calendar/art-mindfulness-class-for-kids-kindness-at-artdog-childrens-studio-2-3pm
LOCATION:Bend\, United States
CATEGORIES:Art,Community,Kids/Family,Well Being,Wellness
ATTACH;FMTTYPE=image/png:https://brookswoodmeadowplaza.com/wp-content/uploads/2019/08/65256204_1337204583112492_9195278720196149248_o.png
END:VEVENT
BEGIN:VEVENT
DTSTART;TZID=America/Los_Angeles:20190911T073000
DTEND;TZID=America/Los_Angeles:20190911T100000
DTSTAMP:20260425T180140
CREATED:20190916T183257Z
LAST-MODIFIED:20190916T183257Z
UID:9922-1568187000-1568196000@brookswoodmeadowplaza.com
SUMMARY:Pancake Breakfast at C.E. Lovejoy's\, 7:30-10am
DESCRIPTION:Saturdays and Wednesdays are Pancake Breakfast Mornings at Lovejoy’s 7:30-10am! *HOT & FRESH Every Wednesday & Saturday* Two Pancakes\, a Sausage & a Small Coffee for $4.99 Eat them there or get them to go! Includes syrup and toppings. CELovejoys.com
URL:https://brookswoodmeadowplaza.com/calendar/pancake-breakfast-at-c-e-lovejoys-730-10am-2
LOCATION:Bend\, United States
CATEGORIES:Community,Food,Groceries,Kids/Family
ATTACH;FMTTYPE=image/jpeg:https://brookswoodmeadowplaza.com/wp-content/uploads/2019/06/pancakebreakfast_wedsat-7-30a_edited-1-copy.jpg
END:VEVENT
BEGIN:VEVENT
DTSTART;TZID=America/Los_Angeles:20190911T073000
DTEND;TZID=America/Los_Angeles:20190911T100000
DTSTAMP:20260425T180140
CREATED:20190916T183257Z
LAST-MODIFIED:20190916T183257Z
UID:9922-1568187000-1568196000@brookswoodmeadowplaza.com
SUMMARY:Pancake Breakfast at C.E. Lovejoy's\, 7:30-10am
DESCRIPTION:Saturdays and Wednesdays are Pancake Breakfast Mornings at Lovejoy’s 7:30-10am! *HOT & FRESH Every Wednesday & Saturday* Two Pancakes\, a Sausage & a Small Coffee for $4.99 Eat them there or get them to go! Includes syrup and toppings. CELovejoys.com
URL:https://brookswoodmeadowplaza.com/calendar/pancake-breakfast-at-c-e-lovejoys-730-10am-2
LOCATION:Bend\, United States
CATEGORIES:Community,Food,Groceries,Kids/Family
ATTACH;FMTTYPE=image/jpeg:https://brookswoodmeadowplaza.com/wp-content/uploads/2019/06/pancakebreakfast_wedsat-7-30a_edited-1-copy.jpg
END:VEVENT
BEGIN:VEVENT
DTSTART;TZID=America/Los_Angeles:20191130T110000
DTEND;TZID=America/Los_Angeles:20191130T140000
DTSTAMP:20260425T180140
CREATED:20191129T214844Z
LAST-MODIFIED:20191129T214845Z
UID:10294-1575111600-1575122400@brookswoodmeadowplaza.com
SUMMARY:Pop Up Open Studio at ARTdog Children's Studio!  11am-2pm
DESCRIPTION:Learn more about Pop Up Open Studio at ARTdog Children’s Studio‘s Facebook Page or Website!
URL:https://brookswoodmeadowplaza.com/calendar/pop-up-open-studio-at-artdog-childrens-studio-11am-2pm
LOCATION:Bend\, United States
CATEGORIES:Art,Community,Kids/Family,Well Being,Wellness
ATTACH;FMTTYPE=image/png:https://brookswoodmeadowplaza.com/wp-content/uploads/2019/08/65256204_1337204583112492_9195278720196149248_o.png
END:VEVENT
BEGIN:VEVENT
DTSTART;TZID=America/Los_Angeles:20190911T073000
DTEND;TZID=America/Los_Angeles:20190911T100000
DTSTAMP:20260425T180140
CREATED:20190916T183257Z
LAST-MODIFIED:20190916T183257Z
UID:9922-1568187000-1568196000@brookswoodmeadowplaza.com
SUMMARY:Pancake Breakfast at C.E. Lovejoy's\, 7:30-10am
DESCRIPTION:Saturdays and Wednesdays are Pancake Breakfast Mornings at Lovejoy’s 7:30-10am! *HOT & FRESH Every Wednesday & Saturday* Two Pancakes\, a Sausage & a Small Coffee for $4.99 Eat them there or get them to go! Includes syrup and toppings. CELovejoys.com
URL:https://brookswoodmeadowplaza.com/calendar/pancake-breakfast-at-c-e-lovejoys-730-10am-2
LOCATION:Bend\, United States
CATEGORIES:Community,Food,Groceries,Kids/Family
ATTACH;FMTTYPE=image/jpeg:https://brookswoodmeadowplaza.com/wp-content/uploads/2019/06/pancakebreakfast_wedsat-7-30a_edited-1-copy.jpg
END:VEVENT
BEGIN:VEVENT
DTSTART;TZID=America/Los_Angeles:20191129T140000
DTEND;TZID=America/Los_Angeles:20191129T210000
DTSTAMP:20260425T180140
CREATED:20191125T161759Z
LAST-MODIFIED:20191125T161800Z
UID:10278-1575036000-1575061200@brookswoodmeadowplaza.com
SUMMARY:Black Friday Pizza Perfect Sale at Local Slice! "Buy one pizza and get a second 2-topping pizza of the same size 50% off! Offer is good on Black Friday (11/29)!"
DESCRIPTION:Learn more about Black Friday Pizza Perfect Sale at Local Slice’s Facebook Page! “Buy one pizza and get a second 2-topping pizza of the same size 50% off! Offer is good on Black Friday (11/29)!”
URL:https://brookswoodmeadowplaza.com/calendar/black-friday-pizza-perfect-sale-at-local-slice-buy-one-pizza-and-get-a-second-2-topping-pizza-of-the-same-size-50-off-offer-is-good-on-black-friday-11-29
LOCATION:Bend\, United States
CATEGORIES:Community,Food,Holiday,Kids/Family,Pizza
ATTACH;FMTTYPE=image/jpeg:https://brookswoodmeadowplaza.com/wp-content/uploads/2018/06/4416b5bd-26a8-492d-a5d5-c979cbd2ecda.jpg
END:VEVENT
BEGIN:VEVENT
DTSTART;VALUE=DATE:20191129
DTEND;VALUE=DATE:20191202
DTSTAMP:20260425T180140
CREATED:20191129T220003Z
LAST-MODIFIED:20191129T220142Z
UID:10299-1574985600-1575244799@brookswoodmeadowplaza.com
SUMMARY:Black Friday Weekend Sale at TeaCupFuls! 25% Off All Merchandise\, plus Buy One Get One Free on ALL DRINKS!
DESCRIPTION:
URL:https://brookswoodmeadowplaza.com/calendar/black-friday-weekend-sale-at-teacupfuls-25-off-all-merchandise-plus-buy-one-get-one-free-on-all-drinks
LOCATION:Bend\, United States
CATEGORIES:Community,Kids/Family
END:VEVENT
BEGIN:VEVENT
DTSTART;TZID=America/Los_Angeles:20190911T073000
DTEND;TZID=America/Los_Angeles:20190911T100000
DTSTAMP:20260425T180140
CREATED:20190916T183257Z
LAST-MODIFIED:20190916T183257Z
UID:9922-1568187000-1568196000@brookswoodmeadowplaza.com
SUMMARY:Pancake Breakfast at C.E. Lovejoy's\, 7:30-10am
DESCRIPTION:Saturdays and Wednesdays are Pancake Breakfast Mornings at Lovejoy’s 7:30-10am! *HOT & FRESH Every Wednesday & Saturday* Two Pancakes\, a Sausage & a Small Coffee for $4.99 Eat them there or get them to go! Includes syrup and toppings. CELovejoys.com
URL:https://brookswoodmeadowplaza.com/calendar/pancake-breakfast-at-c-e-lovejoys-730-10am-2
LOCATION:Bend\, United States
CATEGORIES:Community,Food,Groceries,Kids/Family
ATTACH;FMTTYPE=image/jpeg:https://brookswoodmeadowplaza.com/wp-content/uploads/2019/06/pancakebreakfast_wedsat-7-30a_edited-1-copy.jpg
END:VEVENT
BEGIN:VEVENT
DTSTART;VALUE=DATE:20191125
DTEND;VALUE=DATE:20191128
DTSTAMP:20260425T180140
CREATED:20191022T190324Z
LAST-MODIFIED:20191106T190005Z
UID:10121-1574640000-1574899199@brookswoodmeadowplaza.com
SUMMARY:No School Art Camp – Register at ARTdogbend.com!
DESCRIPTION:No School Art Camps 10/23\, 10/24 & 10/25 – Register at ARTdogbend.com!
URL:https://brookswoodmeadowplaza.com/calendar/no-school-art-camps-11-25-11-26-11-27-register-at-artdog-com
LOCATION:Bend\, United States
CATEGORIES:Art,Kids/Family
ATTACH;FMTTYPE=image/png:https://brookswoodmeadowplaza.com/wp-content/uploads/2019/08/65256204_1337204583112492_9195278720196149248_o.png
END:VEVENT
BEGIN:VEVENT
DTSTART;TZID=America/Los_Angeles:20191123T110000
DTEND;TZID=America/Los_Angeles:20191123T121500
DTSTAMP:20260425T180140
CREATED:20191106T180425Z
LAST-MODIFIED:20191106T180425Z
UID:10181-1574506800-1574511300@brookswoodmeadowplaza.com
SUMMARY:Parent + Child Workshop: Gratitude Garland at ARTdog Children's Studio\, 11am-12:15pm
DESCRIPTION:Register for Parent + Child Workshop: Gratitude Garland at ARTdog Children’s Studio’s website.  www.artdog.com
URL:https://brookswoodmeadowplaza.com/calendar/parent-child-workshop-gratitude-garland-at-artdog-childrens-studio-11am-1215pm
LOCATION:Bend\, United States
CATEGORIES:Art,Community,Kids/Family
ATTACH;FMTTYPE=image/png:https://brookswoodmeadowplaza.com/wp-content/uploads/2019/08/65256204_1337204583112492_9195278720196149248_o.png
END:VEVENT
BEGIN:VEVENT
DTSTART;TZID=America/Los_Angeles:20191123T100000
DTEND;TZID=America/Los_Angeles:20191123T160000
DTSTAMP:20260425T180140
CREATED:20191021T175336Z
LAST-MODIFIED:20191021T175337Z
UID:10086-1574503200-1574524800@brookswoodmeadowplaza.com
SUMMARY:2nd Annual Elk Meadow Elementary School Holiday Bazaar at Elk Meadow Elementary\, 10am-4pm
DESCRIPTION:Learn more about the 2nd Annual Elk Meadow Elementary School Holiday Bazaar by visiting the Elk Meadow PTO’s Facebook Page!
URL:https://brookswoodmeadowplaza.com/calendar/2nd-annual-elk-meadow-elementary-school-holiday-bazaar-at-elk-meadow-elementary-10am-4pm
LOCATION:Bend\, United States
CATEGORIES:Art,Community,Holiday,Kids/Family,School
ATTACH;FMTTYPE=image/png:https://brookswoodmeadowplaza.com/wp-content/uploads/2018/09/14484689_667082263446356_3349549334752619566_n.png
END:VEVENT
BEGIN:VEVENT
DTSTART;TZID=America/Los_Angeles:20190911T073000
DTEND;TZID=America/Los_Angeles:20190911T100000
DTSTAMP:20260425T180140
CREATED:20190916T183257Z
LAST-MODIFIED:20190916T183257Z
UID:9922-1568187000-1568196000@brookswoodmeadowplaza.com
SUMMARY:Pancake Breakfast at C.E. Lovejoy's\, 7:30-10am
DESCRIPTION:Saturdays and Wednesdays are Pancake Breakfast Mornings at Lovejoy’s 7:30-10am! *HOT & FRESH Every Wednesday & Saturday* Two Pancakes\, a Sausage & a Small Coffee for $4.99 Eat them there or get them to go! Includes syrup and toppings. CELovejoys.com
URL:https://brookswoodmeadowplaza.com/calendar/pancake-breakfast-at-c-e-lovejoys-730-10am-2
LOCATION:Bend\, United States
CATEGORIES:Community,Food,Groceries,Kids/Family
ATTACH;FMTTYPE=image/jpeg:https://brookswoodmeadowplaza.com/wp-content/uploads/2019/06/pancakebreakfast_wedsat-7-30a_edited-1-copy.jpg
END:VEVENT
END:VCALENDAR