BEGIN:VCALENDAR
VERSION:2.0
PRODID:-//Brookswood Meadow Plaza - ECPv6.15.13.1//NONSGML v1.0//EN
CALSCALE:GREGORIAN
METHOD:PUBLISH
X-ORIGINAL-URL:https://brookswoodmeadowplaza.com
X-WR-CALDESC:Events for Brookswood Meadow Plaza
REFRESH-INTERVAL;VALUE=DURATION:PT1H
X-Robots-Tag:noindex
X-PUBLISHED-TTL:PT1H
BEGIN:VTIMEZONE
TZID:America/Los_Angeles
BEGIN:DAYLIGHT
TZOFFSETFROM:-0800
TZOFFSETTO:-0700
TZNAME:PDT
DTSTART:20170312T100000
END:DAYLIGHT
BEGIN:STANDARD
TZOFFSETFROM:-0700
TZOFFSETTO:-0800
TZNAME:PST
DTSTART:20171105T090000
END:STANDARD
BEGIN:DAYLIGHT
TZOFFSETFROM:-0800
TZOFFSETTO:-0700
TZNAME:PDT
DTSTART:20180311T100000
END:DAYLIGHT
BEGIN:STANDARD
TZOFFSETFROM:-0700
TZOFFSETTO:-0800
TZNAME:PST
DTSTART:20181104T090000
END:STANDARD
BEGIN:DAYLIGHT
TZOFFSETFROM:-0800
TZOFFSETTO:-0700
TZNAME:PDT
DTSTART:20190310T100000
END:DAYLIGHT
BEGIN:STANDARD
TZOFFSETFROM:-0700
TZOFFSETTO:-0800
TZNAME:PST
DTSTART:20191103T090000
END:STANDARD
BEGIN:DAYLIGHT
TZOFFSETFROM:-0800
TZOFFSETTO:-0700
TZNAME:PDT
DTSTART:20200308T100000
END:DAYLIGHT
BEGIN:STANDARD
TZOFFSETFROM:-0700
TZOFFSETTO:-0800
TZNAME:PST
DTSTART:20201101T090000
END:STANDARD
BEGIN:DAYLIGHT
TZOFFSETFROM:-0800
TZOFFSETTO:-0700
TZNAME:PDT
DTSTART:20210314T100000
END:DAYLIGHT
BEGIN:STANDARD
TZOFFSETFROM:-0700
TZOFFSETTO:-0800
TZNAME:PST
DTSTART:20211107T090000
END:STANDARD
END:VTIMEZONE
BEGIN:VEVENT
DTSTART;VALUE=DATE:20201221
DTEND;VALUE=DATE:20201225
DTSTAMP:20260425T145011
CREATED:20201218T235424Z
LAST-MODIFIED:20201218T235426Z
UID:11796-1608508800-1608854399@brookswoodmeadowplaza.com
SUMMARY:Winter Art Camp at Roots Art & Nature School
DESCRIPTION:www.rootsartnatureschool.com
URL:https://brookswoodmeadowplaza.com/calendar/winter-art-camp-at-roots-art-nature-school
LOCATION:Bend\, OR\, United States
CATEGORIES:Art,Community,Holiday,Kids/Family,School
ATTACH;FMTTYPE=image/jpeg:https://brookswoodmeadowplaza.com/wp-content/uploads/2020/07/Roots-Art-Nature-School-Logo-2.jpg
END:VEVENT
BEGIN:VEVENT
DTSTART;VALUE=DATE:20201221
DTEND;VALUE=DATE:20201225
DTSTAMP:20260425T145011
CREATED:20201218T235424Z
LAST-MODIFIED:20201218T235426Z
UID:11796-1608508800-1608854399@brookswoodmeadowplaza.com
SUMMARY:Winter Art Camp at Roots Art & Nature School
DESCRIPTION:www.rootsartnatureschool.com
URL:https://brookswoodmeadowplaza.com/calendar/winter-art-camp-at-roots-art-nature-school
LOCATION:Bend\, OR\, United States
CATEGORIES:Art,Community,Holiday,Kids/Family,School
ATTACH;FMTTYPE=image/jpeg:https://brookswoodmeadowplaza.com/wp-content/uploads/2020/07/Roots-Art-Nature-School-Logo-2.jpg
END:VEVENT
BEGIN:VEVENT
DTSTART;VALUE=DATE:20201123
DTEND;VALUE=DATE:20201126
DTSTAMP:20260425T145011
CREATED:20201116T232923Z
LAST-MODIFIED:20201116T232942Z
UID:11556-1606089600-1606348799@brookswoodmeadowplaza.com
SUMMARY:Thanksgiving Holiday Camp at Roots Art & Nature School
DESCRIPTION:www.rootsartnatureschool.com
URL:https://brookswoodmeadowplaza.com/calendar/thanksgiving-holiday-camp-at-roots-art-nature-school
LOCATION:OR
CATEGORIES:Community,Kids/Family,School
ATTACH;FMTTYPE=image/jpeg:https://brookswoodmeadowplaza.com/wp-content/uploads/2020/07/Roots-Art-Nature-School-Logo-2.jpg
END:VEVENT
BEGIN:VEVENT
DTSTART;VALUE=DATE:20200809
DTEND;VALUE=DATE:20200810
DTSTAMP:20260425T145011
CREATED:20200805T191725Z
LAST-MODIFIED:20200805T191841Z
UID:11354-1596931200-1597017599@brookswoodmeadowplaza.com
SUMMARY:Roots Art and Nature School Open House
DESCRIPTION:Learn more at https://www.facebook.com/events/729212804538442/?event_time_id=729212821205107. \n“Roots Art & Nature School is now enrolling our Kindergarten and first-grade classes! Visit our space and meet the program directors during our reservation-only open house dates. \n\n\n*In order to ensure each family has the proper space and time to check out Roots\, the open house is by reservation only. You must email ashley@rootsartnatureschool.com to schedule your time slot.*When it’s time to send your child to school\, you want to ensure their whole unique being is honored and nurtured. Our small learning community and intentionally designed Roots Curriculum integrating nature\, mindfulness\, play\, and process art provide the perfect environment to develop your child’s sense of wonder\, curiosity and creativity\, their relationship to their heart and body\, and their connection to the natural world. \nWhen you attend the Open House\, we will provide you with an information packet including samples from our Roots Curriculum and the Application for Admission. You’re also welcome to start the process of securing your limited spot by downloading the application and filling it out in advance.”
URL:https://brookswoodmeadowplaza.com/calendar/roots-art-and-nature-school-open-house
LOCATION:OR
CATEGORIES:Community,Kids/Family,School
ATTACH;FMTTYPE=image/jpeg:https://brookswoodmeadowplaza.com/wp-content/uploads/2020/07/Roots-Art-Nature-School-Logo-2.jpg
END:VEVENT
BEGIN:VEVENT
DTSTART;VALUE=DATE:20200323
DTEND;VALUE=DATE:20200328
DTSTAMP:20260425T145011
CREATED:20200129T191935Z
LAST-MODIFIED:20200129T193553Z
UID:10516-1584921600-1585353599@brookswoodmeadowplaza.com
SUMMARY:Spring Break Art Camp at ARTdog Children's Studio (Full & Half Days) - Register at artdogbend.com
DESCRIPTION:Learn more about Spring Break Art Camp at artdogbend.com! \n 
URL:https://brookswoodmeadowplaza.com/calendar/spring-break-art-camp-at-artdog-childrens-studio-full-half-days-register-at-artdogbend-com
LOCATION:Bend\, United States
CATEGORIES:Art,Community,Kids/Family,School,Well Being,Wellness
ATTACH;FMTTYPE=image/png:https://brookswoodmeadowplaza.com/wp-content/uploads/2019/08/65256204_1337204583112492_9195278720196149248_o.png
END:VEVENT
BEGIN:VEVENT
DTSTART;VALUE=DATE:20200217
DTEND;VALUE=DATE:20200218
DTSTAMP:20260425T145011
CREATED:20200129T191052Z
LAST-MODIFIED:20200129T193410Z
UID:10507-1581897600-1581983999@brookswoodmeadowplaza.com
SUMMARY:No School Art Camp at ARTdog – Register at artdogbend.com
DESCRIPTION:Learn more about No School Art Camp at artdogbend.com!
URL:https://brookswoodmeadowplaza.com/calendar/no-school-art-camp-at-artdog-register-at-artdogbend-com-2
LOCATION:Bend\, United States
CATEGORIES:Art,Community,Kids/Family,School,Well Being,Wellness
ATTACH;FMTTYPE=image/png:https://brookswoodmeadowplaza.com/wp-content/uploads/2019/08/65256204_1337204583112492_9195278720196149248_o.png
END:VEVENT
BEGIN:VEVENT
DTSTART;VALUE=DATE:20200131
DTEND;VALUE=DATE:20200201
DTSTAMP:20260425T145011
CREATED:20200129T185036Z
LAST-MODIFIED:20200129T185036Z
UID:10504-1580428800-1580515199@brookswoodmeadowplaza.com
SUMMARY:No School Art Camp at ARTdog – Register at artdogbend.com
DESCRIPTION:Learn more about No School Art Camp at artdogbend.com!
URL:https://brookswoodmeadowplaza.com/calendar/no-school-art-camp-at-artdog-register-at-artdogbend-com
LOCATION:Bend\, United States
CATEGORIES:Art,Community,Kids/Family,School,Well Being,Wellness
ATTACH;FMTTYPE=image/png:https://brookswoodmeadowplaza.com/wp-content/uploads/2019/08/65256204_1337204583112492_9195278720196149248_o.png
END:VEVENT
BEGIN:VEVENT
DTSTART;VALUE=DATE:20200131
DTEND;VALUE=DATE:20200201
DTSTAMP:20260425T145011
CREATED:20200114T213703Z
LAST-MODIFIED:20200114T213703Z
UID:10447-1580428800-1580515199@brookswoodmeadowplaza.com
SUMMARY:End of Semester at Bend-La Pine Schools - No School
DESCRIPTION:
URL:https://brookswoodmeadowplaza.com/calendar/end-of-semester-at-bend-la-pine-schools-no-school
LOCATION:Bend\, United States
CATEGORIES:Community,School
END:VEVENT
BEGIN:VEVENT
DTSTART;TZID=America/Los_Angeles:20191123T100000
DTEND;TZID=America/Los_Angeles:20191123T160000
DTSTAMP:20260425T145011
CREATED:20191021T175336Z
LAST-MODIFIED:20191021T175337Z
UID:10086-1574503200-1574524800@brookswoodmeadowplaza.com
SUMMARY:2nd Annual Elk Meadow Elementary School Holiday Bazaar at Elk Meadow Elementary\, 10am-4pm
DESCRIPTION:Learn more about the 2nd Annual Elk Meadow Elementary School Holiday Bazaar by visiting the Elk Meadow PTO’s Facebook Page!
URL:https://brookswoodmeadowplaza.com/calendar/2nd-annual-elk-meadow-elementary-school-holiday-bazaar-at-elk-meadow-elementary-10am-4pm
LOCATION:Bend\, United States
CATEGORIES:Art,Community,Holiday,Kids/Family,School
ATTACH;FMTTYPE=image/png:https://brookswoodmeadowplaza.com/wp-content/uploads/2018/09/14484689_667082263446356_3349549334752619566_n.png
END:VEVENT
BEGIN:VEVENT
DTSTART;VALUE=DATE:20190904
DTEND;VALUE=DATE:20190905
DTSTAMP:20260425T145011
CREATED:20190802T223045Z
LAST-MODIFIED:20190815T164358Z
UID:9685-1567555200-1567641599@brookswoodmeadowplaza.com
SUMMARY:Bend-La Pine School Starts! (Check With Your School for Start Dates and New Times)
DESCRIPTION:
URL:https://brookswoodmeadowplaza.com/calendar/bend-la-pine-school-starts
LOCATION:Bend\, United States
CATEGORIES:Kids/Family,School
ATTACH;FMTTYPE=image/gif:https://brookswoodmeadowplaza.com/wp-content/uploads/2017/08/Back-to-school-writing-by-pencil.gif
END:VEVENT
BEGIN:VEVENT
DTSTART;TZID=America/Los_Angeles:20190611T081500
DTEND;TZID=America/Los_Angeles:20190611T081500
DTSTAMP:20260425T145011
CREATED:20190514T195956Z
LAST-MODIFIED:20190514T195956Z
UID:9299-1560240900-1560240900@brookswoodmeadowplaza.com
SUMMARY:Commute Options Walking/Rolling School Bus to Elk Meadow from C.E. Lovejoy's\, 8:15am Departure
DESCRIPTION:Learn more and register at: commute options.org!
URL:https://brookswoodmeadowplaza.com/calendar/commute-options-walking-rolling-school-bus-to-elk-meadow-from-c-e-lovejoys-815am-departure-9
LOCATION:Bend\, United States
CATEGORIES:Community,Health,Kids/Family,School
ATTACH;FMTTYPE=image/jpeg:https://brookswoodmeadowplaza.com/wp-content/uploads/2019/05/Elk-Meadow-WSB-Flyer.jpg
END:VEVENT
BEGIN:VEVENT
DTSTART;TZID=America/Los_Angeles:20190606T081500
DTEND;TZID=America/Los_Angeles:20190606T081500
DTSTAMP:20260425T145011
CREATED:20190514T195844Z
LAST-MODIFIED:20190514T195844Z
UID:9296-1559808900-1559808900@brookswoodmeadowplaza.com
SUMMARY:Commute Options Walking/Rolling School Bus to Elk Meadow from C.E. Lovejoy's\, 8:15am Departure
DESCRIPTION:Learn more and register at: commute options.org!
URL:https://brookswoodmeadowplaza.com/calendar/commute-options-walking-rolling-school-bus-to-elk-meadow-from-c-e-lovejoys-815am-departure-8
LOCATION:Bend\, United States
CATEGORIES:Community,Health,Kids/Family,School
ATTACH;FMTTYPE=image/jpeg:https://brookswoodmeadowplaza.com/wp-content/uploads/2019/05/Elk-Meadow-WSB-Flyer.jpg
END:VEVENT
BEGIN:VEVENT
DTSTART;TZID=America/Los_Angeles:20190604T081500
DTEND;TZID=America/Los_Angeles:20190604T081500
DTSTAMP:20260425T145011
CREATED:20190514T195731Z
LAST-MODIFIED:20190514T195731Z
UID:9293-1559636100-1559636100@brookswoodmeadowplaza.com
SUMMARY:Commute Options Walking/Rolling School Bus to Elk Meadow from C.E. Lovejoy's\, 8:15am Departure
DESCRIPTION:Learn more and register at: commute options.org!
URL:https://brookswoodmeadowplaza.com/calendar/commute-options-walking-rolling-school-bus-to-elk-meadow-from-c-e-lovejoys-815am-departure-7
LOCATION:Bend\, United States
CATEGORIES:Community,Health,Kids/Family,School
ATTACH;FMTTYPE=image/jpeg:https://brookswoodmeadowplaza.com/wp-content/uploads/2019/05/Elk-Meadow-WSB-Flyer.jpg
END:VEVENT
BEGIN:VEVENT
DTSTART;TZID=America/Los_Angeles:20190530T081500
DTEND;TZID=America/Los_Angeles:20190530T081500
DTSTAMP:20260425T145011
CREATED:20190514T195404Z
LAST-MODIFIED:20190514T195404Z
UID:9290-1559204100-1559204100@brookswoodmeadowplaza.com
SUMMARY:Commute Options Walking/Rolling School Bus to Elk Meadow from C.E. Lovejoy's\, 8:15am Departure
DESCRIPTION:Learn more and register at: commute options.org!
URL:https://brookswoodmeadowplaza.com/calendar/commute-options-walking-rolling-school-bus-to-elk-meadow-from-c-e-lovejoys-815am-departure-6
LOCATION:Bend\, United States
CATEGORIES:Community,Health,Kids/Family,School
ATTACH;FMTTYPE=image/jpeg:https://brookswoodmeadowplaza.com/wp-content/uploads/2019/05/Elk-Meadow-WSB-Flyer.jpg
END:VEVENT
BEGIN:VEVENT
DTSTART;TZID=America/Los_Angeles:20190528T081500
DTEND;TZID=America/Los_Angeles:20190528T081500
DTSTAMP:20260425T145011
CREATED:20190514T195255Z
LAST-MODIFIED:20190514T195255Z
UID:9287-1559031300-1559031300@brookswoodmeadowplaza.com
SUMMARY:Commute Options Walking/Rolling School Bus to Elk Meadow from C.E. Lovejoy's\, 8:15am Departure
DESCRIPTION:Learn more and register at: commute options.org!
URL:https://brookswoodmeadowplaza.com/calendar/commute-options-walking-rolling-school-bus-to-elk-meadow-from-c-e-lovejoys-815am-departure-5
LOCATION:Bend\, United States
CATEGORIES:Community,Health,Kids/Family,School
ATTACH;FMTTYPE=image/jpeg:https://brookswoodmeadowplaza.com/wp-content/uploads/2019/05/Elk-Meadow-WSB-Flyer.jpg
END:VEVENT
BEGIN:VEVENT
DTSTART;TZID=America/Los_Angeles:20190523T081500
DTEND;TZID=America/Los_Angeles:20190523T081500
DTSTAMP:20260425T145011
CREATED:20190514T192325Z
LAST-MODIFIED:20190514T192325Z
UID:9284-1558599300-1558599300@brookswoodmeadowplaza.com
SUMMARY:Commute Options Walking/Rolling School Bus to Elk Meadow from C.E. Lovejoy's\, 8:15am Departure
DESCRIPTION:Learn more and register at: commute options.org!
URL:https://brookswoodmeadowplaza.com/calendar/commute-options-walking-rolling-school-bus-to-elk-meadow-from-c-e-lovejoys-815am-departure-4
LOCATION:Bend\, United States
CATEGORIES:Community,Health,Kids/Family,School
ATTACH;FMTTYPE=image/jpeg:https://brookswoodmeadowplaza.com/wp-content/uploads/2019/05/Elk-Meadow-WSB-Flyer.jpg
END:VEVENT
BEGIN:VEVENT
DTSTART;TZID=America/Los_Angeles:20190522T080500
DTEND;TZID=America/Los_Angeles:20190522T083000
DTSTAMP:20260425T145011
CREATED:20190514T192219Z
LAST-MODIFIED:20190515T182613Z
UID:9281-1558512300-1558513800@brookswoodmeadowplaza.com
SUMMARY:SPECIAL Walk & Bike to School from C.E. Lovejoy's to Elk Meadow Elementary School Community Event *All Elk Meadow Students and Families are welcome to participate!*\, 8:05-8:30am
DESCRIPTION:
URL:https://brookswoodmeadowplaza.com/calendar/special-commute-options-walking-rolling-school-bus-to-elk-meadow-from-c-e-lovejoys-815am-departure
LOCATION:Bend\, United States
CATEGORIES:Community,Health,Kids/Family,School
ATTACH;FMTTYPE=image/jpeg:https://brookswoodmeadowplaza.com/wp-content/uploads/2019/05/60140282_1259025520918691_9027770743634526208_o-e1557944741791.jpg
END:VEVENT
BEGIN:VEVENT
DTSTART;TZID=America/Los_Angeles:20190521T081500
DTEND;TZID=America/Los_Angeles:20190521T081500
DTSTAMP:20260425T145011
CREATED:20190514T192044Z
LAST-MODIFIED:20190514T192044Z
UID:9278-1558426500-1558426500@brookswoodmeadowplaza.com
SUMMARY:Commute Options Walking/Rolling School Bus to Elk Meadow from C.E. Lovejoy's\, 8:15am Departure
DESCRIPTION:Learn more and register at: commute options.org!
URL:https://brookswoodmeadowplaza.com/calendar/commute-options-walking-rolling-school-bus-to-elk-meadow-from-c-e-lovejoys-815am-departure-3
LOCATION:Bend\, United States
CATEGORIES:Community,Health,Kids/Family,School
ATTACH;FMTTYPE=image/jpeg:https://brookswoodmeadowplaza.com/wp-content/uploads/2019/05/Elk-Meadow-WSB-Flyer.jpg
END:VEVENT
BEGIN:VEVENT
DTSTART;VALUE=DATE:20190517
DTEND;VALUE=DATE:20190518
DTSTAMP:20260425T145011
CREATED:20190502T210402Z
LAST-MODIFIED:20190502T210402Z
UID:9184-1558051200-1558137599@brookswoodmeadowplaza.com
SUMMARY:Art in the Meadow at Elk Meadow Elementary School
DESCRIPTION:
URL:https://brookswoodmeadowplaza.com/calendar/art-in-the-meadow-at-elk-meadow-elementary-school
LOCATION:Bend\, United States
CATEGORIES:Art,Community,Kids/Family,School
ATTACH;FMTTYPE=image/png:https://brookswoodmeadowplaza.com/wp-content/uploads/2018/09/14484689_667082263446356_3349549334752619566_n.png
END:VEVENT
BEGIN:VEVENT
DTSTART;TZID=America/Los_Angeles:20190516T081500
DTEND;TZID=America/Los_Angeles:20190516T081500
DTSTAMP:20260425T145011
CREATED:20190514T191754Z
LAST-MODIFIED:20190514T191754Z
UID:9271-1557994500-1557994500@brookswoodmeadowplaza.com
SUMMARY:Commute Options Walking/Rolling School Bus to Elk Meadow from C.E. Lovejoy's\, 8:15am Departure
DESCRIPTION:Learn more and register at: commute options.org! \n 
URL:https://brookswoodmeadowplaza.com/calendar/commute-options-walking-rolling-school-bus-to-elk-meadow-from-c-e-lovejoys-815am-departure
LOCATION:Bend\, United States
CATEGORIES:Community,Kids/Family,School
ATTACH;FMTTYPE=image/jpeg:https://brookswoodmeadowplaza.com/wp-content/uploads/2019/05/Elk-Meadow-WSB-Flyer.jpg
END:VEVENT
BEGIN:VEVENT
DTSTART;TZID=America/Los_Angeles:20190514T081500
DTEND;TZID=America/Los_Angeles:20190514T081500
DTSTAMP:20260425T145011
CREATED:20190514T191928Z
LAST-MODIFIED:20190514T191928Z
UID:9275-1557821700-1557821700@brookswoodmeadowplaza.com
SUMMARY:Commute Options Walking/Rolling School Bus to Elk Meadow from C.E. Lovejoy's\, 8:15am Departure
DESCRIPTION:Learn more and register at: commute options.org!
URL:https://brookswoodmeadowplaza.com/calendar/commute-options-walking-rolling-school-bus-to-elk-meadow-from-c-e-lovejoys-815am-departure-2
LOCATION:Bend\, United States
CATEGORIES:Community,Health,Kids/Family,School
ATTACH;FMTTYPE=image/jpeg:https://brookswoodmeadowplaza.com/wp-content/uploads/2019/05/Elk-Meadow-WSB-Flyer.jpg
END:VEVENT
BEGIN:VEVENT
DTSTART;VALUE=DATE:20190508
DTEND;VALUE=DATE:20190509
DTSTAMP:20260425T145011
CREATED:20190401T191126Z
LAST-MODIFIED:20190401T191126Z
UID:8907-1557273600-1557359999@brookswoodmeadowplaza.com
SUMMARY:National Walk/Bike to School Day
DESCRIPTION:
URL:https://brookswoodmeadowplaza.com/calendar/national-walk-bike-to-school-day
LOCATION:Bend\, United States
CATEGORIES:Community,Kids/Family,School
END:VEVENT
BEGIN:VEVENT
DTSTART;VALUE=DATE:20190325
DTEND;VALUE=DATE:20190330
DTSTAMP:20260425T145011
CREATED:20190205T184424Z
LAST-MODIFIED:20190312T190940Z
UID:8473-1553472000-1553903999@brookswoodmeadowplaza.com
SUMMARY:Spring Break Art Camp at ARTdog
DESCRIPTION:For information and to register visit:  www.artdogbend.com
URL:https://brookswoodmeadowplaza.com/calendar/spring-break-art-camp-at-artdog
LOCATION:Bend\, United States
CATEGORIES:Art,Community,Kids/Family,School,Well Being,Wellness
ATTACH;FMTTYPE=image/jpeg:https://brookswoodmeadowplaza.com/wp-content/uploads/2019/02/50949599_1231539890345629_8890615047550664704_o.jpg
END:VEVENT
BEGIN:VEVENT
DTSTART;VALUE=DATE:20190325
DTEND;VALUE=DATE:20190330
DTSTAMP:20260425T145011
CREATED:20190122T215340Z
LAST-MODIFIED:20190122T215628Z
UID:8354-1553472000-1553903999@brookswoodmeadowplaza.com
SUMMARY:Spring Break
DESCRIPTION:
URL:https://brookswoodmeadowplaza.com/calendar/spring-break-2
LOCATION:Bend\, United States
CATEGORIES:Kids/Family,School
END:VEVENT
BEGIN:VEVENT
DTSTART;VALUE=DATE:20190320
DTEND;VALUE=DATE:20190321
DTSTAMP:20260425T145011
CREATED:20190304T191742Z
LAST-MODIFIED:20190304T191742Z
UID:8692-1553040000-1553126399@brookswoodmeadowplaza.com
SUMMARY:Pine Ridge Elementary Walk/Bike to School Day @ Renaissance Ridge Park
DESCRIPTION:
URL:https://brookswoodmeadowplaza.com/calendar/pine-ridge-elementary-walk-bike-to-school-day-renaissance-ridge-park
LOCATION:Bend\, United States
CATEGORIES:Community,Kids/Family,School
ATTACH;FMTTYPE=image/png:https://brookswoodmeadowplaza.com/wp-content/uploads/2018/09/WalknRoll-01.png
END:VEVENT
BEGIN:VEVENT
DTSTART;VALUE=DATE:20190218
DTEND;VALUE=DATE:20190219
DTSTAMP:20260425T145011
CREATED:20190205T183513Z
LAST-MODIFIED:20190205T183513Z
UID:8469-1550448000-1550534399@brookswoodmeadowplaza.com
SUMMARY:No School Art Camp at ARTdog (Full and Half Day Options Available\, Ages 4-11)
DESCRIPTION:View information at ARTdog’s Facebook Page and register online at www.artdogbend.com.
URL:https://brookswoodmeadowplaza.com/calendar/no-school-art-camp-at-artdog-full-and-half-day-options-available-ages-4-11
LOCATION:Bend\, United States
CATEGORIES:Art,Community,Kids/Family,School,Wellness
ATTACH;FMTTYPE=image/jpeg:https://brookswoodmeadowplaza.com/wp-content/uploads/2019/02/51322693_1230727870426831_2869158309733072896_o-e1549391695335.jpg
END:VEVENT
BEGIN:VEVENT
DTSTART;TZID=America/Los_Angeles:20190208T173000
DTEND;TZID=America/Los_Angeles:20190208T190000
DTSTAMP:20260425T145011
CREATED:20190122T195246Z
LAST-MODIFIED:20190122T195246Z
UID:8334-1549647000-1549652400@brookswoodmeadowplaza.com
SUMMARY:Family Bingo Night at Elk Meadow Elementary School\, 5:30-7pm
DESCRIPTION:Click to learn more: https://www.facebook.com/events/1924862460975748/
URL:https://brookswoodmeadowplaza.com/calendar/family-bingo-night-at-elk-meadow-elementary-school-530-7pm
LOCATION:Bend\, United States
CATEGORIES:Community,Kids/Family,School
ATTACH;FMTTYPE=image/png:https://brookswoodmeadowplaza.com/wp-content/uploads/2018/09/14484689_667082263446356_3349549334752619566_n.png
END:VEVENT
BEGIN:VEVENT
DTSTART;VALUE=DATE:20190201
DTEND;VALUE=DATE:20190202
DTSTAMP:20260425T145011
CREATED:20190121T203727Z
LAST-MODIFIED:20190121T203727Z
UID:8285-1548979200-1549065599@brookswoodmeadowplaza.com
SUMMARY:No School Day - Bend-LaPine Schools
DESCRIPTION:
URL:https://brookswoodmeadowplaza.com/calendar/no-school-day-bend-lapine-schools
LOCATION:Bend\, United States
CATEGORIES:Kids/Family,School
END:VEVENT
BEGIN:VEVENT
DTSTART;TZID=America/Los_Angeles:20190122T190000
DTEND;TZID=America/Los_Angeles:20190122T190000
DTSTAMP:20260425T145011
CREATED:20190122T195540Z
LAST-MODIFIED:20190122T195540Z
UID:8337-1548183600-1548183600@brookswoodmeadowplaza.com
SUMMARY:Pine Ridge Elementary PTA Meeting (with Kids Activity by ARTdog)\, 7pm
DESCRIPTION:Click to learn more: https://www.facebook.com/pineridgebendoregon/photos/a.1391386221099448/2259468214291240/?type=3
URL:https://brookswoodmeadowplaza.com/calendar/pine-ridge-elementary-pta-meeting-with-kids-activity-by-artdog-7pm
LOCATION:Bend\, United States
CATEGORIES:Kids/Family,School
ATTACH;FMTTYPE=image/png:https://brookswoodmeadowplaza.com/wp-content/uploads/2018/12/ARTdog-Logo.png
END:VEVENT
BEGIN:VEVENT
DTSTART;VALUE=DATE:20181226
DTEND;VALUE=DATE:20181227
DTSTAMP:20260425T145011
CREATED:20181217T215055Z
LAST-MODIFIED:20181217T215055Z
UID:7994-1545782400-1545868799@brookswoodmeadowplaza.com
SUMMARY:Toddles is Closed
DESCRIPTION:
URL:https://brookswoodmeadowplaza.com/calendar/toddles-is-closed
LOCATION:Bend\, United States
CATEGORIES:Kids/Family,School
END:VEVENT
END:VCALENDAR