BEGIN:VCALENDAR
VERSION:2.0
PRODID:-//Brookswood Meadow Plaza - ECPv6.15.13.1//NONSGML v1.0//EN
CALSCALE:GREGORIAN
METHOD:PUBLISH
X-ORIGINAL-URL:https://brookswoodmeadowplaza.com
X-WR-CALDESC:Events for Brookswood Meadow Plaza
REFRESH-INTERVAL;VALUE=DURATION:PT1H
X-Robots-Tag:noindex
X-PUBLISHED-TTL:PT1H
BEGIN:VTIMEZONE
TZID:America/Los_Angeles
BEGIN:DAYLIGHT
TZOFFSETFROM:-0800
TZOFFSETTO:-0700
TZNAME:PDT
DTSTART:20180311T100000
END:DAYLIGHT
BEGIN:STANDARD
TZOFFSETFROM:-0700
TZOFFSETTO:-0800
TZNAME:PST
DTSTART:20181104T090000
END:STANDARD
BEGIN:DAYLIGHT
TZOFFSETFROM:-0800
TZOFFSETTO:-0700
TZNAME:PDT
DTSTART:20190310T100000
END:DAYLIGHT
BEGIN:STANDARD
TZOFFSETFROM:-0700
TZOFFSETTO:-0800
TZNAME:PST
DTSTART:20191103T090000
END:STANDARD
BEGIN:DAYLIGHT
TZOFFSETFROM:-0800
TZOFFSETTO:-0700
TZNAME:PDT
DTSTART:20200308T100000
END:DAYLIGHT
BEGIN:STANDARD
TZOFFSETFROM:-0700
TZOFFSETTO:-0800
TZNAME:PST
DTSTART:20201101T090000
END:STANDARD
END:VTIMEZONE
BEGIN:VEVENT
DTSTART;TZID=America/Los_Angeles:20190717T183000
DTEND;TZID=America/Los_Angeles:20190717T193000
DTSTAMP:20260425T214002
CREATED:20190528T155426Z
LAST-MODIFIED:20190528T155426Z
UID:9394-1563388200-1563391800@brookswoodmeadowplaza.com
SUMMARY:Monthly Plant Spirit Meditation with Dr. Ashley Rieger\, ND at Fettle Botanic Bend\, 6:30-7:30pm
DESCRIPTION:Learn more at https://www.facebook.com/events/907728146235917/!
URL:https://brookswoodmeadowplaza.com/calendar/monthly-plant-spirit-meditation-with-dr-ashley-rieger-nd-at-fettle-botanic-bend-630-730pm-3
LOCATION:Bend\, United States
CATEGORIES:Community,Health,Tea,Well Being,Wellness
ATTACH;FMTTYPE=image/jpeg:https://brookswoodmeadowplaza.com/wp-content/uploads/2018/10/Logo-Bend.jpg
END:VEVENT
BEGIN:VEVENT
DTSTART;TZID=America/Los_Angeles:20190713T183000
DTEND;TZID=America/Los_Angeles:20190713T200000
DTSTAMP:20260425T214002
CREATED:20190613T230107Z
LAST-MODIFIED:20190613T230107Z
UID:9485-1563042600-1563048000@brookswoodmeadowplaza.com
SUMMARY:Herbal Abundance Gathering (Free) at Fettle Botanic Bend\, 6:30-8pm
DESCRIPTION:Learn more about Herbal Abundance Gathering by clicking here to visit Fettle Botanic Bend’s Facebook Page!
URL:https://brookswoodmeadowplaza.com/calendar/herbal-abundance-gathering-free-at-fettle-botanic-bend-630-8pm
LOCATION:Bend\, United States
CATEGORIES:Community,Free,Health,Summer,Tea,Well Being,Wellness
ATTACH;FMTTYPE=image/jpeg:https://brookswoodmeadowplaza.com/wp-content/uploads/2018/10/Logo-Bend.jpg
END:VEVENT
BEGIN:VEVENT
DTSTART;TZID=America/Los_Angeles:20190627T180000
DTEND;TZID=America/Los_Angeles:20190627T190000
DTSTAMP:20260425T214002
CREATED:20190617T213020Z
LAST-MODIFIED:20190617T213020Z
UID:9500-1561658400-1561662000@brookswoodmeadowplaza.com
SUMMARY:Happy Hour Acupuncture Hosted by Deschutes Acupuncture (inside INjoy Spa Salon) Registration Required\, 6-7pm
DESCRIPTION:Learn more about Happy Hour Acupuncture Hosted by Deschutes Acupuncture (inside INjoy Spa Salon) by visiting Deschutes Acupuncture’s Facebook Page!
URL:https://brookswoodmeadowplaza.com/calendar/happy-hour-acupuncture-hosted-by-deschutes-acupuncture-inside-injoy-spa-salon-registration-required-6-7pm-2
LOCATION:Bend\, United States
CATEGORIES:Community,Health,Tea,Well Being,Wellness
ATTACH;FMTTYPE=image/jpeg:https://brookswoodmeadowplaza.com/wp-content/uploads/2019/04/4443d8726fb99cdcca668b2a72f3d08e.jpg.max800.jpg
END:VEVENT
BEGIN:VEVENT
DTSTART;TZID=America/Los_Angeles:20190620T180000
DTEND;TZID=America/Los_Angeles:20190620T190000
DTSTAMP:20260425T214002
CREATED:20190617T212716Z
LAST-MODIFIED:20190617T212716Z
UID:9496-1561053600-1561057200@brookswoodmeadowplaza.com
SUMMARY:Happy Hour Acupuncture Hosted by Deschutes Acupuncture (inside INjoy Spa Salon) Registration Required\, 6-7pm
DESCRIPTION:Learn more about Happy Hour Acupuncture Hosted by Deschutes Acupuncture (inside INjoy Spa Salon) by visiting Deschutes Acupuncture‘s Facebook Page!
URL:https://brookswoodmeadowplaza.com/calendar/happy-hour-acupuncture-hosted-by-deschutes-acupuncture-inside-injoy-spa-salon-registration-required-6-7pm
LOCATION:Bend\, United States
CATEGORIES:Community,Health,Tea,Well Being,Wellness
ATTACH;FMTTYPE=image/jpeg:https://brookswoodmeadowplaza.com/wp-content/uploads/2019/04/4443d8726fb99cdcca668b2a72f3d08e.jpg.max800.jpg
END:VEVENT
BEGIN:VEVENT
DTSTART;TZID=America/Los_Angeles:20190619T183000
DTEND;TZID=America/Los_Angeles:20190619T193000
DTSTAMP:20260425T214002
CREATED:20190506T163053Z
LAST-MODIFIED:20190506T163053Z
UID:9218-1560969000-1560972600@brookswoodmeadowplaza.com
SUMMARY:Monthly Plant Spirit Meditation with Dr. Ashley Rieger\, ND at Fettle Botanic Bend\, 6:30-7:30pm
DESCRIPTION:Click HERE to visit Fettle Botanic Bend’s Facebook Page for more information and details!
URL:https://brookswoodmeadowplaza.com/calendar/monthly-plant-spirit-meditation-with-dr-ashley-rieger-nd-at-fettle-botanic-bend-630-730pm-2
LOCATION:Bend\, United States
CATEGORIES:Community,Tea,Well Being,Wellness
ATTACH;FMTTYPE=image/jpeg:https://brookswoodmeadowplaza.com/wp-content/uploads/2018/10/Logo-Bend.jpg
END:VEVENT
BEGIN:VEVENT
DTSTART;TZID=America/Los_Angeles:20190608T171500
DTEND;TZID=America/Los_Angeles:20190608T181500
DTSTAMP:20260425T214002
CREATED:20190506T163331Z
LAST-MODIFIED:20190506T163331Z
UID:9221-1560014100-1560017700@brookswoodmeadowplaza.com
SUMMARY:Monthly Dream Circle with Dr. Jennifer Marie Lane at Fettle Botanic Bend\, 5:15-6:15pm
DESCRIPTION:Click HERE to visit Fettle Botanic Bend’s Facebook Page for more information and details!
URL:https://brookswoodmeadowplaza.com/calendar/monthly-dream-circle-with-dr-jennifer-marie-lane-at-fettle-botanic-bend-515-615pm-3
LOCATION:Bend\, United States
CATEGORIES:Community,Health,Tea,Well Being,Wellness
ATTACH;FMTTYPE=image/jpeg:https://brookswoodmeadowplaza.com/wp-content/uploads/2018/10/Logo-Bend.jpg
END:VEVENT
BEGIN:VEVENT
DTSTART;TZID=America/Los_Angeles:20190529T180000
DTEND;TZID=America/Los_Angeles:20190529T190000
DTSTAMP:20260425T214002
CREATED:20190523T180256Z
LAST-MODIFIED:20190523T180256Z
UID:9381-1559152800-1559156400@brookswoodmeadowplaza.com
SUMMARY:Happy Hour at Deschutes Acupuncture (inside INjoy Spa Salon)\, 6-7pm (RSVP)
DESCRIPTION:To learn more about “Happy Hour at Deschutes Acupuncture” (inside INjoy Spa Salon)\, Click to visit Deschutes Acupuncture‘s Facebook Page!
URL:https://brookswoodmeadowplaza.com/calendar/happy-hour-at-deschutes-acupuncture-inside-injoy-spa-salon-6-7pm-rsvp
LOCATION:Bend\, United States
CATEGORIES:Community,Health,Tea,Well Being,Wellness
ATTACH;FMTTYPE=image/jpeg:https://brookswoodmeadowplaza.com/wp-content/uploads/2019/04/4443d8726fb99cdcca668b2a72f3d08e.jpg.max800.jpg
END:VEVENT
BEGIN:VEVENT
DTSTART;TZID=America/Los_Angeles:20190520T181500
DTEND;TZID=America/Los_Angeles:20190520T194500
DTSTAMP:20260425T214002
CREATED:20190430T160605Z
LAST-MODIFIED:20190430T160605Z
UID:9130-1558376100-1558381500@brookswoodmeadowplaza.com
SUMMARY:Healing Ceremonies for Clearing and Attunement with Aowyn Jones Part 2 at Fettle Botanic Bend\, 6:15-7:45pm
DESCRIPTION:Learn more about Healing Ceremonies for Clearing and Attunement with Aowyn Jones Part 2 at Fettle Botanic Bend’s Facebook Page!
URL:https://brookswoodmeadowplaza.com/calendar/healing-ceremonies-for-clearing-and-attunement-with-aowyn-jones-part-2-at-fettle-botanic-bend-615-745pm
LOCATION:Bend\, United States
CATEGORIES:Community,Health,Tea,Well Being,Wellness
ATTACH;FMTTYPE=image/jpeg:https://brookswoodmeadowplaza.com/wp-content/uploads/2018/10/Logo-Bend.jpg
END:VEVENT
BEGIN:VEVENT
DTSTART;TZID=America/Los_Angeles:20190516T181500
DTEND;TZID=America/Los_Angeles:20190516T191500
DTSTAMP:20260425T214002
CREATED:20190430T160912Z
LAST-MODIFIED:20190430T160912Z
UID:9133-1558030500-1558034100@brookswoodmeadowplaza.com
SUMMARY:Digestion 101: Learn How Digestion Is Supposed To Work with Morg at Fettle Botanic Bend\, 6:15-7:15pm
DESCRIPTION:Learn more about: Digestion 101: Learn How Digestion Is Supposed To Work with Morg at Fettle Botanic Bend‘s Facebook Page!
URL:https://brookswoodmeadowplaza.com/calendar/digestion-101-learn-how-digestion-is-supposed-to-work-with-morg-at-fettle-botanic-bend-615-715pm
LOCATION:Bend\, United States
CATEGORIES:Community,Health,Tea,Well Being,Wellness
ATTACH;FMTTYPE=image/jpeg:https://brookswoodmeadowplaza.com/wp-content/uploads/2018/10/Logo-Bend.jpg
END:VEVENT
BEGIN:VEVENT
DTSTART;TZID=America/Los_Angeles:20190511T180000
DTEND;TZID=America/Los_Angeles:20190511T190000
DTSTAMP:20260425T214002
CREATED:20190429T190019Z
LAST-MODIFIED:20190429T190019Z
UID:9117-1557597600-1557601200@brookswoodmeadowplaza.com
SUMMARY:Group Acupuncture at INjoy Spa Salon with Deschutes Acupuncture\, 6-7pm
DESCRIPTION:“Join Crystal Ford with Deschutes Acupuncture; Now located in Injoy Spa Salon at Brookswood Plaza. Crystal will lead a small group through a relaxing\, healing experience. Breathe in healing with essential oils\, relaxing music\, enjoying hot tea and a healthy snack\, while obtaining an affordable introduction to acupuncture. $25 Sign up at 541-429-0900.”
URL:https://brookswoodmeadowplaza.com/calendar/group-acupuncture-at-injoy-spa-salon-with-deschutes-acupuncture-6-7pm
LOCATION:Bend\, United States
CATEGORIES:Community,Health,Tea,Well Being,Wellness
ATTACH;FMTTYPE=image/jpeg:https://brookswoodmeadowplaza.com/wp-content/uploads/2019/04/4443d8726fb99cdcca668b2a72f3d08e.jpg.max800.jpg
END:VEVENT
BEGIN:VEVENT
DTSTART;TZID=America/Los_Angeles:20190511T100000
DTEND;TZID=America/Los_Angeles:20190511T170000
DTSTAMP:20260425T214002
CREATED:20190409T163349Z
LAST-MODIFIED:20190429T191345Z
UID:9042-1557568800-1557594000@brookswoodmeadowplaza.com
SUMMARY:One Year Anniversary Party at Fettle Botanic Bend **Music! DIY Seed Bombs! Raffles! Botanical Beverages featuring Meadowland syrups and More!**
DESCRIPTION:Visit Fettle’s Facebook page for more information about their One Year Anniversary Party at Fettle Botanic Bend **Music! DIY Seed Bombs! Raffles! Botanical Beverages featuring Meadowland syrups and More!**
URL:https://brookswoodmeadowplaza.com/calendar/one-year-anniversary-party-at-fettle-botanic-bend-music-diy-seed-bombs-raffles-botanical-beverages-featuring-meadowland-syrups-and-more
LOCATION:Bend\, United States
CATEGORIES:Community,Free,Health,Music,Tea,Well Being,Wellness
ATTACH;FMTTYPE=image/jpeg:https://brookswoodmeadowplaza.com/wp-content/uploads/2019/04/56603169_756579258071997_4813252806473416704_n-2.jpg
END:VEVENT
BEGIN:VEVENT
DTSTART;VALUE=DATE:20190430
DTEND;VALUE=DATE:20190501
DTSTAMP:20260425T214002
CREATED:20190430T163419Z
LAST-MODIFIED:20190430T163419Z
UID:9143-1556582400-1556668799@brookswoodmeadowplaza.com
SUMMARY:National Bubble Tea Day!
DESCRIPTION:
URL:https://brookswoodmeadowplaza.com/calendar/national-bubble-tea-day-2
LOCATION:Bend\, United States
CATEGORIES:Tea
ATTACH;FMTTYPE=image/png:https://brookswoodmeadowplaza.com/wp-content/uploads/2018/02/24785132_1846067932351373_1156152299306864226_o-4-e1517521784997.png
END:VEVENT
BEGIN:VEVENT
DTSTART;TZID=America/Los_Angeles:20190429T181500
DTEND;TZID=America/Los_Angeles:20190429T191500
DTSTAMP:20260425T214002
CREATED:20190408T163708Z
LAST-MODIFIED:20190408T163708Z
UID:8969-1556561700-1556565300@brookswoodmeadowplaza.com
SUMMARY:Plant Allies for Flavors of Grief at Fettle Botanic Bend\, 6:15-7:15pm
DESCRIPTION:Learn more about Plant Allies for Flavors of Grief at Fettle Botanic Bend’s Facebook Page!
URL:https://brookswoodmeadowplaza.com/calendar/plant-allies-for-flavors-of-grief-at-fettle-botanic-bend-615-715pm
LOCATION:Bend\, United States
CATEGORIES:Community,Health,Tea,Well Being,Wellness
ATTACH;FMTTYPE=image/jpeg:https://brookswoodmeadowplaza.com/wp-content/uploads/2018/10/Logo-Bend.jpg
END:VEVENT
BEGIN:VEVENT
DTSTART;TZID=America/Los_Angeles:20190422T181500
DTEND;TZID=America/Los_Angeles:20190422T193000
DTSTAMP:20260425T214002
CREATED:20190422T163855Z
LAST-MODIFIED:20190422T163920Z
UID:9091-1555956900-1555961400@brookswoodmeadowplaza.com
SUMMARY:Belly Dance with Plant Allies at Fettle Botanic Bend\, 6:15-7:30pm
DESCRIPTION:Click HERE to visit Fettle Botanic Bend’s Facebook Page for more information and details!
URL:https://brookswoodmeadowplaza.com/calendar/belly-dance-with-plant-allies-at-fettle-botanic-bend-615-715pm
LOCATION:Bend\, United States
CATEGORIES:Community,Health,Tea,Well Being,Wellness
ATTACH;FMTTYPE=image/jpeg:https://brookswoodmeadowplaza.com/wp-content/uploads/2018/10/Logo-Bend.jpg
END:VEVENT
BEGIN:VEVENT
DTSTART;TZID=America/Los_Angeles:20190419T183000
DTEND;TZID=America/Los_Angeles:20190419T200000
DTSTAMP:20260425T214002
CREATED:20190401T190359Z
LAST-MODIFIED:20190401T190359Z
UID:8895-1555698600-1555704000@brookswoodmeadowplaza.com
SUMMARY:Spring Tonic Herb Workshop at Fettle Botanic Bend\, 6:30-8pm
DESCRIPTION:To learn more at Fettle Botanic Bend’s Facebook Page – Click here!
URL:https://brookswoodmeadowplaza.com/calendar/spring-tonic-herb-workshop-at-fettle-botanic-bend-630-8pm
LOCATION:Bend\, United States
CATEGORIES:Community,Health,Tea,Well Being,Wellness
ATTACH;FMTTYPE=image/jpeg:https://brookswoodmeadowplaza.com/wp-content/uploads/2018/10/Logo-Bend.jpg
END:VEVENT
BEGIN:VEVENT
DTSTART;TZID=America/Los_Angeles:20190417T183000
DTEND;TZID=America/Los_Angeles:20190417T193000
DTSTAMP:20260425T214002
CREATED:20190401T185504Z
LAST-MODIFIED:20190401T185504Z
UID:8883-1555525800-1555529400@brookswoodmeadowplaza.com
SUMMARY:Monthly Plant Spirit Meditation with Dr. Ashley Rieger\, ND at Fettle Botanic Bend\, 6:30-7:30pm
DESCRIPTION:To learn more at Fettle Botanic Bend’s Facebook Page – Click here!
URL:https://brookswoodmeadowplaza.com/calendar/monthly-plant-spirit-meditation-with-dr-ashley-rieger-nd-at-fettle-botanic-bend-630-730pm
LOCATION:Bend\, United States
CATEGORIES:Community,Health,Tea,Well Being,Wellness
ATTACH;FMTTYPE=image/jpeg:https://brookswoodmeadowplaza.com/wp-content/uploads/2018/10/Logo-Bend.jpg
END:VEVENT
BEGIN:VEVENT
DTSTART;TZID=America/Los_Angeles:20190413T100000
DTEND;TZID=America/Los_Angeles:20190413T130000
DTSTAMP:20260425T214002
CREATED:20190401T184344Z
LAST-MODIFIED:20190401T184344Z
UID:8871-1555149600-1555160400@brookswoodmeadowplaza.com
SUMMARY:Free Spirit Readings with Diana Aimone at Fettle Botanic Bend\, 10am-1pm
DESCRIPTION:To learn more at Fettle Botanic Bend’s Facebook Page – Click here!
URL:https://brookswoodmeadowplaza.com/calendar/free-spirit-readings-with-diana-aimone-at-fettle-botanic-bend-10am-1pm-4
LOCATION:Bend\, United States
CATEGORIES:Community,Free,Tea,Well Being,Wellness
ATTACH;FMTTYPE=image/jpeg:https://brookswoodmeadowplaza.com/wp-content/uploads/2018/10/Logo-Bend.jpg
END:VEVENT
BEGIN:VEVENT
DTSTART;TZID=America/Los_Angeles:20190401T181500
DTEND;TZID=America/Los_Angeles:20190401T193000
DTSTAMP:20260425T214002
CREATED:20190304T185522Z
LAST-MODIFIED:20190304T185522Z
UID:8689-1554142500-1554147000@brookswoodmeadowplaza.com
SUMMARY:Bliss Balls and Tea Class with Vegan Chef Elaina Love at Fettle Botanic Bend\, 6:15-7:30pm
DESCRIPTION:Click HERE to visit Fettle Botanic Bend’s Facebook Pagefor more information and details!
URL:https://brookswoodmeadowplaza.com/calendar/bliss-balls-and-tea-class-with-vegan-chef-elaina-love-at-fettle-botanic-bend-615-730pm
LOCATION:Bend\, United States
CATEGORIES:Community,Food,Tea,Well Being,Wellness
ATTACH;FMTTYPE=image/jpeg:https://brookswoodmeadowplaza.com/wp-content/uploads/2018/10/Logo-Bend.jpg
END:VEVENT
END:VCALENDAR