BEGIN:VCALENDAR
VERSION:2.0
PRODID:-//Brookswood Meadow Plaza - ECPv6.15.13.1//NONSGML v1.0//EN
CALSCALE:GREGORIAN
METHOD:PUBLISH
X-ORIGINAL-URL:https://brookswoodmeadowplaza.com
X-WR-CALDESC:Events for Brookswood Meadow Plaza
REFRESH-INTERVAL;VALUE=DURATION:PT1H
X-Robots-Tag:noindex
X-PUBLISHED-TTL:PT1H
BEGIN:VTIMEZONE
TZID:America/Los_Angeles
BEGIN:DAYLIGHT
TZOFFSETFROM:-0800
TZOFFSETTO:-0700
TZNAME:PDT
DTSTART:20180311T100000
END:DAYLIGHT
BEGIN:STANDARD
TZOFFSETFROM:-0700
TZOFFSETTO:-0800
TZNAME:PST
DTSTART:20181104T090000
END:STANDARD
BEGIN:DAYLIGHT
TZOFFSETFROM:-0800
TZOFFSETTO:-0700
TZNAME:PDT
DTSTART:20190310T100000
END:DAYLIGHT
BEGIN:STANDARD
TZOFFSETFROM:-0700
TZOFFSETTO:-0800
TZNAME:PST
DTSTART:20191103T090000
END:STANDARD
BEGIN:DAYLIGHT
TZOFFSETFROM:-0800
TZOFFSETTO:-0700
TZNAME:PDT
DTSTART:20200308T100000
END:DAYLIGHT
BEGIN:STANDARD
TZOFFSETFROM:-0700
TZOFFSETTO:-0800
TZNAME:PST
DTSTART:20201101T090000
END:STANDARD
BEGIN:DAYLIGHT
TZOFFSETFROM:-0800
TZOFFSETTO:-0700
TZNAME:PDT
DTSTART:20210314T100000
END:DAYLIGHT
BEGIN:STANDARD
TZOFFSETFROM:-0700
TZOFFSETTO:-0800
TZNAME:PST
DTSTART:20211107T090000
END:STANDARD
END:VTIMEZONE
BEGIN:VEVENT
DTSTART;TZID=America/Los_Angeles:20200314T110000
DTEND;TZID=America/Los_Angeles:20200314T140000
DTSTAMP:20260425T141206
CREATED:20200225T213739Z
LAST-MODIFIED:20200225T213739Z
UID:10715-1584183600-1584194400@brookswoodmeadowplaza.com
SUMMARY:Acupuncture for Highly Sensitive People at The Peoples Apothecary\, 11am-2pm
DESCRIPTION:Learn more about Acupuncture for Highly Sensitive People at The Peoples Apothecary‘s Facebook Page!
URL:https://brookswoodmeadowplaza.com/calendar/acupuncture-for-highly-sensitive-people-at-the-peoples-apothecary-11am-2pm
LOCATION:Bend\, United States
CATEGORIES:Community,Well Being,Wellness
ATTACH;FMTTYPE=image/jpeg:https://brookswoodmeadowplaza.com/wp-content/uploads/2019/10/The-Peoples-Apothecary-Square-Logo.jpg
END:VEVENT
BEGIN:VEVENT
DTSTART;TZID=America/Los_Angeles:20200313T180000
DTEND;TZID=America/Los_Angeles:20200313T200000
DTSTAMP:20260425T141206
CREATED:20200129T192252Z
LAST-MODIFIED:20200129T192252Z
UID:10519-1584122400-1584129600@brookswoodmeadowplaza.com
SUMMARY:Healthy Happy Hour with Waking Journey at The Peoples Apothecary\, 6-8pm
DESCRIPTION:Learn more about Healthy Happy Hour with Waking Journey at The Peoples Apothecary‘s Facebook Page!
URL:https://brookswoodmeadowplaza.com/calendar/healthy-happy-hour-with-waking-journey-at-the-peoples-apothecary-6-8pm
LOCATION:Bend\, United States
CATEGORIES:Community,Food,Health,Well Being,Wellness
ATTACH;FMTTYPE=image/jpeg:https://brookswoodmeadowplaza.com/wp-content/uploads/2019/10/The-Peoples-Apothecary-Square-Logo.jpg
END:VEVENT
BEGIN:VEVENT
DTSTART;TZID=America/Los_Angeles:20200312T180000
DTEND;TZID=America/Los_Angeles:20200312T193000
DTSTAMP:20260425T141206
CREATED:20200210T211701Z
LAST-MODIFIED:20200210T211701Z
UID:10657-1584036000-1584041400@brookswoodmeadowplaza.com
SUMMARY:Teen Art Night: Love Wins Mixed Media HeART Canvases at ARTdog Children’s Studio (Register Online)\, 6-7:30pm
DESCRIPTION:Learn more about Teen Art Night: Love Wins Mixed Media HeART Canvases at ARTdog Children’s Studio (Register Online)!
URL:https://brookswoodmeadowplaza.com/calendar/teen-art-night-love-wins-mixed-media-heart-canvases-at-artdog-childrens-studio-register-online-6-730pm
LOCATION:Bend\, United States
CATEGORIES:Art,Community,Kids/Family,Well Being,Wellness
ATTACH;FMTTYPE=image/png:https://brookswoodmeadowplaza.com/wp-content/uploads/2019/08/65256204_1337204583112492_9195278720196149248_o.png
END:VEVENT
BEGIN:VEVENT
DTSTART;TZID=America/Los_Angeles:20200222T150000
DTEND;TZID=America/Los_Angeles:20200222T160000
DTSTAMP:20260425T141206
CREATED:20200208T225750Z
LAST-MODIFIED:20200208T225750Z
UID:10638-1582383600-1582387200@brookswoodmeadowplaza.com
SUMMARY:Symphony of the Cells Workshop by The Dailey Method-Bend Barre Studio\, 3pm
DESCRIPTION:Learn more about Symphony of the Cells Workshop at The Dailey Method-Bend Barre Studio’s Facebook Page!
URL:https://brookswoodmeadowplaza.com/calendar/symphony-of-the-cells-workshop-by-the-dailey-method-bend-barre-studio-3pm
LOCATION:Bend\, United States
CATEGORIES:Barre Class,Community,Fitness,Well Being,Wellness
ATTACH;FMTTYPE=image/jpeg:https://brookswoodmeadowplaza.com/wp-content/uploads/2018/10/43074539_1151731088307534_5687740003711451136_n.jpg
END:VEVENT
BEGIN:VEVENT
DTSTART;TZID=America/Los_Angeles:20200217T181500
DTEND;TZID=America/Los_Angeles:20200217T191500
DTSTAMP:20260425T141206
CREATED:20200127T174530Z
LAST-MODIFIED:20200127T174530Z
UID:10487-1581963300-1581966900@brookswoodmeadowplaza.com
SUMMARY:Herbal Oil Making: Juniper at The Peoples Apothecary\, 6:15-7:15pm
DESCRIPTION:Learn more about Herbal Oil Making: Juniper at The Peoples Apothecary’s Facebook Page!
URL:https://brookswoodmeadowplaza.com/calendar/herbal-oil-making-juniper-at-the-peoples-apothecary-615-715pm
LOCATION:Bend\, United States
CATEGORIES:Community,Food,Well Being,Wellness
ATTACH;FMTTYPE=image/jpeg:https://brookswoodmeadowplaza.com/wp-content/uploads/2019/10/The-Peoples-Apothecary-Square-Logo.jpg
END:VEVENT
BEGIN:VEVENT
DTSTART;VALUE=DATE:20200217
DTEND;VALUE=DATE:20200218
DTSTAMP:20260425T141206
CREATED:20200129T191052Z
LAST-MODIFIED:20200129T193410Z
UID:10507-1581897600-1581983999@brookswoodmeadowplaza.com
SUMMARY:No School Art Camp at ARTdog – Register at artdogbend.com
DESCRIPTION:Learn more about No School Art Camp at artdogbend.com!
URL:https://brookswoodmeadowplaza.com/calendar/no-school-art-camp-at-artdog-register-at-artdogbend-com-2
LOCATION:Bend\, United States
CATEGORIES:Art,Community,Kids/Family,School,Well Being,Wellness
ATTACH;FMTTYPE=image/png:https://brookswoodmeadowplaza.com/wp-content/uploads/2019/08/65256204_1337204583112492_9195278720196149248_o.png
END:VEVENT
BEGIN:VEVENT
DTSTART;TZID=America/Los_Angeles:20200216T160000
DTEND;TZID=America/Los_Angeles:20200216T170000
DTSTAMP:20260425T141206
CREATED:20200208T225444Z
LAST-MODIFIED:20200208T225444Z
UID:10635-1581868800-1581872400@brookswoodmeadowplaza.com
SUMMARY:Bubbles + Barre Charity Event by The Dailey Method-Bend Barre Studio\, 4-5pm
DESCRIPTION:Learn more about Bubbles + Barre Charity Event at The Dailey Method-Bend Barre Studio‘s Facebook Page!
URL:https://brookswoodmeadowplaza.com/calendar/bubbles-barre-charity-event-by-the-dailey-method-bend-barre-studio-4-5pm
LOCATION:Bend\, United States
CATEGORIES:Barre Class,Charity/Fundraiser,Well Being,Wellness,Wine
ATTACH;FMTTYPE=image/jpeg:https://brookswoodmeadowplaza.com/wp-content/uploads/2018/10/43074539_1151731088307534_5687740003711451136_n.jpg
END:VEVENT
BEGIN:VEVENT
DTSTART;TZID=America/Los_Angeles:20200215T160000
DTEND;TZID=America/Los_Angeles:20200215T171500
DTSTAMP:20260425T141206
CREATED:20200208T225049Z
LAST-MODIFIED:20200208T225049Z
UID:10631-1581782400-1581786900@brookswoodmeadowplaza.com
SUMMARY:Energy Tools for Highly Sensitive Children and their Caregivers at The Peoples Apothecary\, 4-5:15pm
DESCRIPTION:Learn more about Energy Tools for Highly Sensitive Children and their Caregivers at The Peoples Apothecary‘s Facebook Page!
URL:https://brookswoodmeadowplaza.com/calendar/energy-tools-for-highly-sensitive-children-and-their-caregivers-at-the-peoples-apothecary-4-515pm
LOCATION:Bend\, United States
CATEGORIES:Community,Kids/Family,Well Being,Wellness
ATTACH;FMTTYPE=image/jpeg:https://brookswoodmeadowplaza.com/wp-content/uploads/2019/10/The-Peoples-Apothecary-Square-Logo.jpg
END:VEVENT
BEGIN:VEVENT
DTSTART;TZID=America/Los_Angeles:20200212T170000
DTEND;TZID=America/Los_Angeles:20200212T183000
DTSTAMP:20260425T141206
CREATED:20200210T211525Z
LAST-MODIFIED:20200210T211525Z
UID:10654-1581526800-1581532200@brookswoodmeadowplaza.com
SUMMARY:Valentines Printing Workshop for the Family (or Drop Off Age 5+) at ARTdog Children’s Studio (Register Online)\, 5-6:30pm
DESCRIPTION:Learn more about Valentines Printing Workshop for the Family (or Drop Off Age 5+) at ARTdog Children’s Studio (Register Online)! \n 
URL:https://brookswoodmeadowplaza.com/calendar/valentines-printing-workshop-for-the-family-or-drop-off-age-5-at-artdog-childrens-studio-register-online-5-630pm
LOCATION:Bend\, United States
CATEGORIES:Art,Community,Holiday,Kids/Family,Well Being,Wellness
ATTACH;FMTTYPE=image/png:https://brookswoodmeadowplaza.com/wp-content/uploads/2019/08/65256204_1337204583112492_9195278720196149248_o.png
END:VEVENT
BEGIN:VEVENT
DTSTART;TZID=America/Los_Angeles:20200208T173000
DTEND;TZID=America/Los_Angeles:20200208T190000
DTSTAMP:20260425T141206
CREATED:20200114T214419Z
LAST-MODIFIED:20200114T214419Z
UID:10456-1581183000-1581188400@brookswoodmeadowplaza.com
SUMMARY:Adaptogens: Managing Stress With Herbal Allies at The Peoples Apothecary\, 5:30-7pm
DESCRIPTION:Learn more about Adaptogens: Managing Stress With Herbal Allies at The Peoples Apothecary’s Facebook Page!
URL:https://brookswoodmeadowplaza.com/calendar/adaptogens-managing-stress-with-herbal-allies-at-the-peoples-apothecary-530-7pm
LOCATION:Bend\, United States
CATEGORIES:Community,Health,Well Being,Wellness
ATTACH;FMTTYPE=image/jpeg:https://brookswoodmeadowplaza.com/wp-content/uploads/2019/10/The-Peoples-Apothecary-Square-Logo.jpg
END:VEVENT
BEGIN:VEVENT
DTSTART;TZID=America/Los_Angeles:20200204T180000
DTEND;TZID=America/Los_Angeles:20200204T203000
DTSTAMP:20260425T141206
CREATED:20200114T214223Z
LAST-MODIFIED:20200114T214223Z
UID:10453-1580839200-1580848200@brookswoodmeadowplaza.com
SUMMARY:Women’s Red Moon Medicine Drum Making Sisterhood Gathering at The Peoples Apothecary\, 6-8:30pm
DESCRIPTION:Learn more about Women’s Red Moon Medicine Drum Making Sisterhood Gathering at The Peoples Apothecary’s Facebook Page!
URL:https://brookswoodmeadowplaza.com/calendar/womens-red-moon-medicine-drum-making-sisterhood-gathering-at-the-peoples-apothecary-6-830pm
LOCATION:Bend\, United States
CATEGORIES:Community,Well Being,Wellness
ATTACH;FMTTYPE=image/jpeg:https://brookswoodmeadowplaza.com/wp-content/uploads/2019/10/The-Peoples-Apothecary-Square-Logo.jpg
END:VEVENT
BEGIN:VEVENT
DTSTART;VALUE=DATE:20200131
DTEND;VALUE=DATE:20200201
DTSTAMP:20260425T141206
CREATED:20200129T185036Z
LAST-MODIFIED:20200129T185036Z
UID:10504-1580428800-1580515199@brookswoodmeadowplaza.com
SUMMARY:No School Art Camp at ARTdog – Register at artdogbend.com
DESCRIPTION:Learn more about No School Art Camp at artdogbend.com!
URL:https://brookswoodmeadowplaza.com/calendar/no-school-art-camp-at-artdog-register-at-artdogbend-com
LOCATION:Bend\, United States
CATEGORIES:Art,Community,Kids/Family,School,Well Being,Wellness
ATTACH;FMTTYPE=image/png:https://brookswoodmeadowplaza.com/wp-content/uploads/2019/08/65256204_1337204583112492_9195278720196149248_o.png
END:VEVENT
BEGIN:VEVENT
DTSTART;TZID=America/Los_Angeles:20200124T180000
DTEND;TZID=America/Los_Angeles:20200124T190000
DTSTAMP:20260425T141206
CREATED:20191230T193601Z
LAST-MODIFIED:20191230T193601Z
UID:10399-1579888800-1579892400@brookswoodmeadowplaza.com
SUMMARY:Dance - Physical Inquiry at The Peoples Apothecary\, 6-7pm
DESCRIPTION:Learn more about Dance – Physical Inquiry at The Peoples Apothecary’s Facebook Page!
URL:https://brookswoodmeadowplaza.com/calendar/dance-physical-inquiry-at-the-peoples-apothecary-6-7pm
LOCATION:Bend\, United States
CATEGORIES:Community,Health,Well Being,Wellness
ATTACH;FMTTYPE=image/jpeg:https://brookswoodmeadowplaza.com/wp-content/uploads/2019/10/The-Peoples-Apothecary-Square-Logo.jpg
END:VEVENT
BEGIN:VEVENT
DTSTART;TZID=America/Los_Angeles:20200120T120000
DTEND;TZID=America/Los_Angeles:20200120T130000
DTSTAMP:20260425T141206
CREATED:20191230T205304Z
LAST-MODIFIED:20191230T205304Z
UID:10420-1579521600-1579525200@brookswoodmeadowplaza.com
SUMMARY:Locals Barre Class at The Dailey Method (Drop-In/All Athletic Levels Welcome)\, Space Limited/Call Studio for Details\, 12-1pm
DESCRIPTION:Locals Barre Class at The Dailey Method (Drop-In/All Athletic Levels Welcome)\, Space Limited/Call Studio for Details\, 12-1pm.
URL:https://brookswoodmeadowplaza.com/calendar/locals-barre-class-at-the-dailey-method-drop-in-all-athletic-levels-welcome-space-limited-call-studio-for-details-12-1pm-3
LOCATION:Bend\, United States
CATEGORIES:Barre Class,Community,Fitness,Health,Well Being,Wellness
ATTACH;FMTTYPE=image/jpeg:https://brookswoodmeadowplaza.com/wp-content/uploads/2018/10/43074539_1151731088307534_5687740003711451136_n.jpg
END:VEVENT
BEGIN:VEVENT
DTSTART;TZID=America/Los_Angeles:20200118T170000
DTEND;TZID=America/Los_Angeles:20200118T183000
DTSTAMP:20260425T141206
CREATED:20191230T192642Z
LAST-MODIFIED:20191230T192642Z
UID:10395-1579366800-1579372200@brookswoodmeadowplaza.com
SUMMARY:Manifest 2020 Vision Board Workshop at The Peoples Apothecary\, 5-6:30pm
DESCRIPTION:Learn more about Manifest 2020 Vision Board Workshop at The Peoples Apothecary’s Facebook Page!
URL:https://brookswoodmeadowplaza.com/calendar/manifest-2020-vision-board-workshop-at-the-peoples-apothecary-5-630pm
LOCATION:Bend\, United States
CATEGORIES:Community,Health,Well Being,Wellness
ATTACH;FMTTYPE=image/jpeg:https://brookswoodmeadowplaza.com/wp-content/uploads/2019/10/The-Peoples-Apothecary-Square-Logo.jpg
END:VEVENT
BEGIN:VEVENT
DTSTART;TZID=America/Los_Angeles:20200113T120000
DTEND;TZID=America/Los_Angeles:20200113T130000
DTSTAMP:20260425T141206
CREATED:20191230T205129Z
LAST-MODIFIED:20191230T205129Z
UID:10417-1578916800-1578920400@brookswoodmeadowplaza.com
SUMMARY:Locals Barre Class at The Dailey Method (Drop-In/All Athletic Levels Welcome)\, Space Limited/Call Studio for Details\, 12-1pm
DESCRIPTION:Locals Barre Class at The Dailey Method (Drop-In/All Athletic Levels Welcome)\, Space Limited/Call Studio for Details\, 12-1pm.
URL:https://brookswoodmeadowplaza.com/calendar/locals-barre-class-at-the-dailey-method-drop-in-all-athletic-levels-welcome-space-limited-call-studio-for-details-12-1pm-2
LOCATION:Bend\, United States
CATEGORIES:Barre Class,Community,Fitness,Health,Well Being,Wellness
ATTACH;FMTTYPE=image/jpeg:https://brookswoodmeadowplaza.com/wp-content/uploads/2018/10/43074539_1151731088307534_5687740003711451136_n.jpg
END:VEVENT
BEGIN:VEVENT
DTSTART;TZID=America/Los_Angeles:20200107T181500
DTEND;TZID=America/Los_Angeles:20200107T200000
DTSTAMP:20260425T141206
CREATED:20191122T231350Z
LAST-MODIFIED:20191122T231350Z
UID:10269-1578420900-1578427200@brookswoodmeadowplaza.com
SUMMARY:Advanced Medicine Making: The Art of Percolation at The Peoples Apothecary\, 6:15-8pm
DESCRIPTION:Learn more about Advanced Medicine Making: The Art of Percolation at The Peoples Apothecary‘s Facebook Page!
URL:https://brookswoodmeadowplaza.com/calendar/advanced-medicine-making-the-art-of-percolation-at-the-peoples-apothecary-615-8pm
LOCATION:Bend\, United States
CATEGORIES:Community,Food,Health,Well Being,Wellness
ATTACH;FMTTYPE=image/jpeg:https://brookswoodmeadowplaza.com/wp-content/uploads/2019/10/The-Peoples-Apothecary-Square-Logo.jpg
END:VEVENT
BEGIN:VEVENT
DTSTART;TZID=America/Los_Angeles:20200106T120000
DTEND;TZID=America/Los_Angeles:20200106T130000
DTSTAMP:20260425T141206
CREATED:20191230T204943Z
LAST-MODIFIED:20191230T204943Z
UID:10414-1578312000-1578315600@brookswoodmeadowplaza.com
SUMMARY:Locals Barre Class at The Dailey Method (Drop-In/All Athletic Levels Welcome)\, Space Limited/Call Studio for Details\, 12-1pm
DESCRIPTION:Locals Barre Class at The Dailey Method (All Athletic Levels Welcome)\, Space Limited/Call Studio for Details!
URL:https://brookswoodmeadowplaza.com/calendar/locals-barre-class-at-the-dailey-method-drop-in-all-athletic-levels-welcome-space-limited-call-studio-for-details-12-1pm
LOCATION:Bend\, United States
CATEGORIES:Barre Class,Community,Fitness,Health,Well Being,Wellness
ATTACH;FMTTYPE=image/jpeg:https://brookswoodmeadowplaza.com/wp-content/uploads/2018/10/43074539_1151731088307534_5687740003711451136_n.jpg
END:VEVENT
BEGIN:VEVENT
DTSTART;TZID=America/Los_Angeles:20191221T180000
DTEND;TZID=America/Los_Angeles:20191221T200000
DTSTAMP:20260425T141206
CREATED:20191126T215202Z
LAST-MODIFIED:20191126T215202Z
UID:10288-1576951200-1576958400@brookswoodmeadowplaza.com
SUMMARY:Deep Winter Solstice Community Drum Circle at The Peoples Apothecary\, 6-8pm
DESCRIPTION:Learn more about Deep Winter Solstice Community Drum Circle at The Peoples Apothecary’s Facebook Page!
URL:https://brookswoodmeadowplaza.com/calendar/deep-winter-solstice-community-drum-circle-at-the-peoples-apothecary-6-8pm
LOCATION:Bend\, United States
CATEGORIES:Community,Music,Well Being,Wellness
ATTACH;FMTTYPE=image/jpeg:https://brookswoodmeadowplaza.com/wp-content/uploads/2019/10/The-Peoples-Apothecary-Square-Logo.jpg
END:VEVENT
BEGIN:VEVENT
DTSTART;TZID=America/Los_Angeles:20191220T150000
DTEND;TZID=America/Los_Angeles:20191220T190000
DTSTAMP:20260425T141206
CREATED:20191122T231212Z
LAST-MODIFIED:20191122T231212Z
UID:10265-1576854000-1576868400@brookswoodmeadowplaza.com
SUMMARY:Holiday Makers Market at The Peoples Apothecary\, 3-7pm
DESCRIPTION:Learn more about Holiday Makers Market at The Peoples Apothecary’s Facebook Page!
URL:https://brookswoodmeadowplaza.com/calendar/holiday-makers-market-at-the-peoples-apothecary-3-7pm
LOCATION:Bend\, United States
CATEGORIES:Community,Health,Holiday,Well Being,Wellness
ATTACH;FMTTYPE=image/jpeg:https://brookswoodmeadowplaza.com/wp-content/uploads/2019/11/75649429_906525509744037_2071698387421364224_o.jpg
END:VEVENT
BEGIN:VEVENT
DTSTART;TZID=America/Los_Angeles:20191219T180000
DTEND;TZID=America/Los_Angeles:20191219T203000
DTSTAMP:20260425T141206
CREATED:20191022T185213Z
LAST-MODIFIED:20191022T185213Z
UID:10115-1576778400-1576787400@brookswoodmeadowplaza.com
SUMMARY:Tune Into the Magic of the Season at The Peoples Apothecary\, 6-8:30pm
DESCRIPTION:Learn more about Tune Into the Magic of the Season at The Peoples Apothecary’s Facebook Page!
URL:https://brookswoodmeadowplaza.com/calendar/tune-into-the-magic-of-the-season-at-the-peoples-apothecary-6-830pm
LOCATION:Bend\, United States
CATEGORIES:Community,Health,Holiday,Well Being,Wellness
ATTACH;FMTTYPE=image/jpeg:https://brookswoodmeadowplaza.com/wp-content/uploads/2019/10/The-Peoples-Apothecary-Square-Logo.jpg
END:VEVENT
BEGIN:VEVENT
DTSTART;TZID=America/Los_Angeles:20191217T183000
DTEND;TZID=America/Los_Angeles:20191217T193000
DTSTAMP:20260425T141206
CREATED:20190826T201853Z
LAST-MODIFIED:20191022T184307Z
UID:9852-1576607400-1576611000@brookswoodmeadowplaza.com
SUMMARY:Monthly Plant Spirit Meditation with Dr. Ashley Rieger\, ND at The Peoples Apothecary\, 6:30-7:30pm
DESCRIPTION:Learn more about Monthly Plant Spirit Meditation with Dr. Ashley Rieger\, ND at The Peoples Apothecary’s Facebook Page!
URL:https://brookswoodmeadowplaza.com/calendar/monthly-plant-spirit-meditation-with-dr-ashley-rieger-nd-at-fettle-botanic-bend
LOCATION:Bend\, United States
CATEGORIES:Community,Health,Well Being,Wellness
ATTACH;FMTTYPE=image/jpeg:https://brookswoodmeadowplaza.com/wp-content/uploads/2019/10/The-Peoples-Apothecary-Square-Logo.jpg
END:VEVENT
BEGIN:VEVENT
DTSTART;TZID=America/Los_Angeles:20191216T181500
DTEND;TZID=America/Los_Angeles:20191216T191500
DTSTAMP:20260425T141206
CREATED:20191202T184144Z
LAST-MODIFIED:20191202T184144Z
UID:10313-1576520100-1576523700@brookswoodmeadowplaza.com
SUMMARY:Resetting Your Nervous System With Herbal Oils at The Peoples Apothecary\, 6:15-7:15pm
DESCRIPTION:Learn more about Resetting Your Nervous System With Herbal Oils at The Peoples Apothecary’s Facebook Page!
URL:https://brookswoodmeadowplaza.com/calendar/resetting-your-nervous-system-with-herbal-oils-at-the-peoples-apothecary-615-715pm
LOCATION:Bend\, United States
CATEGORIES:Community,Health,Well Being,Wellness
ATTACH;FMTTYPE=image/jpeg:https://brookswoodmeadowplaza.com/wp-content/uploads/2019/10/The-Peoples-Apothecary-Square-Logo.jpg
END:VEVENT
BEGIN:VEVENT
DTSTART;TZID=America/Los_Angeles:20191214T171500
DTEND;TZID=America/Los_Angeles:20191214T181500
DTSTAMP:20260425T141206
CREATED:20191022T185014Z
LAST-MODIFIED:20191022T185014Z
UID:10112-1576343700-1576347300@brookswoodmeadowplaza.com
SUMMARY:Monthly Dream Circle with Dr. Jennifer Marie Lane at The Peoples Apothecary\, 6:15-7:15pm
DESCRIPTION:Learn more about Monthly Dream Circle with Dr. Jennifer Marie Lane at The Peoples Apothecary’s Facebook Page!
URL:https://brookswoodmeadowplaza.com/calendar/monthly-dream-circle-with-dr-jennifer-marie-lane-at-the-peoples-apothecary-615-715pm
LOCATION:Bend\, United States
CATEGORIES:Community,Health,Well Being,Wellness
ATTACH;FMTTYPE=image/jpeg:https://brookswoodmeadowplaza.com/wp-content/uploads/2019/10/The-Peoples-Apothecary-Square-Logo.jpg
END:VEVENT
BEGIN:VEVENT
DTSTART;TZID=America/Los_Angeles:20191210T181500
DTEND;TZID=America/Los_Angeles:20191210T194500
DTSTAMP:20260425T141206
CREATED:20190826T202638Z
LAST-MODIFIED:20191022T184130Z
UID:9861-1576001700-1576007100@brookswoodmeadowplaza.com
SUMMARY:Group Healing Through Vibrational Medicine at The Peoples Apothecary\, 6:15-7:45pm
DESCRIPTION:Learn more about Group Healing Through Vibrational Medicine at The Peoples Apothecary’s Facebook Page!
URL:https://brookswoodmeadowplaza.com/calendar/group-healing-through-vibrational-medicine-at-fettle-botanic-bend-615-745pm-3
LOCATION:Bend\, United States
CATEGORIES:Community,Health,Well Being,Wellness
ATTACH;FMTTYPE=image/jpeg:https://brookswoodmeadowplaza.com/wp-content/uploads/2019/10/The-Peoples-Apothecary-Square-Logo.jpg
END:VEVENT
BEGIN:VEVENT
DTSTART;TZID=America/Los_Angeles:20191207T140000
DTEND;TZID=America/Los_Angeles:20191207T150000
DTSTAMP:20260425T141206
CREATED:20191202T185151Z
LAST-MODIFIED:20191202T185151Z
UID:10317-1575727200-1575730800@brookswoodmeadowplaza.com
SUMMARY:Art + Mindfulness Class for Kids: Kindness! at ARTdog Children's Studio\, 2-3pm
DESCRIPTION:Learn more about and register for Art + Mindfulness Class for Kids: Kindness! at ARTdog Children’s Studio’s webpage: www.artdogbend.com!
URL:https://brookswoodmeadowplaza.com/calendar/art-mindfulness-class-for-kids-kindness-at-artdog-childrens-studio-2-3pm
LOCATION:Bend\, United States
CATEGORIES:Art,Community,Kids/Family,Well Being,Wellness
ATTACH;FMTTYPE=image/png:https://brookswoodmeadowplaza.com/wp-content/uploads/2019/08/65256204_1337204583112492_9195278720196149248_o.png
END:VEVENT
BEGIN:VEVENT
DTSTART;TZID=America/Los_Angeles:20191207T110000
DTEND;TZID=America/Los_Angeles:20191207T130000
DTSTAMP:20260425T141206
CREATED:20191129T220722Z
LAST-MODIFIED:20191129T220722Z
UID:10304-1575716400-1575723600@brookswoodmeadowplaza.com
SUMMARY:Free Discovery Sessions with Dr. Jessica Goyke\, Vitalistic Chiro at The Peoples Apothecary\, 11am-1pm
DESCRIPTION:Learn more about Free Discovery Sessions with Dr. Jessica Goyke\, Vitalistic Chiro at The Peoples Apothecary’s Facebook Page!
URL:https://brookswoodmeadowplaza.com/calendar/free-discovery-sessions-with-dr-jessica-goyke-vitalistic-chiro-at-the-peoples-apothecary-11am-1pm
LOCATION:Bend\, United States
CATEGORIES:Community,Free,Health,Well Being,Wellness
ATTACH;FMTTYPE=image/jpeg:https://brookswoodmeadowplaza.com/wp-content/uploads/2019/10/The-Peoples-Apothecary-Square-Logo.jpg
END:VEVENT
BEGIN:VEVENT
DTSTART;TZID=America/Los_Angeles:20191130T171500
DTEND;TZID=America/Los_Angeles:20191130T184500
DTSTAMP:20260425T141206
CREATED:20191112T173738Z
LAST-MODIFIED:20191112T173738Z
UID:10230-1575134100-1575139500@brookswoodmeadowplaza.com
SUMMARY:Skincare 101 with Master Aesthetician Hariprakash Boyd at The Peoples Apothecary\, 5:15-6:45pm
DESCRIPTION:Learn more about Skincare 101 with Master Aesthetician Hariprakash Boyd at The Peoples Apothecary Facebook Page!
URL:https://brookswoodmeadowplaza.com/calendar/skincare-101-with-master-aesthetician-hariprakash-boyd-at-the-peoples-apothecary-515-645pm
LOCATION:Bend\, United States
CATEGORIES:Beauty,Community,Health,Well Being,Wellness
ATTACH;FMTTYPE=image/jpeg:https://brookswoodmeadowplaza.com/wp-content/uploads/2019/10/The-Peoples-Apothecary-Square-Logo.jpg
END:VEVENT
BEGIN:VEVENT
DTSTART;TZID=America/Los_Angeles:20191130T110000
DTEND;TZID=America/Los_Angeles:20191130T140000
DTSTAMP:20260425T141206
CREATED:20191129T214844Z
LAST-MODIFIED:20191129T214845Z
UID:10294-1575111600-1575122400@brookswoodmeadowplaza.com
SUMMARY:Pop Up Open Studio at ARTdog Children's Studio!  11am-2pm
DESCRIPTION:Learn more about Pop Up Open Studio at ARTdog Children’s Studio‘s Facebook Page or Website!
URL:https://brookswoodmeadowplaza.com/calendar/pop-up-open-studio-at-artdog-childrens-studio-11am-2pm
LOCATION:Bend\, United States
CATEGORIES:Art,Community,Kids/Family,Well Being,Wellness
ATTACH;FMTTYPE=image/png:https://brookswoodmeadowplaza.com/wp-content/uploads/2019/08/65256204_1337204583112492_9195278720196149248_o.png
END:VEVENT
BEGIN:VEVENT
DTSTART;TZID=America/Los_Angeles:20191125T181500
DTEND;TZID=America/Los_Angeles:20191125T211500
DTSTAMP:20260425T141206
CREATED:20191021T175050Z
LAST-MODIFIED:20191021T175050Z
UID:10081-1574705700-1574716500@brookswoodmeadowplaza.com
SUMMARY:The Power of Probiotics: Fermented Foods for Optimal Health at The Peoples Apothecary\, 6:15-9:15pm
DESCRIPTION:Learn more about The Power of Probiotics: Fermented Foods for Optimal Health at The Peoples Apothecary’s Facebook Page!
URL:https://brookswoodmeadowplaza.com/calendar/the-power-of-probiotics-fermented-foods-for-optimal-health-at-the-peoples-apothecary-615-915pm
LOCATION:Bend\, United States
CATEGORIES:Community,Food,Health,Well Being,Wellness
ATTACH;FMTTYPE=image/jpeg:https://brookswoodmeadowplaza.com/wp-content/uploads/2019/10/The-Peoples-Apothecary-Square-Logo.jpg
END:VEVENT
END:VCALENDAR