BEGIN:VCALENDAR
VERSION:2.0
PRODID:-//Brookswood Meadow Plaza - ECPv6.15.13.1//NONSGML v1.0//EN
CALSCALE:GREGORIAN
METHOD:PUBLISH
X-WR-CALNAME:Brookswood Meadow Plaza
X-ORIGINAL-URL:https://brookswoodmeadowplaza.com
X-WR-CALDESC:Events for Brookswood Meadow Plaza
REFRESH-INTERVAL;VALUE=DURATION:PT1H
X-Robots-Tag:noindex
X-PUBLISHED-TTL:PT1H
BEGIN:VTIMEZONE
TZID:America/Los_Angeles
BEGIN:DAYLIGHT
TZOFFSETFROM:-0800
TZOFFSETTO:-0700
TZNAME:PDT
DTSTART:20170312T100000
END:DAYLIGHT
BEGIN:STANDARD
TZOFFSETFROM:-0700
TZOFFSETTO:-0800
TZNAME:PST
DTSTART:20171105T090000
END:STANDARD
BEGIN:DAYLIGHT
TZOFFSETFROM:-0800
TZOFFSETTO:-0700
TZNAME:PDT
DTSTART:20180311T100000
END:DAYLIGHT
BEGIN:STANDARD
TZOFFSETFROM:-0700
TZOFFSETTO:-0800
TZNAME:PST
DTSTART:20181104T090000
END:STANDARD
BEGIN:DAYLIGHT
TZOFFSETFROM:-0800
TZOFFSETTO:-0700
TZNAME:PDT
DTSTART:20190310T100000
END:DAYLIGHT
BEGIN:STANDARD
TZOFFSETFROM:-0700
TZOFFSETTO:-0800
TZNAME:PST
DTSTART:20191103T090000
END:STANDARD
BEGIN:DAYLIGHT
TZOFFSETFROM:-0800
TZOFFSETTO:-0700
TZNAME:PDT
DTSTART:20200308T100000
END:DAYLIGHT
BEGIN:STANDARD
TZOFFSETFROM:-0700
TZOFFSETTO:-0800
TZNAME:PST
DTSTART:20201101T090000
END:STANDARD
END:VTIMEZONE
BEGIN:VEVENT
DTSTART;TZID=America/Los_Angeles:20190811T150000
DTEND;TZID=America/Los_Angeles:20190811T160000
DTSTAMP:20260425T214310
CREATED:20190702T173401Z
LAST-MODIFIED:20190702T173401Z
UID:9588-1565535600-1565539200@brookswoodmeadowplaza.com
SUMMARY:Barre Meets Yoga Class at The Dailey Method-Bend Barre Studio\, 3-4pm
DESCRIPTION:Learn more about the Barre Meets Yoga Class at The Dailey Method’s Facebook Page!
URL:https://brookswoodmeadowplaza.com/calendar/barre-meets-yoga-class-at-the-dailey-method-bend-barre-studio-3-4pm
LOCATION:Bend\, United States
CATEGORIES:Barre Class,Community,Fitness,Holiday,Summer,Well Being,Wellness,Yoga
ATTACH;FMTTYPE=image/jpeg:https://brookswoodmeadowplaza.com/wp-content/uploads/2018/10/43074539_1151731088307534_5687740003711451136_n.jpg
END:VEVENT
BEGIN:VEVENT
DTSTART;TZID=America/Los_Angeles:20190224T160000
DTEND;TZID=America/Los_Angeles:20190224T170000
DTSTAMP:20260425T214310
CREATED:20190117T235651Z
LAST-MODIFIED:20190122T173446Z
UID:8168-1551024000-1551027600@brookswoodmeadowplaza.com
SUMMARY:Barre Meets Yoga! Class at The Dailey Method - Bend Barre Studio\, 4-5pm
DESCRIPTION:For registration instructions and additional information for Barre Meets Yoga! visit The Dailey Method – Bend Barre Studio’s Facebook Page.
URL:https://brookswoodmeadowplaza.com/calendar/barre-meets-yoga-class-at-the-dailey-method-bend-barre-studio-4-5pm
LOCATION:Bend\, United States
CATEGORIES:Barre Class,Fitness,Well Being,Yoga
ATTACH;FMTTYPE=image/jpeg:https://brookswoodmeadowplaza.com/wp-content/uploads/2018/10/43074539_1151731088307534_5687740003711451136_n.jpg
END:VEVENT
BEGIN:VEVENT
DTSTART;TZID=America/Los_Angeles:20190103T181500
DTEND;TZID=America/Los_Angeles:20190103T191500
DTSTAMP:20260425T214310
CREATED:20181218T172439Z
LAST-MODIFIED:20181218T172439Z
UID:7998-1546539300-1546542900@brookswoodmeadowplaza.com
SUMMARY:Yoga Flow with Tin Bindi at Fettle Botanic Bend\, 6:15pm
DESCRIPTION:For details and additional information visit Fettle Botanic Bend’s Facebook Page!
URL:https://brookswoodmeadowplaza.com/calendar/yoga-flow-with-tin-bindi-at-fettle-botanic-bend-615pm
LOCATION:Bend\, United States
CATEGORIES:Fitness,Well Being,Yoga
ATTACH;FMTTYPE=image/jpeg:https://brookswoodmeadowplaza.com/wp-content/uploads/2018/10/Logo-Bend.jpg
END:VEVENT
BEGIN:VEVENT
DTSTART;TZID=America/Los_Angeles:20181220T181500
DTEND;TZID=America/Los_Angeles:20181220T191500
DTSTAMP:20260425T214310
CREATED:20180925T174728Z
LAST-MODIFIED:20180925T174728Z
UID:7218-1545329700-1545333300@brookswoodmeadowplaza.com
SUMMARY:Vinyasa Flow Yoga Class at Fettle Botanic Bend\, 6:15-7:15pm
DESCRIPTION:From Fettle Botanic Bend’s Instagram Page: “We are excited to be hosting vinyasa flow yoga classes with deep relaxation several Thursday evenings a month for the rest of the year! Come enjoy the many benefits of yoga through connecting your breath to postures (asanas). All levels welcome! Please bring a mat. Come early to enjoy some free medicinal tea samples \nTime: 6:15-7:15pm\, Cost: $10 \nOct 4th & 18th \nNov 1st & 15th \nDec 6th & 20th \nInstructor: Tin Bindi is a 500hr RYT teacher. She has trained in India\, Peru\, Colombia\, and in the US. You can currently find her teaching kids and AcroYoga classes around town. . .”
URL:https://brookswoodmeadowplaza.com/calendar/vinyasa-flow-yoga-class-at-fettle-botanic-bend-615-715pm-6
LOCATION:Fettle Botanic Bend\, 19570 Amber Meadow Dr. Ste. 120\, Bend\, OR\, 97702\, United States
CATEGORIES:Yoga
ATTACH;FMTTYPE=image/jpeg:https://brookswoodmeadowplaza.com/wp-content/uploads/2018/09/42121216_622463424816915_3862127501295747072_o.jpg
END:VEVENT
BEGIN:VEVENT
DTSTART;TZID=America/Los_Angeles:20181206T181600
DTEND;TZID=America/Los_Angeles:20181206T191500
DTSTAMP:20260425T214310
CREATED:20180925T174543Z
LAST-MODIFIED:20180925T174543Z
UID:7216-1544120160-1544123700@brookswoodmeadowplaza.com
SUMMARY:Vinyasa Flow Yoga Class at Fettle Botanic Bend\, 6:15-7:15pm
DESCRIPTION:From Fettle Botanic Bend’s Instagram Page: “We are excited to be hosting vinyasa flow yoga classes with deep relaxation several Thursday evenings a month for the rest of the year! Come enjoy the many benefits of yoga through connecting your breath to postures (asanas). All levels welcome! Please bring a mat. Come early to enjoy some free medicinal tea samples \nTime: 6:15-7:15pm\, Cost: $10 \nOct 4th & 18th \nNov 1st & 15th \nDec 6th & 20th \nInstructor: Tin Bindi is a 500hr RYT teacher. She has trained in India\, Peru\, Colombia\, and in the US. You can currently find her teaching kids and AcroYoga classes around town. . .”
URL:https://brookswoodmeadowplaza.com/calendar/vinyasa-flow-yoga-class-at-fettle-botanic-bend-615-715pm-5
LOCATION:Fettle Botanic Bend\, 19570 Amber Meadow Dr. Ste. 120\, Bend\, OR\, 97702\, United States
CATEGORIES:Yoga
ATTACH;FMTTYPE=image/jpeg:https://brookswoodmeadowplaza.com/wp-content/uploads/2018/09/42121216_622463424816915_3862127501295747072_o.jpg
END:VEVENT
BEGIN:VEVENT
DTSTART;TZID=America/Los_Angeles:20181115T181500
DTEND;TZID=America/Los_Angeles:20181115T191500
DTSTAMP:20260425T214310
CREATED:20180925T174427Z
LAST-MODIFIED:20180925T174427Z
UID:7214-1542305700-1542309300@brookswoodmeadowplaza.com
SUMMARY:Vinyasa Flow Yoga Class at Fettle Botanic Bend\, 6:15-7:15pm
DESCRIPTION:From Fettle Botanic Bend’s Instagram Page: “We are excited to be hosting vinyasa flow yoga classes with deep relaxation several Thursday evenings a month for the rest of the year! Come enjoy the many benefits of yoga through connecting your breath to postures (asanas). All levels welcome! Please bring a mat. Come early to enjoy some free medicinal tea samples \nTime: 6:15-7:15pm\, Cost: $10 \nOct 4th & 18th \nNov 1st & 15th \nDec 6th & 20th \nInstructor: Tin Bindi is a 500hr RYT teacher. She has trained in India\, Peru\, Colombia\, and in the US. You can currently find her teaching kids and AcroYoga classes around town. . .”
URL:https://brookswoodmeadowplaza.com/calendar/vinyasa-flow-yoga-class-at-fettle-botanic-bend-615-715pm-4
LOCATION:Fettle Botanic Bend\, 19570 Amber Meadow Dr. Ste. 120\, Bend\, OR\, 97702\, United States
CATEGORIES:Yoga
ATTACH;FMTTYPE=image/jpeg:https://brookswoodmeadowplaza.com/wp-content/uploads/2018/09/42121216_622463424816915_3862127501295747072_o.jpg
END:VEVENT
BEGIN:VEVENT
DTSTART;TZID=America/Los_Angeles:20181111T153000
DTEND;TZID=America/Los_Angeles:20181111T170000
DTSTAMP:20260425T214310
CREATED:20181023T194258Z
LAST-MODIFIED:20181023T194258Z
UID:7418-1541950200-1541955600@brookswoodmeadowplaza.com
SUMMARY:YogArt Creative Flow Workshop (with Tin Bindi)\, 3:30-5pm at Creative Wellness Studio\, Hosted by Creative Wellness Studio & Fettle Botanic Bend
DESCRIPTION:From Fettle Botanic Bend’s Facebook Page: “Connect with your body\, soul and creative mind during this restorative Sunday workshop. We’re thrilled to collaborate with Tin Bindi to lead you through a 45-minute flow including breath work\, mindful flow and deep relaxation. With quiet minds\, we’ll then tap into our creative selves and experience the flow of nonjudgmental artistic expression. You’ll play with color\, words\, paints and other mixed media techniques on canvas while staying present on your mat. All encouraged to join regardless of experience with yoga or art! Bring your mat. Cost: $25\, Veterans receive a $10 discount in honor of Veteran’s Day.”
URL:https://brookswoodmeadowplaza.com/calendar/yogart-creative-flow-workshop-with-tin-bindi-330-5pm-at-creative-wellness-studio-hosted-by-creative-wellness-studio-fettle-botanic-bend
LOCATION:Bend\, United States
CATEGORIES:Art,Wellness,Yoga
ATTACH;FMTTYPE=image/jpeg:https://brookswoodmeadowplaza.com/wp-content/uploads/2018/10/44154375_1159259447573674_6451057955381968896_o.jpg
END:VEVENT
BEGIN:VEVENT
DTSTART;TZID=America/Los_Angeles:20181107T181500
DTEND;TZID=America/Los_Angeles:20181107T191500
DTSTAMP:20260425T214310
CREATED:20180925T174938Z
LAST-MODIFIED:20180925T174938Z
UID:7220-1541614500-1541618100@brookswoodmeadowplaza.com
SUMMARY:New Moon Yoga with Tin Bindi\, 6:15-7:15pm
DESCRIPTION:From Fettle Botanic Bend’s Facebook Page: “Join Tin Bindi for a Vinyasa Flow Yoga Class to celebrate the birth of November’s New Moon. With the sun’s rays shining on the other side\, we get to enjoy the dark side of the moon – a blank canvas. This is a great time to let creativity flow\, set new intentions\, and goals. You can expect a vinyasa class where we link conscious breath with a vigorous and mindful flow that ends with deep relaxation. Bring your mat and a journal (loose leaf paper will be available). Sliding Scale $5-15”
URL:https://brookswoodmeadowplaza.com/calendar/new-moon-yoga-with-tin-bindi-615-715pm
LOCATION:Fettle Botanic Bend\, 19570 Amber Meadow Dr. Ste. 120\, Bend\, OR\, 97702\, United States
CATEGORIES:Yoga
ATTACH;FMTTYPE=image/jpeg:https://brookswoodmeadowplaza.com/wp-content/uploads/2018/09/42121216_622463424816915_3862127501295747072_o.jpg
END:VEVENT
BEGIN:VEVENT
DTSTART;TZID=America/Los_Angeles:20181101T181500
DTEND;TZID=America/Los_Angeles:20181101T191500
DTSTAMP:20260425T214310
CREATED:20180925T174311Z
LAST-MODIFIED:20180925T174311Z
UID:7212-1541096100-1541099700@brookswoodmeadowplaza.com
SUMMARY:Vinyasa Flow Yoga Class at Fettle Botanic Bend\, 6:15-7:15pm
DESCRIPTION:From Fettle Botanic Bend’s Instagram Page: “We are excited to be hosting vinyasa flow yoga classes with deep relaxation several Thursday evenings a month for the rest of the year! Come enjoy the many benefits of yoga through connecting your breath to postures (asanas). All levels welcome! Please bring a mat. Come early to enjoy some free medicinal tea samples \nTime: 6:15-7:15pm\, Cost: $10 \nOct 4th & 18th \nNov 1st & 15th \nDec 6th & 20th \nInstructor: Tin Bindi is a 500hr RYT teacher. She has trained in India\, Peru\, Colombia\, and in the US. You can currently find her teaching kids and AcroYoga classes around town. . .”
URL:https://brookswoodmeadowplaza.com/calendar/vinyasa-flow-yoga-class-at-fettle-botanic-bend-615-715pm-3
LOCATION:Fettle Botanic Bend\, 19570 Amber Meadow Dr. Ste. 120\, Bend\, OR\, 97702\, United States
CATEGORIES:Yoga
ATTACH;FMTTYPE=image/jpeg:https://brookswoodmeadowplaza.com/wp-content/uploads/2018/09/42121216_622463424816915_3862127501295747072_o.jpg
END:VEVENT
BEGIN:VEVENT
DTSTART;TZID=America/Los_Angeles:20181004T181500
DTEND;TZID=America/Los_Angeles:20181004T191500
DTSTAMP:20260425T214310
CREATED:20180925T173249Z
LAST-MODIFIED:20180925T173249Z
UID:7207-1538676900-1538680500@brookswoodmeadowplaza.com
SUMMARY:Vinyasa Flow Yoga Class at Fettle Botanic Bend\, 6:15-7:15pm
DESCRIPTION:From Fettle Botanic Bend’s Instagram Page: “We are excited to be hosting vinyasa flow yoga classes with deep relaxation several Thursday evenings a month for the rest of the year! Come enjoy the many benefits of yoga through connecting your breath to postures (asanas). All levels welcome! Please bring a mat. Come early to enjoy some free medicinal tea samples ☕ Time: 6:15-7:15pm Cost: $10\nOct 4th & 18th\nNov 1st & 15th\nDec 6th & 20th\nInstructor: Tin Bindi is a 500hr RYT teacher. She has trained in India\, Peru\, Colombia\, and in the US. You can currently find her teaching kids and AcroYoga classes around town. . .”
URL:https://brookswoodmeadowplaza.com/calendar/vinyasa-flow-yoga-class-at-fettle-botanic-bend-615-715pm
LOCATION:Fettle Botanic Bend\, 19570 Amber Meadow Dr. Ste. 120\, Bend\, OR\, 97702\, United States
CATEGORIES:Yoga
ATTACH;FMTTYPE=image/jpeg:https://brookswoodmeadowplaza.com/wp-content/uploads/2018/09/42121216_622463424816915_3862127501295747072_o.jpg
END:VEVENT
END:VCALENDAR